{"text_format":"3","workbook":"xlsx","n_sheets":33,"sheets":["GAMEstage1","GAMEstage2","Guest-Supplier2","Guest-Supplier","Simetría","Simetría2","GAMEtools","Calculate Wight Body","Calculate wingSpam","Calculate wingSpam of the tail","GAMEtools2","Cross-functional","Performance","Performance2","Customer needs2","Review2","Customer needs","Review","FRONTLOADING","Trade of Curves","Calculate Wight Body2","Standardization","Geometry cockpit","Geometry tail","Calculate wingSpam2","Calculate wingSpam of the t 2","Graphic of Power","Geometry wing ","Review information","Employee Saturation","Design information","Manufacturing información","Airplane geometry"],"not_rendered":{"charts":5,"images":17,"macros":1},"read":"whole","date_system":"1900"}

{"sheet":"GAMEstage1","index":0,"n_rows":53,"n_cols":59,"rows_kept":53,"merged":[[1,31,3,36],[1,37,2,49],[1,65,1,66],[1,67,1,68],[4,32,5,33],[4,34,5,35],[4,65,4,66],[4,67,4,68],[4,74,4,76],[5,67,5,68],[6,32,7,33],[6,34,7,35],[6,65,6,66],[6,67,6,68],[6,74,6,77],[6,80,6,81],[7,56,7,58],[7,67,7,68],[8,65,8,66],[8,67,8,68],[8,74,8,77],[8,80,8,81],[10,57,10,58],[10,74,10,77],[10,80,10,81],[11,37,12,49],[11,57,11,58],[12,74,12,76],[13,65,13,66],[13,67,13,68],[14,67,14,68],[14,74,14,77],[14,80,14,81],[15,65,15,66],[15,67,15,68],[16,67,16,68],[16,74,16,77],[16,80,16,81],[17,65,17,66],[17,67,17,68],[18,74,18,77],[18,80,18,81],[21,37,22,49],[22,65,22,66],[22,67,22,68],[22,74,22,77],[22,80,22,81],[23,65,23,66],[23,67,23,68],[24,65,24,66],[24,67,24,68],[26,56,27,59],[30,37,31,49],[32,1,32,7],[32,8,32,9],[32,12,32,16],[32,17,32,19],[32,22,32,27],[32,28,32,30],[37,1,37,4],[39,37,40,49],[46,5,46,9],[46,10,46,14],[46,15,46,19],[46,20,46,24],[46,25,46,29],[46,30,46,34],[50,5,50,9],[50,10,50,14],[50,15,50,19],[50,20,50,24],[50,25,50,29],[50,30,50,34],[52,5,52,9],[52,10,52,14],[52,15,52,19],[52,20,52,24],[52,25,52,29],[52,30,52,34]]}
[]
[{"$nulls":31},"Selected piece",{"$nulls":5},"BODY"]
[]
[]
[]
[{"$nulls":40},"btb",{"$nulls":3},"btb",null,null,"btb"]
[{"$nulls":41},"btb",null,"btb",null,null,"btb"]
[{"$nulls":56}," Sales&Marketing estimation of customer's needs"]
[{"$nulls":40},"tb","tb",null,"sb",{"$nulls":13},"Minimum","Maximum"]
[{"$nulls":56},"Range of passengers"]
[{"$nulls":56},"Speed"]
[{"$nulls":37},"WING",{"$nulls":18},"Km of Travel"]
[{"$nulls":56},"Lenght"]
[{"$nulls":56},"Wing Span"]
[{"$nulls":56},"Cost"]
[{"$nulls":40},"btw",null,"btw",{"$nulls":3},"btw",{"$nulls":9},"Delivery time to customer (sec)"]
[{"$nulls":39},"btw",{"$nulls":3},"btw",null,"btw"]
[]
[{"$nulls":40},"sw",null,"tw","tw",null,"tw","tw"]
[]
[]
[{"$nulls":37},"TAIL"]
[]
[]
[]
[{"$nulls":44},"btt",null,"btt"]
[{"$nulls":56},"TIME TO FINISH THE DESIGN"]
[{"$nulls":39},"btt",null,"btt",null,"tt",null,"tt",null,"st"]
[]
[]
[{"$nulls":37},"COCKPIT"]
[]
[]
[]
[{"$nulls":44},"btc",null,"btc"]
[]
[{"$nulls":39},"btc",null,"btc",null,"tc",null,"tc",null,"sc"]
[null,"Pieces"]
[]
[{"$nulls":37},"ENGINES"]
[]
[]
[{"$nulls":43},"e"]
[{"$nulls":5},"Without",{"$nulls":4},"With",{"$nulls":4},"Without",{"$nulls":4},"With",{"$nulls":4},"Without",{"$nulls":4},"With"]
[{"$nulls":5},"passengers",{"$nulls":4},"passengers",{"$nulls":4},"passengers",{"$nulls":4},"passengers",{"$nulls":4},"passengers",{"$nulls":4},"passengers"]
[]
[null,"Capacity",{"$nulls":3},0,{"$nulls":4},3,{"$nulls":4},0,{"$nulls":4},1,{"$nulls":4},0,{"$nulls":4},1,{"$nulls":4}," ------"]
[]
[null,"Power",{"$nulls":33},500]
[]
[null,"Weight",{"$nulls":3},10,{"$nulls":4},"11.5",{"$nulls":4},5,{"$nulls":4},6,{"$nulls":4},10,{"$nulls":4},11,{"$nulls":4},50]
[]
[null,"Cost",{"$nulls":3},100,{"$nulls":4},130,{"$nulls":4},60,{"$nulls":4},70,{"$nulls":4},60,{"$nulls":4},170,{"$nulls":4},500]

{"sheet":"GAMEstage2","index":1,"n_rows":53,"n_cols":59,"rows_kept":53,"merged":[[1,31,3,36],[1,37,2,49],[4,32,5,33],[4,34,5,35],[4,74,4,76],[6,32,7,33],[6,34,7,35],[6,74,6,77],[6,80,6,81],[7,56,7,58],[8,74,8,77],[8,80,8,81],[10,57,10,58],[10,74,10,77],[10,80,10,81],[11,37,12,49],[11,57,11,58],[12,74,12,76],[13,65,13,66],[13,67,13,68],[14,67,14,68],[14,74,14,77],[14,80,14,81],[15,65,15,66],[15,67,15,68],[16,67,16,68],[16,74,16,77],[16,80,16,81],[17,65,17,66],[17,67,17,68],[18,74,18,77],[18,80,18,81],[21,37,22,49],[22,65,22,66],[22,67,22,68],[22,74,22,77],[22,80,22,81],[23,65,23,66],[23,67,23,68],[24,65,24,66],[24,67,24,68],[29,55,30,60],[30,37,31,49],[32,1,32,7],[32,8,32,9],[32,12,32,16],[32,17,32,19],[32,22,32,27],[32,28,32,30],[33,56,33,58],[34,57,34,58],[35,57,35,58],[36,57,36,58],[37,1,37,4],[37,57,37,58],[38,57,38,58],[39,37,40,49],[39,57,39,58],[40,57,40,58],[41,57,41,58],[45,56,46,59],[46,5,46,9],[46,10,46,14],[46,15,46,19],[46,20,46,24],[46,25,46,29],[46,30,46,34],[50,5,50,9],[50,10,50,14],[50,15,50,19],[50,20,50,24],[50,25,50,29],[50,30,50,34],[52,5,52,9],[52,10,52,14],[52,15,52,19],[52,20,52,24],[52,25,52,29],[52,30,52,34]]}
[]
[{"$nulls":31},"Selected piece",{"$nulls":5},"BODY"]
[]
[]
[]
[{"$nulls":40},"btb",{"$nulls":3},"btb",null,null,"btb"]
[{"$nulls":41},"btb",null,"btb",null,null,"btb"]
[{"$nulls":56},"Estimation of customer needs"]
[{"$nulls":40},"tb","tb",null,"sb",{"$nulls":13},"Minimum","Maximum"]
[{"$nulls":56},"Range of passengers"]
[{"$nulls":56},"Speed"]
[{"$nulls":37},"WING",{"$nulls":18},"Km of Travel"]
[{"$nulls":56},"Lenght"]
[{"$nulls":56},"Wing Span"]
[{"$nulls":56},"Cost"]
[{"$nulls":40},"btw",null,"btw",{"$nulls":3},"btw",{"$nulls":9},"Delivery time to customer"]
[{"$nulls":39},"btw",{"$nulls":3},"btw",null,"btw"]
[]
[{"$nulls":40},"sw",null,"tw","tw",null,"tw","tw"]
[]
[]
[{"$nulls":37},"TAIL"]
[]
[]
[]
[{"$nulls":44},"btt",null,"btt"]
[]
[{"$nulls":39},"btt",null,"btt",null,"tt",null,"tt",null,"st"]
[]
[]
[{"$nulls":37},"COCKPIT"]
[]
[]
[]
[{"$nulls":44},"btc",null,"btc"]
[]
[{"$nulls":39},"btc",null,"btc",null,"tc",null,"tc",null,"sc"]
[null,"Pieces"]
[]
[{"$nulls":37},"ENGINES"]
[]
[]
[{"$nulls":43},"e"]
[{"$nulls":5},"Without",{"$nulls":4},"With",{"$nulls":4},"Without",{"$nulls":4},"With",{"$nulls":4},"Without",{"$nulls":4},"With"]
[{"$nulls":5},"passengers",{"$nulls":4},"passengers",{"$nulls":4},"passengers",{"$nulls":4},"passengers",{"$nulls":4},"passengers",{"$nulls":4},"passengers"]
[{"$nulls":56},"TIME TO FINISH THE DESIGN"]
[null,"Capacity",{"$nulls":3},0,{"$nulls":4},3,{"$nulls":4},0,{"$nulls":4},1,{"$nulls":4},0,{"$nulls":4},1,{"$nulls":4}," ------"]
[]
[null,"Power",{"$nulls":33},500]
[]
[null,"Weight",{"$nulls":3},10,{"$nulls":4},"11.5",{"$nulls":4},5,{"$nulls":4},6,{"$nulls":4},10,{"$nulls":4},11,{"$nulls":4},50]
[]
[null,"Cost",{"$nulls":3},100,{"$nulls":4},130,{"$nulls":4},60,{"$nulls":4},70,{"$nulls":4},60,{"$nulls":4},170,{"$nulls":4},500]

{"sheet":"Guest-Supplier2","index":2,"n_rows":53,"n_cols":36,"rows_kept":53,"merged":[[1,31,3,36],[1,37,2,49],[3,64,4,67],[4,32,5,33],[4,34,5,35],[4,74,4,76],[6,32,7,33],[6,34,7,35],[6,74,6,77],[6,80,6,81],[7,56,7,58],[8,74,8,77],[8,80,8,81],[10,57,10,58],[10,74,10,77],[10,80,10,81],[11,37,12,49],[11,57,11,58],[12,74,12,76],[13,65,13,66],[13,67,13,68],[14,67,14,68],[14,74,14,77],[14,80,14,81],[15,65,15,66],[15,67,15,68],[16,67,16,68],[16,74,16,77],[16,80,16,81],[17,65,17,66],[17,67,17,68],[18,74,18,77],[18,80,18,81],[21,37,22,49],[22,65,22,66],[22,67,22,68],[22,74,22,77],[22,80,22,81],[23,65,23,66],[23,67,23,68],[24,65,24,66],[24,67,24,68],[29,55,30,60],[30,37,31,49],[32,1,32,7],[32,8,32,9],[32,12,32,16],[32,17,32,19],[32,22,32,27],[32,28,32,30],[33,56,33,58],[34,57,34,58],[35,57,35,58],[36,57,36,58],[37,57,37,58],[38,57,38,58],[39,37,40,49],[39,57,39,58],[40,57,40,58],[41,57,41,58],[46,5,46,9],[46,10,46,14],[46,15,46,19],[46,20,46,24],[46,25,46,29],[46,30,46,34],[50,5,50,9],[50,10,50,14],[50,15,50,19],[50,20,50,24],[50,25,50,29],[50,30,50,34],[52,5,52,9],[52,10,52,14],[52,15,52,19],[52,20,52,24],[52,25,52,29],[52,30,52,34]]}
{"$rows_empty":43}
[{"$nulls":5},"Without",{"$nulls":4},"With",{"$nulls":4},"Without",{"$nulls":4},"With",{"$nulls":4},"Without",{"$nulls":4},"With"]
[{"$nulls":5},"passengers",{"$nulls":4},"passengers",{"$nulls":4},"passengers",{"$nulls":4},"passengers",{"$nulls":4},"passengers",{"$nulls":4},"passengers"]
[]
[null,"Capacity",{"$nulls":3},0,{"$nulls":4},3,{"$nulls":4},0,{"$nulls":4},1,{"$nulls":4},0,{"$nulls":4},1,{"$nulls":4}," ------"]
[]
[null,"Power",{"$nulls":33},500]
[]
[null,"Weight",{"$nulls":3},10,{"$nulls":4},"11.5",{"$nulls":4},5,{"$nulls":4},6,{"$nulls":4},10,{"$nulls":4},11,{"$nulls":4},50]
[]
[null,"Cost",{"$nulls":3},100,{"$nulls":4},130,{"$nulls":4},60,{"$nulls":4},70,{"$nulls":4},60,{"$nulls":4},170,{"$nulls":4},500]

{"sheet":"Guest-Supplier","index":3,"n_rows":62,"n_cols":36,"rows_kept":62,"merged":[[1,31,3,36],[1,37,2,49],[3,64,4,67],[4,32,5,33],[4,34,5,35],[4,74,4,76],[6,32,7,33],[6,34,7,35],[6,74,6,77],[6,80,6,81],[7,56,7,58],[8,74,8,77],[8,80,8,81],[10,57,10,58],[10,74,10,77],[10,80,10,81],[11,37,12,49],[11,57,11,58],[12,74,12,76],[13,65,13,66],[13,67,13,68],[14,67,14,68],[14,74,14,77],[14,80,14,81],[15,65,15,66],[15,67,15,68],[16,67,16,68],[16,74,16,77],[16,80,16,81],[17,65,17,66],[17,67,17,68],[18,74,18,77],[18,80,18,81],[21,37,22,49],[22,65,22,66],[22,67,22,68],[22,74,22,77],[22,80,22,81],[23,65,23,66],[23,67,23,68],[24,65,24,66],[24,67,24,68],[29,55,30,60],[30,37,31,49],[32,1,32,7],[32,8,32,9],[32,12,32,16],[32,17,32,19],[32,22,32,27],[32,28,32,30],[33,56,33,58],[34,57,34,58],[35,57,35,58],[36,57,36,58],[37,57,37,58],[38,57,38,58],[39,37,40,49],[39,57,39,58],[40,57,40,58],[41,57,41,58],[46,5,46,9],[46,10,46,14],[46,15,46,19],[46,20,46,24],[46,25,46,29],[46,30,46,34],[50,5,50,9],[50,10,50,14],[50,15,50,19],[50,20,50,24],[50,25,50,29],[50,30,50,34],[52,5,52,9],[52,10,52,14],[52,15,52,19],[52,20,52,24],[52,25,52,29],[52,31,52,33],[54,5,54,9],[56,5,56,9],[56,10,56,14],[56,15,56,19],[56,20,56,24],[56,25,56,29],[56,30,56,34],[61,5,61,9],[61,10,61,14],[61,15,61,19],[61,20,61,24],[61,25,61,29],[61,30,61,34]]}
{"$rows_empty":43}
[{"$nulls":5},"Without",{"$nulls":4},"With",{"$nulls":4},"Without",{"$nulls":4},"With",{"$nulls":4},"Without",{"$nulls":4},"With"]
[{"$nulls":5},"passengers",{"$nulls":4},"passengers",{"$nulls":4},"passengers",{"$nulls":4},"passengers",{"$nulls":4},"passengers",{"$nulls":4},"passengers"]
[]
[null,"Capacity",{"$nulls":3},0,{"$nulls":4},3,{"$nulls":4},0,{"$nulls":4},1,{"$nulls":4},0,{"$nulls":4},1,{"$nulls":4},"  ------"]
[]
[null,"Power",{"$nulls":33},500]
[]
[null,"Weight",{"$nulls":3},10,{"$nulls":4},"11.5",{"$nulls":4},5,{"$nulls":4},6,{"$nulls":4},10,{"$nulls":4},11,{"$nulls":4},50]
[]
[null,"Cost",{"$nulls":3},100,{"$nulls":4},130,{"$nulls":4},60,{"$nulls":4},70,{"$nulls":4},60,{"$nulls":5},170,{"$nulls":3},500]
[]
[null,"Time to "]
[null,"arrive "]
[null,"from ",{"$nulls":3},"10 sec",{"$nulls":4},"12 sec",{"$nulls":4},"15 sec",{"$nulls":4},"17 sec",{"$nulls":4},"30 sec",{"$nulls":4},"40 sec",{"$nulls":4},300]
[null,"the ",{"$nulls":33},"sec"]
[null,"supplier"]
[]
[null,"Time of "]
[null,"assembly",{"$nulls":3},"4sec",{"$nulls":4},"4 sec",{"$nulls":4},"6 sec",{"$nulls":4},"6 sec",{"$nulls":4},"3 sec",{"$nulls":4},"3 sec",{"$nulls":4},"20 sec"]

{"sheet":"Simetría","index":4,"n_rows":65,"n_cols":71,"rows_kept":65,"merged":[[1,31,3,36],[4,32,5,33],[4,34,5,35],[6,32,7,33],[6,34,7,35],[64,6,65,8]]}
[null,{"$f":"GAMEstage1!B2","v":0},{"$f":"GAMEstage1!C2","v":0},{"$f":"GAMEstage1!D2","v":0},{"$f":"GAMEstage1!E2","v":0},{"$f":"GAMEstage1!F2","v":0},{"$f":"GAMEstage1!G2","v":0},{"$f":"GAMEstage1!H2","v":0},{"$f":"GAMEstage1!I2","v":0},{"$f":"GAMEstage1!J2","v":0},{"$f":"GAMEstage1!K2","v":0},{"$f":"GAMEstage1!L2","v":0},{"$f":"GAMEstage1!M2","v":0},{"$f":"GAMEstage1!N2","v":0},{"$f":"GAMEstage1!O2","v":0},{"$f":"GAMEstage1!P2","v":0},{"$f":"P1","v":0},{"$f":"O1","v":0},{"$f":"N1","v":0},{"$f":"M1","v":0},{"$f":"L1","v":0},{"$f":"K1","v":0},{"$f":"J1","v":0},{"$f":"I1","v":0},{"$f":"H1","v":0},{"$f":"G1","v":0},{"$f":"F1","v":0},{"$f":"E1","v":0},{"$f":"D1","v":0},{"$f":"C1","v":0},{"$f":"B1","v":0},{"$nulls":8},"There is Nothing",null,{"$f":"IF(B1=0,0,1)","v":0},{"$f":"IF(C1=0,0,1)","v":0},0,0,0,0,0,0,0,0,0,0,0,0,{"$f":"IF(P1=0,0,1)","v":0},0,0,0,0,0,0,0,0,0,0,0,0,0,0,0]
[null,{"$f":"GAMEstage1!B3","v":0},{"$f":"GAMEstage1!C3","v":0},{"$f":"GAMEstage1!D3","v":0},{"$f":"GAMEstage1!E3","v":0},{"$f":"GAMEstage1!F3","v":0},{"$f":"GAMEstage1!G3","v":0},{"$f":"GAMEstage1!H3","v":0},{"$f":"GAMEstage1!I3","v":0},{"$f":"GAMEstage1!J3","v":0},{"$f":"GAMEstage1!K3","v":0},{"$f":"GAMEstage1!L3","v":0},{"$f":"GAMEstage1!M3","v":0},{"$f":"GAMEstage1!N3","v":0},{"$f":"GAMEstage1!O3","v":0},{"$f":"GAMEstage1!P3","v":0},{"$f":"P2","v":0},{"$f":"O2","v":0},{"$f":"N2","v":0},{"$f":"M2","v":0},{"$f":"L2","v":0},{"$f":"K2","v":0},{"$f":"J2","v":0},{"$f":"I2","v":0},{"$f":"H2","v":0},{"$f":"G2","v":0},{"$f":"F2","v":0},{"$f":"E2","v":0},{"$f":"D2","v":0},{"$f":"C2","v":0},{"$f":"B2","v":0},{"$nulls":10},{"$f":"IF(B2=0,0,1)","v":0},{"$f":"IF(C2=0,0,1)","v":0},{"$f":"IF(D2=0,0,1)","v":0},{"$f":"IF(E2=0,0,1)","v":0},{"$f":"IF(F2=0,0,1)","v":0},{"$f":"IF(G2=0,0,1)","v":0},{"$f":"IF(H2=0,0,1)","v":0},{"$f":"IF(I2=0,0,1)","v":0},{"$f":"IF(J2=0,0,1)","v":0},{"$f":"IF(K2=0,0,1)","v":0},{"$f":"IF(L2=0,0,1)","v":0},{"$f":"IF(M2=0,0,1)","v":0},{"$f":"IF(N2=0,0,1)","v":0},{"$f":"IF(O2=0,0,1)","v":0},{"$f":"IF(P2=0,0,1)","v":0},{"$f":"IF(Q2=0,0,1)","v":0},{"$f":"IF(R2=0,0,1)","v":0},{"$f":"IF(S2=0,0,1)","v":0},{"$f":"IF(T2=0,0,1)","v":0},{"$f":"IF(U2=0,0,1)","v":0},{"$f":"IF(V2=0,0,1)","v":0},{"$f":"IF(W2=0,0,1)","v":0},{"$f":"IF(X2=0,0,1)","v":0},{"$f":"IF(Y2=0,0,1)","v":0},{"$f":"IF(Z2=0,0,1)","v":0},{"$f":"IF(AA2=0,0,1)","v":0},{"$f":"IF(AB2=0,0,1)","v":0},{"$f":"IF(AC2=0,0,1)","v":0},{"$f":"IF(AD2=0,0,1)","v":0},{"$f":"IF(AE2=0,0,1)","v":0}]
[null,{"$f":"GAMEstage1!B4","v":0},{"$f":"GAMEstage1!C4","v":0},{"$f":"GAMEstage1!D4","v":0},{"$f":"GAMEstage1!E4","v":0},{"$f":"GAMEstage1!F4","v":0},{"$f":"GAMEstage1!G4","v":0},{"$f":"GAMEstage1!H4","v":0},{"$f":"GAMEstage1!I4","v":0},{"$f":"GAMEstage1!J4","v":0},{"$f":"GAMEstage1!K4","v":0},{"$f":"GAMEstage1!L4","v":0},{"$f":"GAMEstage1!M4","v":0},{"$f":"GAMEstage1!N4","v":0},{"$f":"GAMEstage1!O4","v":0},{"$f":"GAMEstage1!P4","v":0},0,0,0,0,0,0,0,0,0,0,0,0,0,0,0,{"$nulls":8},{"$f":"SUM(AP1:BS29)","v":0},null,{"$f":"IF(B3=0,0,1)","v":0},0,0,0,0,0,0,0,0,0,0,0,0,0,0,0,0,0,0,0,0,0,0,0,0,0,0,0,0,0]
[null,{"$f":"GAMEstage1!B5","v":0},{"$f":"GAMEstage1!C5","v":0},{"$f":"GAMEstage1!D5","v":0},{"$f":"GAMEstage1!E5","v":0},{"$f":"GAMEstage1!F5","v":0},{"$f":"GAMEstage1!G5","v":0},{"$f":"GAMEstage1!H5","v":0},{"$f":"GAMEstage1!I5","v":0},{"$f":"GAMEstage1!J5","v":0},{"$f":"GAMEstage1!K5","v":0},{"$f":"GAMEstage1!L5","v":0},{"$f":"GAMEstage1!M5","v":0},{"$f":"GAMEstage1!N5","v":0},{"$f":"GAMEstage1!O5","v":0},{"$f":"GAMEstage1!P5","v":0},0,0,0,0,0,0,0,0,0,0,0,0,0,0,0,{"$nulls":10},0,0,0,0,0,0,0,0,0,0,0,0,0,0,0,0,0,0,0,0,0,0,0,0,0,0,0,0,0,0]
[null,{"$f":"GAMEstage1!B6","v":0},{"$f":"GAMEstage1!C6","v":0},{"$f":"GAMEstage1!D6","v":0},{"$f":"GAMEstage1!E6","v":0},{"$f":"GAMEstage1!F6","v":0},{"$f":"GAMEstage1!G6","v":0},{"$f":"GAMEstage1!H6","v":0},{"$f":"GAMEstage1!I6","v":0},{"$f":"GAMEstage1!J6","v":0},{"$f":"GAMEstage1!K6","v":0},{"$f":"GAMEstage1!L6","v":0},{"$f":"GAMEstage1!M6","v":0},{"$f":"GAMEstage1!N6","v":0},{"$f":"GAMEstage1!O6","v":0},{"$f":"GAMEstage1!P6","v":0},0,0,0,0,0,0,0,0,0,0,0,0,0,0,0,{"$nulls":10},0,0,0,0,0,0,0,0,0,0,0,0,0,0,0,0,0,0,0,0,0,0,0,0,0,0,0,0,0,0]
[null,{"$f":"GAMEstage1!B7","v":0},{"$f":"GAMEstage1!C7","v":0},{"$f":"GAMEstage1!D7","v":0},{"$f":"GAMEstage1!E7","v":0},{"$f":"GAMEstage1!F7","v":0},{"$f":"GAMEstage1!G7","v":0},{"$f":"GAMEstage1!H7","v":0},{"$f":"GAMEstage1!I7","v":0},{"$f":"GAMEstage1!J7","v":0},{"$f":"GAMEstage1!K7","v":0},{"$f":"GAMEstage1!L7","v":0},{"$f":"GAMEstage1!M7","v":0},{"$f":"GAMEstage1!N7","v":0},{"$f":"GAMEstage1!O7","v":0},{"$f":"GAMEstage1!P7","v":0},0,0,0,0,0,0,0,0,0,0,0,0,0,0,0,{"$nulls":10},0,0,0,0,0,0,0,0,0,0,0,0,0,0,0,0,0,0,0,0,0,0,0,0,0,0,0,0,0,0]
[null,{"$f":"GAMEstage1!B8","v":0},{"$f":"GAMEstage1!C8","v":0},{"$f":"GAMEstage1!D8","v":0},{"$f":"GAMEstage1!E8","v":0},{"$f":"GAMEstage1!F8","v":0},{"$f":"GAMEstage1!G8","v":0},{"$f":"GAMEstage1!H8","v":0},{"$f":"GAMEstage1!I8","v":0},{"$f":"GAMEstage1!J8","v":0},{"$f":"GAMEstage1!K8","v":0},{"$f":"GAMEstage1!L8","v":0},{"$f":"GAMEstage1!M8","v":0},{"$f":"GAMEstage1!N8","v":0},{"$f":"GAMEstage1!O8","v":0},{"$f":"GAMEstage1!P8","v":0},0,0,0,0,0,0,0,0,0,0,0,0,0,0,0,{"$nulls":10},0,0,0,0,0,0,0,0,0,0,0,0,0,0,0,0,0,0,0,0,0,0,0,0,0,0,0,0,0,0]
[null,{"$f":"GAMEstage1!B9","v":0},{"$f":"GAMEstage1!C9","v":0},{"$f":"GAMEstage1!D9","v":0},{"$f":"GAMEstage1!E9","v":0},{"$f":"GAMEstage1!F9","v":0},{"$f":"GAMEstage1!G9","v":0},{"$f":"GAMEstage1!H9","v":0},{"$f":"GAMEstage1!I9","v":0},{"$f":"GAMEstage1!J9","v":0},{"$f":"GAMEstage1!K9","v":0},{"$f":"GAMEstage1!L9","v":0},{"$f":"GAMEstage1!M9","v":0},{"$f":"GAMEstage1!N9","v":0},{"$f":"GAMEstage1!O9","v":0},{"$f":"GAMEstage1!P9","v":0},0,0,0,0,0,0,0,0,0,0,0,0,0,0,0,{"$nulls":10},0,0,0,0,0,0,0,0,0,0,0,0,0,0,0,0,0,0,0,0,0,0,0,0,0,0,0,0,0,0]
[null,{"$f":"GAMEstage1!B10","v":0},{"$f":"GAMEstage1!C10","v":0},{"$f":"GAMEstage1!D10","v":0},{"$f":"GAMEstage1!E10","v":0},{"$f":"GAMEstage1!F10","v":0},{"$f":"GAMEstage1!G10","v":0},{"$f":"GAMEstage1!H10","v":0},{"$f":"GAMEstage1!I10","v":0},{"$f":"GAMEstage1!J10","v":0},{"$f":"GAMEstage1!K10","v":0},{"$f":"GAMEstage1!L10","v":0},{"$f":"GAMEstage1!M10","v":0},{"$f":"GAMEstage1!N10","v":0},{"$f":"GAMEstage1!O10","v":0},{"$f":"GAMEstage1!P10","v":0},0,0,0,0,0,0,0,0,0,0,0,0,0,0,0,{"$nulls":10},0,0,0,0,0,0,0,0,0,0,0,0,0,0,0,0,0,0,0,0,0,0,0,0,0,0,0,0,0,0]
[null,{"$f":"GAMEstage1!B11","v":0},{"$f":"GAMEstage1!C11","v":0},{"$f":"GAMEstage1!D11","v":0},{"$f":"GAMEstage1!E11","v":0},{"$f":"GAMEstage1!F11","v":0},{"$f":"GAMEstage1!G11","v":0},{"$f":"GAMEstage1!H11","v":0},{"$f":"GAMEstage1!I11","v":0},{"$f":"GAMEstage1!J11","v":0},{"$f":"GAMEstage1!K11","v":0},{"$f":"GAMEstage1!L11","v":0},{"$f":"GAMEstage1!M11","v":0},{"$f":"GAMEstage1!N11","v":0},{"$f":"GAMEstage1!O11","v":0},{"$f":"GAMEstage1!P11","v":0},0,0,0,0,0,0,0,0,0,0,0,0,0,0,0,{"$nulls":10},0,0,0,0,0,0,0,0,0,0,0,0,0,0,0,0,0,0,0,0,0,0,0,0,0,0,0,0,0,0]
[null,{"$f":"GAMEstage1!B12","v":0},{"$f":"GAMEstage1!C12","v":0},{"$f":"GAMEstage1!D12","v":0},{"$f":"GAMEstage1!E12","v":0},{"$f":"GAMEstage1!F12","v":0},{"$f":"GAMEstage1!G12","v":0},{"$f":"GAMEstage1!H12","v":0},{"$f":"GAMEstage1!I12","v":0},{"$f":"GAMEstage1!J12","v":0},{"$f":"GAMEstage1!K12","v":0},{"$f":"GAMEstage1!L12","v":0},{"$f":"GAMEstage1!M12","v":0},{"$f":"GAMEstage1!N12","v":0},{"$f":"GAMEstage1!O12","v":0},{"$f":"GAMEstage1!P12","v":0},0,0,0,0,0,0,0,0,0,0,0,0,0,0,0,{"$nulls":10},0,0,0,0,0,0,0,0,0,0,0,0,0,0,0,0,0,0,0,0,0,0,0,0,0,0,0,0,0,0]
[null,{"$f":"GAMEstage1!B13","v":0},{"$f":"GAMEstage1!C13","v":0},{"$f":"GAMEstage1!D13","v":0},{"$f":"GAMEstage1!E13","v":0},{"$f":"GAMEstage1!F13","v":0},{"$f":"GAMEstage1!G13","v":0},{"$f":"GAMEstage1!H13","v":0},{"$f":"GAMEstage1!I13","v":0},{"$f":"GAMEstage1!J13","v":0},{"$f":"GAMEstage1!K13","v":0},{"$f":"GAMEstage1!L13","v":0},{"$f":"GAMEstage1!M13","v":0},{"$f":"GAMEstage1!N13","v":0},{"$f":"GAMEstage1!O13","v":0},{"$f":"GAMEstage1!P13","v":0},0,0,0,0,0,0,0,0,0,0,0,0,0,0,0,{"$nulls":10},0,0,0,0,0,0,0,0,0,0,0,0,0,0,0,0,0,0,0,0,0,0,0,0,0,0,0,0,0,0]
[null,{"$f":"GAMEstage1!B14","v":0},{"$f":"GAMEstage1!C14","v":0},{"$f":"GAMEstage1!D14","v":0},{"$f":"GAMEstage1!E14","v":0},{"$f":"GAMEstage1!F14","v":0},{"$f":"GAMEstage1!G14","v":0},{"$f":"GAMEstage1!H14","v":0},{"$f":"GAMEstage1!I14","v":0},{"$f":"GAMEstage1!J14","v":0},{"$f":"GAMEstage1!K14","v":0},{"$f":"GAMEstage1!L14","v":0},{"$f":"GAMEstage1!M14","v":0},{"$f":"GAMEstage1!N14","v":0},{"$f":"GAMEstage1!O14","v":0},{"$f":"GAMEstage1!P14","v":0},0,0,0,0,0,0,0,0,0,0,0,0,0,0,0,{"$nulls":10},0,0,0,0,0,0,0,0,0,0,0,0,0,0,0,0,0,0,0,0,0,0,0,0,0,0,0,0,0,0]
[null,{"$f":"GAMEstage1!B15","v":0},{"$f":"GAMEstage1!C15","v":0},{"$f":"GAMEstage1!D15","v":0},{"$f":"GAMEstage1!E15","v":0},{"$f":"GAMEstage1!F15","v":0},{"$f":"GAMEstage1!G15","v":0},{"$f":"GAMEstage1!H15","v":0},{"$f":"GAMEstage1!I15","v":0},{"$f":"GAMEstage1!J15","v":0},{"$f":"GAMEstage1!K15","v":0},{"$f":"GAMEstage1!L15","v":0},{"$f":"GAMEstage1!M15","v":0},{"$f":"GAMEstage1!N15","v":0},{"$f":"GAMEstage1!O15","v":0},{"$f":"GAMEstage1!P15","v":0},0,0,0,0,0,0,0,0,0,0,0,0,0,0,0,{"$nulls":10},0,0,0,0,0,0,0,0,0,0,0,0,0,0,0,0,0,0,0,0,0,0,0,0,0,0,0,0,0,0]
[null,{"$f":"GAMEstage1!B16","v":0},{"$f":"GAMEstage1!C16","v":0},{"$f":"GAMEstage1!D16","v":0},{"$f":"GAMEstage1!E16","v":0},{"$f":"GAMEstage1!F16","v":0},{"$f":"GAMEstage1!G16","v":0},{"$f":"GAMEstage1!H16","v":0},{"$f":"GAMEstage1!I16","v":0},{"$f":"GAMEstage1!J16","v":0},{"$f":"GAMEstage1!K16","v":0},{"$f":"GAMEstage1!L16","v":0},{"$f":"GAMEstage1!M16","v":0},{"$f":"GAMEstage1!N16","v":0},{"$f":"GAMEstage1!O16","v":0},{"$f":"GAMEstage1!P16","v":0},0,0,0,0,0,0,0,0,0,0,0,0,0,0,0,{"$nulls":10},0,0,0,0,0,0,0,0,0,0,0,0,0,0,0,0,0,0,0,0,0,0,0,0,0,0,0,0,0,0]
[null,{"$f":"GAMEstage1!B17","v":0},{"$f":"GAMEstage1!C17","v":0},{"$f":"GAMEstage1!D17","v":0},{"$f":"GAMEstage1!E17","v":0},{"$f":"GAMEstage1!F17","v":0},{"$f":"GAMEstage1!G17","v":0},{"$f":"GAMEstage1!H17","v":0},{"$f":"GAMEstage1!I17","v":0},{"$f":"GAMEstage1!J17","v":0},{"$f":"GAMEstage1!K17","v":0},{"$f":"GAMEstage1!L17","v":0},{"$f":"GAMEstage1!M17","v":0},{"$f":"GAMEstage1!N17","v":0},{"$f":"GAMEstage1!O17","v":0},{"$f":"GAMEstage1!P17","v":0},0,0,0,0,0,0,0,0,0,0,0,0,0,0,0,{"$nulls":10},0,0,0,0,0,0,0,0,0,0,0,0,0,0,0,0,0,0,0,0,0,0,0,0,0,0,0,0,0,0]
[null,{"$f":"GAMEstage1!B18","v":0},{"$f":"GAMEstage1!C18","v":0},{"$f":"GAMEstage1!D18","v":0},{"$f":"GAMEstage1!E18","v":0},{"$f":"GAMEstage1!F18","v":0},{"$f":"GAMEstage1!G18","v":0},{"$f":"GAMEstage1!H18","v":0},{"$f":"GAMEstage1!I18","v":0},{"$f":"GAMEstage1!J18","v":0},{"$f":"GAMEstage1!K18","v":0},{"$f":"GAMEstage1!L18","v":0},{"$f":"GAMEstage1!M18","v":0},{"$f":"GAMEstage1!N18","v":0},{"$f":"GAMEstage1!O18","v":0},{"$f":"GAMEstage1!P18","v":0},0,0,0,0,0,0,0,0,0,0,0,0,0,0,0,{"$nulls":10},0,0,0,0,0,0,0,0,0,0,0,0,0,0,0,0,0,0,0,0,0,0,0,0,0,0,0,0,0,0]
[null,{"$f":"GAMEstage1!B19","v":0},{"$f":"GAMEstage1!C19","v":0},{"$f":"GAMEstage1!D19","v":0},{"$f":"GAMEstage1!E19","v":0},{"$f":"GAMEstage1!F19","v":0},{"$f":"GAMEstage1!G19","v":0},{"$f":"GAMEstage1!H19","v":0},{"$f":"GAMEstage1!I19","v":0},{"$f":"GAMEstage1!J19","v":0},{"$f":"GAMEstage1!K19","v":0},{"$f":"GAMEstage1!L19","v":0},{"$f":"GAMEstage1!M19","v":0},{"$f":"GAMEstage1!N19","v":0},{"$f":"GAMEstage1!O19","v":0},{"$f":"GAMEstage1!P19","v":0},0,0,0,0,0,0,0,0,0,0,0,0,0,0,0,{"$nulls":10},0,0,0,0,0,0,0,0,0,0,0,0,0,0,0,0,0,0,0,0,0,0,0,0,0,0,0,0,0,0]
[null,{"$f":"GAMEstage1!B20","v":0},{"$f":"GAMEstage1!C20","v":0},{"$f":"GAMEstage1!D20","v":0},{"$f":"GAMEstage1!E20","v":0},{"$f":"GAMEstage1!F20","v":0},{"$f":"GAMEstage1!G20","v":0},{"$f":"GAMEstage1!H20","v":0},{"$f":"GAMEstage1!I20","v":0},{"$f":"GAMEstage1!J20","v":0},{"$f":"GAMEstage1!K20","v":0},{"$f":"GAMEstage1!L20","v":0},{"$f":"GAMEstage1!M20","v":0},{"$f":"GAMEstage1!N20","v":0},{"$f":"GAMEstage1!O20","v":0},{"$f":"GAMEstage1!P20","v":0},0,0,0,0,0,0,0,0,0,0,0,0,0,0,0,{"$nulls":10},0,0,0,0,0,0,0,0,0,0,0,0,0,0,0,0,0,0,0,0,0,0,0,0,0,0,0,0,0,0]
[null,{"$f":"GAMEstage1!B21","v":0},{"$f":"GAMEstage1!C21","v":0},{"$f":"GAMEstage1!D21","v":0},{"$f":"GAMEstage1!E21","v":0},{"$f":"GAMEstage1!F21","v":0},{"$f":"GAMEstage1!G21","v":0},{"$f":"GAMEstage1!H21","v":0},{"$f":"GAMEstage1!I21","v":0},{"$f":"GAMEstage1!J21","v":0},{"$f":"GAMEstage1!K21","v":0},{"$f":"GAMEstage1!L21","v":0},{"$f":"GAMEstage1!M21","v":0},{"$f":"GAMEstage1!N21","v":0},{"$f":"GAMEstage1!O21","v":0},{"$f":"GAMEstage1!P21","v":0},0,0,0,0,0,0,0,0,0,0,0,0,0,0,0,{"$nulls":10},0,0,0,0,0,0,0,0,0,0,0,0,0,0,0,0,0,0,0,0,0,0,0,0,0,0,0,0,0,0]
[null,{"$f":"GAMEstage1!B22","v":0},{"$f":"GAMEstage1!C22","v":0},{"$f":"GAMEstage1!D22","v":0},{"$f":"GAMEstage1!E22","v":0},{"$f":"GAMEstage1!F22","v":0},{"$f":"GAMEstage1!G22","v":0},{"$f":"GAMEstage1!H22","v":0},{"$f":"GAMEstage1!I22","v":0},{"$f":"GAMEstage1!J22","v":0},{"$f":"GAMEstage1!K22","v":0},{"$f":"GAMEstage1!L22","v":0},{"$f":"GAMEstage1!M22","v":0},{"$f":"GAMEstage1!N22","v":0},{"$f":"GAMEstage1!O22","v":0},{"$f":"GAMEstage1!P22","v":0},0,0,0,0,0,0,0,0,0,0,0,0,0,0,0,{"$nulls":10},0,0,0,0,0,0,0,0,0,0,0,0,0,0,0,0,0,0,0,0,0,0,0,0,0,0,0,0,0,0]
[null,{"$f":"GAMEstage1!B23","v":0},{"$f":"GAMEstage1!C23","v":0},{"$f":"GAMEstage1!D23","v":0},{"$f":"GAMEstage1!E23","v":0},{"$f":"GAMEstage1!F23","v":0},{"$f":"GAMEstage1!G23","v":0},{"$f":"GAMEstage1!H23","v":0},{"$f":"GAMEstage1!I23","v":0},{"$f":"GAMEstage1!J23","v":0},{"$f":"GAMEstage1!K23","v":0},{"$f":"GAMEstage1!L23","v":0},{"$f":"GAMEstage1!M23","v":0},{"$f":"GAMEstage1!N23","v":0},{"$f":"GAMEstage1!O23","v":0},{"$f":"GAMEstage1!P23","v":0},0,0,0,0,0,0,0,0,0,0,0,0,0,0,0,{"$nulls":10},0,0,0,0,0,0,0,0,0,0,0,0,0,0,0,0,0,0,0,0,0,0,0,0,0,0,0,0,0,0]
[null,{"$f":"GAMEstage1!B24","v":0},{"$f":"GAMEstage1!C24","v":0},{"$f":"GAMEstage1!D24","v":0},{"$f":"GAMEstage1!E24","v":0},{"$f":"GAMEstage1!F24","v":0},{"$f":"GAMEstage1!G24","v":0},{"$f":"GAMEstage1!H24","v":0},{"$f":"GAMEstage1!I24","v":0},{"$f":"GAMEstage1!J24","v":0},{"$f":"GAMEstage1!K24","v":0},{"$f":"GAMEstage1!L24","v":0},{"$f":"GAMEstage1!M24","v":0},{"$f":"GAMEstage1!N24","v":0},{"$f":"GAMEstage1!O24","v":0},{"$f":"GAMEstage1!P24","v":0},0,0,0,0,0,0,0,0,0,0,0,0,0,0,0,{"$nulls":10},0,0,0,0,0,0,0,0,0,0,0,0,0,0,0,0,0,0,0,0,0,0,0,0,0,0,0,0,0,0]
[null,{"$f":"GAMEstage1!B25","v":0},{"$f":"GAMEstage1!C25","v":0},{"$f":"GAMEstage1!D25","v":0},{"$f":"GAMEstage1!E25","v":0},{"$f":"GAMEstage1!F25","v":0},{"$f":"GAMEstage1!G25","v":0},{"$f":"GAMEstage1!H25","v":0},{"$f":"GAMEstage1!I25","v":0},{"$f":"GAMEstage1!J25","v":0},{"$f":"GAMEstage1!K25","v":0},{"$f":"GAMEstage1!L25","v":0},{"$f":"GAMEstage1!M25","v":0},{"$f":"GAMEstage1!N25","v":0},{"$f":"GAMEstage1!O25","v":0},{"$f":"GAMEstage1!P25","v":0},0,0,0,0,0,0,0,0,0,0,0,0,0,0,0,{"$nulls":10},0,0,0,0,0,0,0,0,0,0,0,0,0,0,0,0,0,0,0,0,0,0,0,0,0,0,0,0,0,0]
[null,{"$f":"GAMEstage1!B26","v":0},{"$f":"GAMEstage1!C26","v":0},{"$f":"GAMEstage1!D26","v":0},{"$f":"GAMEstage1!E26","v":0},{"$f":"GAMEstage1!F26","v":0},{"$f":"GAMEstage1!G26","v":0},{"$f":"GAMEstage1!H26","v":0},{"$f":"GAMEstage1!I26","v":0},{"$f":"GAMEstage1!J26","v":0},{"$f":"GAMEstage1!K26","v":0},{"$f":"GAMEstage1!L26","v":0},{"$f":"GAMEstage1!M26","v":0},{"$f":"GAMEstage1!N26","v":0},{"$f":"GAMEstage1!O26","v":0},{"$f":"GAMEstage1!P26","v":0},0,0,0,0,0,0,0,0,0,0,0,0,0,0,0,{"$nulls":10},0,0,0,0,0,0,0,0,0,0,0,0,0,0,0,0,0,0,0,0,0,0,0,0,0,0,0,0,0,0]
[null,{"$f":"GAMEstage1!B27","v":0},{"$f":"GAMEstage1!C27","v":0},{"$f":"GAMEstage1!D27","v":0},{"$f":"GAMEstage1!E27","v":0},{"$f":"GAMEstage1!F27","v":0},{"$f":"GAMEstage1!G27","v":0},{"$f":"GAMEstage1!H27","v":0},{"$f":"GAMEstage1!I27","v":0},{"$f":"GAMEstage1!J27","v":0},{"$f":"GAMEstage1!K27","v":0},{"$f":"GAMEstage1!L27","v":0},{"$f":"GAMEstage1!M27","v":0},{"$f":"GAMEstage1!N27","v":0},{"$f":"GAMEstage1!O27","v":0},{"$f":"GAMEstage1!P27","v":0},0,0,0,0,0,0,0,0,0,0,0,0,0,0,0,{"$nulls":10},0,0,0,0,0,0,0,0,0,0,0,0,0,0,0,0,0,0,0,0,0,0,0,0,0,0,0,0,0,0]
[null,{"$f":"GAMEstage1!B28","v":0},{"$f":"GAMEstage1!C28","v":0},{"$f":"GAMEstage1!D28","v":0},{"$f":"GAMEstage1!E28","v":0},{"$f":"GAMEstage1!F28","v":0},{"$f":"GAMEstage1!G28","v":0},{"$f":"GAMEstage1!H28","v":0},{"$f":"GAMEstage1!I28","v":0},{"$f":"GAMEstage1!J28","v":0},{"$f":"GAMEstage1!K28","v":0},{"$f":"GAMEstage1!L28","v":0},{"$f":"GAMEstage1!M28","v":0},{"$f":"GAMEstage1!N28","v":0},{"$f":"GAMEstage1!O28","v":0},{"$f":"GAMEstage1!P28","v":0},0,0,0,0,0,0,0,0,0,0,0,0,0,0,0,{"$nulls":10},0,0,0,0,0,0,0,0,0,0,0,0,0,0,0,0,0,0,0,0,0,0,0,0,0,0,0,0,0,0]
[null,{"$f":"GAMEstage1!B29","v":0},{"$f":"GAMEstage1!C29","v":0},{"$f":"GAMEstage1!D29","v":0},{"$f":"GAMEstage1!E29","v":0},{"$f":"GAMEstage1!F29","v":0},{"$f":"GAMEstage1!G29","v":0},{"$f":"GAMEstage1!H29","v":0},{"$f":"GAMEstage1!I29","v":0},{"$f":"GAMEstage1!J29","v":0},{"$f":"GAMEstage1!K29","v":0},{"$f":"GAMEstage1!L29","v":0},{"$f":"GAMEstage1!M29","v":0},{"$f":"GAMEstage1!N29","v":0},{"$f":"GAMEstage1!O29","v":0},{"$f":"GAMEstage1!P29","v":0},0,0,0,0,0,0,0,0,0,0,0,0,0,0,0,{"$nulls":10},0,0,0,0,0,0,0,0,0,0,0,0,0,0,0,0,0,0,0,0,0,0,0,0,0,0,0,0,0,0]
[null,{"$f":"GAMEstage1!B30","v":0},{"$f":"GAMEstage1!C30","v":0},{"$f":"GAMEstage1!D30","v":0},{"$f":"GAMEstage1!E30","v":0},{"$f":"GAMEstage1!F30","v":0},{"$f":"GAMEstage1!G30","v":0},{"$f":"GAMEstage1!H30","v":0},{"$f":"GAMEstage1!I30","v":0},{"$f":"GAMEstage1!J30","v":0},{"$f":"GAMEstage1!K30","v":0},{"$f":"GAMEstage1!L30","v":0},{"$f":"GAMEstage1!M30","v":0},{"$f":"GAMEstage1!N30","v":0},{"$f":"GAMEstage1!O30","v":0},{"$f":"GAMEstage1!P30","v":0},0,0,0,0,0,0,0,0,0,0,0,0,0,0,0,{"$nulls":10},0,0,0,0,0,0,0,0,0,0,0,0,0,0,0,0,0,0,0,0,0,0,0,0,0,0,0,0,0,0]
[null,{"$f":"GAMEstage1!B31","v":0},{"$f":"GAMEstage1!C31","v":0},{"$f":"GAMEstage1!D31","v":0},{"$f":"GAMEstage1!E31","v":0},{"$f":"GAMEstage1!F31","v":0},{"$f":"GAMEstage1!G31","v":0},{"$f":"GAMEstage1!H31","v":0},{"$f":"GAMEstage1!I31","v":0},{"$f":"GAMEstage1!J31","v":0},{"$f":"GAMEstage1!K31","v":0},{"$f":"GAMEstage1!L31","v":0},{"$f":"GAMEstage1!M31","v":0},{"$f":"GAMEstage1!N31","v":0},{"$f":"GAMEstage1!O31","v":0},{"$f":"GAMEstage1!P31","v":0},0,0,0,0,0,0,0,0,0,0,0,0,0,0,0]
[]
[null,{"$f":"IF(Q1=Q32,1,0)","v":1},{"$f":"IF(R1=R32,1,0)","v":1},1,1,1,1,1,1,1,1,1,1,{"$f":"IF(AC1=AC32,1,0)","v":1},1,1,{"$f":"GAMEstage1!Q2","v":0},{"$f":"GAMEstage1!R2","v":0},{"$f":"GAMEstage1!S2","v":0},{"$f":"GAMEstage1!T2","v":0},{"$f":"GAMEstage1!U2","v":0},{"$f":"GAMEstage1!V2","v":0},{"$f":"GAMEstage1!W2","v":0},{"$f":"GAMEstage1!X2","v":0},{"$f":"GAMEstage1!Y2","v":0},{"$f":"GAMEstage1!Z2","v":0},{"$f":"GAMEstage1!AA2","v":0},{"$f":"GAMEstage1!AB2","v":0},{"$f":"GAMEstage1!AC2","v":0},{"$f":"GAMEstage1!AD2","v":0},{"$f":"GAMEstage1!AE2","v":0}]
[null,{"$f":"IF(Q2=Q33,1,0)","v":1},{"$f":"IF(R2=R33,1,0)","v":1},{"$f":"IF(S2=S33,1,0)","v":1},{"$f":"IF(T2=T33,1,0)","v":1},{"$f":"IF(U2=U33,1,0)","v":1},{"$f":"IF(V2=V33,1,0)","v":1},{"$f":"IF(W2=W33,1,0)","v":1},{"$f":"IF(X2=X33,1,0)","v":1},{"$f":"IF(Y2=Y33,1,0)","v":1},{"$f":"IF(Z2=Z33,1,0)","v":1},{"$f":"IF(AA2=AA33,1,0)","v":1},{"$f":"IF(AB2=AB33,1,0)","v":1},1,{"$f":"IF(AD2=AD33,1,0)","v":1},{"$f":"IF(AE2=AE33,1,0)","v":1},{"$f":"GAMEstage1!Q3","v":0},{"$f":"GAMEstage1!R3","v":0},{"$f":"GAMEstage1!S3","v":0},{"$f":"GAMEstage1!T3","v":0},{"$f":"GAMEstage1!U3","v":0},{"$f":"GAMEstage1!V3","v":0},{"$f":"GAMEstage1!W3","v":0},{"$f":"GAMEstage1!X3","v":0},{"$f":"GAMEstage1!Y3","v":0},{"$f":"GAMEstage1!Z3","v":0},{"$f":"GAMEstage1!AA3","v":0},{"$f":"GAMEstage1!AB3","v":0},{"$f":"GAMEstage1!AC3","v":0},{"$f":"GAMEstage1!AD3","v":0},{"$f":"GAMEstage1!AE3","v":0}]
[null,1,1,1,1,1,1,1,1,1,1,1,1,{"$f":"IF(AC3=AC34,1,0)","v":1},1,1,{"$f":"GAMEstage1!Q4","v":0},{"$f":"GAMEstage1!R4","v":0},{"$f":"GAMEstage1!S4","v":0},{"$f":"GAMEstage1!T4","v":0},{"$f":"GAMEstage1!U4","v":0},{"$f":"GAMEstage1!V4","v":0},{"$f":"GAMEstage1!W4","v":0},{"$f":"GAMEstage1!X4","v":0},{"$f":"GAMEstage1!Y4","v":0},{"$f":"GAMEstage1!Z4","v":0},{"$f":"GAMEstage1!AA4","v":0},{"$f":"GAMEstage1!AB4","v":0},{"$f":"GAMEstage1!AC4","v":0},{"$f":"GAMEstage1!AD4","v":0},{"$f":"GAMEstage1!AE4","v":0}]
[null,1,1,1,1,1,1,1,1,1,1,1,1,1,1,1,{"$f":"GAMEstage1!Q5","v":0},{"$f":"GAMEstage1!R5","v":0},{"$f":"GAMEstage1!S5","v":0},{"$f":"GAMEstage1!T5","v":0},{"$f":"GAMEstage1!U5","v":0},{"$f":"GAMEstage1!V5","v":0},{"$f":"GAMEstage1!W5","v":0},{"$f":"GAMEstage1!X5","v":0},{"$f":"GAMEstage1!Y5","v":0},{"$f":"GAMEstage1!Z5","v":0},{"$f":"GAMEstage1!AA5","v":0},{"$f":"GAMEstage1!AB5","v":0},{"$f":"GAMEstage1!AC5","v":0},{"$f":"GAMEstage1!AD5","v":0},{"$f":"GAMEstage1!AE5","v":0}]
[null,1,1,1,1,1,1,1,1,1,1,1,1,1,1,1,{"$f":"GAMEstage1!Q6","v":0},{"$f":"GAMEstage1!R6","v":0},{"$f":"GAMEstage1!S6","v":0},{"$f":"GAMEstage1!T6","v":0},{"$f":"GAMEstage1!U6","v":0},{"$f":"GAMEstage1!V6","v":0},{"$f":"GAMEstage1!W6","v":0},{"$f":"GAMEstage1!X6","v":0},{"$f":"GAMEstage1!Y6","v":0},{"$f":"GAMEstage1!Z6","v":0},{"$f":"GAMEstage1!AA6","v":0},{"$f":"GAMEstage1!AB6","v":0},{"$f":"GAMEstage1!AC6","v":0},{"$f":"GAMEstage1!AD6","v":0},{"$f":"GAMEstage1!AE6","v":0}]
[null,1,1,1,1,1,1,1,1,1,1,1,1,1,1,1,{"$f":"GAMEstage1!Q7","v":0},{"$f":"GAMEstage1!R7","v":0},{"$f":"GAMEstage1!S7","v":0},{"$f":"GAMEstage1!T7","v":0},{"$f":"GAMEstage1!U7","v":0},{"$f":"GAMEstage1!V7","v":0},{"$f":"GAMEstage1!W7","v":0},{"$f":"GAMEstage1!X7","v":0},{"$f":"GAMEstage1!Y7","v":0},{"$f":"GAMEstage1!Z7","v":0},{"$f":"GAMEstage1!AA7","v":0},{"$f":"GAMEstage1!AB7","v":0},{"$f":"GAMEstage1!AC7","v":0},{"$f":"GAMEstage1!AD7","v":0},{"$f":"GAMEstage1!AE7","v":0}]
[null,1,1,1,1,1,1,1,1,1,1,1,1,1,1,1,{"$f":"GAMEstage1!Q8","v":0},{"$f":"GAMEstage1!R8","v":0},{"$f":"GAMEstage1!S8","v":0},{"$f":"GAMEstage1!T8","v":0},{"$f":"GAMEstage1!U8","v":0},{"$f":"GAMEstage1!V8","v":0},{"$f":"GAMEstage1!W8","v":0},{"$f":"GAMEstage1!X8","v":0},{"$f":"GAMEstage1!Y8","v":0},{"$f":"GAMEstage1!Z8","v":0},{"$f":"GAMEstage1!AA8","v":0},{"$f":"GAMEstage1!AB8","v":0},{"$f":"GAMEstage1!AC8","v":0},{"$f":"GAMEstage1!AD8","v":0},{"$f":"GAMEstage1!AE8","v":0}]
[null,1,1,1,1,1,1,1,1,1,1,1,1,1,1,1,{"$f":"GAMEstage1!Q9","v":0},{"$f":"GAMEstage1!R9","v":0},{"$f":"GAMEstage1!S9","v":0},{"$f":"GAMEstage1!T9","v":0},{"$f":"GAMEstage1!U9","v":0},{"$f":"GAMEstage1!V9","v":0},{"$f":"GAMEstage1!W9","v":0},{"$f":"GAMEstage1!X9","v":0},{"$f":"GAMEstage1!Y9","v":0},{"$f":"GAMEstage1!Z9","v":0},{"$f":"GAMEstage1!AA9","v":0},{"$f":"GAMEstage1!AB9","v":0},{"$f":"GAMEstage1!AC9","v":0},{"$f":"GAMEstage1!AD9","v":0},{"$f":"GAMEstage1!AE9","v":0}]
[null,1,1,1,1,1,1,1,1,1,1,1,1,1,1,1,{"$f":"GAMEstage1!Q10","v":0},{"$f":"GAMEstage1!R10","v":0},{"$f":"GAMEstage1!S10","v":0},{"$f":"GAMEstage1!T10","v":0},{"$f":"GAMEstage1!U10","v":0},{"$f":"GAMEstage1!V10","v":0},{"$f":"GAMEstage1!W10","v":0},{"$f":"GAMEstage1!X10","v":0},{"$f":"GAMEstage1!Y10","v":0},{"$f":"GAMEstage1!Z10","v":0},{"$f":"GAMEstage1!AA10","v":0},{"$f":"GAMEstage1!AB10","v":0},{"$f":"GAMEstage1!AC10","v":0},{"$f":"GAMEstage1!AD10","v":0},{"$f":"GAMEstage1!AE10","v":0}]
[null,1,1,1,1,1,1,1,1,1,1,1,1,1,1,1,{"$f":"GAMEstage1!Q11","v":0},{"$f":"GAMEstage1!R11","v":0},{"$f":"GAMEstage1!S11","v":0},{"$f":"GAMEstage1!T11","v":0},{"$f":"GAMEstage1!U11","v":0},{"$f":"GAMEstage1!V11","v":0},{"$f":"GAMEstage1!W11","v":0},{"$f":"GAMEstage1!X11","v":0},{"$f":"GAMEstage1!Y11","v":0},{"$f":"GAMEstage1!Z11","v":0},{"$f":"GAMEstage1!AA11","v":0},{"$f":"GAMEstage1!AB11","v":0},{"$f":"GAMEstage1!AC11","v":0},{"$f":"GAMEstage1!AD11","v":0},{"$f":"GAMEstage1!AE11","v":0}]
[null,1,1,1,1,1,1,1,1,1,1,1,1,1,1,1,{"$f":"GAMEstage1!Q12","v":0},{"$f":"GAMEstage1!R12","v":0},{"$f":"GAMEstage1!S12","v":0},{"$f":"GAMEstage1!T12","v":0},{"$f":"GAMEstage1!U12","v":0},{"$f":"GAMEstage1!V12","v":0},{"$f":"GAMEstage1!W12","v":0},{"$f":"GAMEstage1!X12","v":0},{"$f":"GAMEstage1!Y12","v":0},{"$f":"GAMEstage1!Z12","v":0},{"$f":"GAMEstage1!AA12","v":0},{"$f":"GAMEstage1!AB12","v":0},{"$f":"GAMEstage1!AC12","v":0},{"$f":"GAMEstage1!AD12","v":0},{"$f":"GAMEstage1!AE12","v":0}]
[null,1,1,1,1,1,1,1,1,1,1,1,1,1,1,1,{"$f":"GAMEstage1!Q13","v":0},{"$f":"GAMEstage1!R13","v":0},{"$f":"GAMEstage1!S13","v":0},{"$f":"GAMEstage1!T13","v":0},{"$f":"GAMEstage1!U13","v":0},{"$f":"GAMEstage1!V13","v":0},{"$f":"GAMEstage1!W13","v":0},{"$f":"GAMEstage1!X13","v":0},{"$f":"GAMEstage1!Y13","v":0},{"$f":"GAMEstage1!Z13","v":0},{"$f":"GAMEstage1!AA13","v":0},{"$f":"GAMEstage1!AB13","v":0},{"$f":"GAMEstage1!AC13","v":0},{"$f":"GAMEstage1!AD13","v":0},{"$f":"GAMEstage1!AE13","v":0}]
[null,1,1,1,1,1,1,1,1,1,1,1,1,1,1,1,{"$f":"GAMEstage1!Q14","v":0},{"$f":"GAMEstage1!R14","v":0},{"$f":"GAMEstage1!S14","v":0},{"$f":"GAMEstage1!T14","v":0},{"$f":"GAMEstage1!U14","v":0},{"$f":"GAMEstage1!V14","v":0},{"$f":"GAMEstage1!W14","v":0},{"$f":"GAMEstage1!X14","v":0},{"$f":"GAMEstage1!Y14","v":0},{"$f":"GAMEstage1!Z14","v":0},{"$f":"GAMEstage1!AA14","v":0},{"$f":"GAMEstage1!AB14","v":0},{"$f":"GAMEstage1!AC14","v":0},{"$f":"GAMEstage1!AD14","v":0},{"$f":"GAMEstage1!AE14","v":0}]
[null,1,1,1,1,1,1,1,1,1,1,1,1,1,1,1,{"$f":"GAMEstage1!Q15","v":0},{"$f":"GAMEstage1!R15","v":0},{"$f":"GAMEstage1!S15","v":0},{"$f":"GAMEstage1!T15","v":0},{"$f":"GAMEstage1!U15","v":0},{"$f":"GAMEstage1!V15","v":0},{"$f":"GAMEstage1!W15","v":0},{"$f":"GAMEstage1!X15","v":0},{"$f":"GAMEstage1!Y15","v":0},{"$f":"GAMEstage1!Z15","v":0},{"$f":"GAMEstage1!AA15","v":0},{"$f":"GAMEstage1!AB15","v":0},{"$f":"GAMEstage1!AC15","v":0},{"$f":"GAMEstage1!AD15","v":0},{"$f":"GAMEstage1!AE15","v":0}]
[null,1,1,1,1,1,1,1,1,1,1,1,1,1,1,1,{"$f":"GAMEstage1!Q16","v":0},{"$f":"GAMEstage1!R16","v":0},{"$f":"GAMEstage1!S16","v":0},{"$f":"GAMEstage1!T16","v":0},{"$f":"GAMEstage1!U16","v":0},{"$f":"GAMEstage1!V16","v":0},{"$f":"GAMEstage1!W16","v":0},{"$f":"GAMEstage1!X16","v":0},{"$f":"GAMEstage1!Y16","v":0},{"$f":"GAMEstage1!Z16","v":0},{"$f":"GAMEstage1!AA16","v":0},{"$f":"GAMEstage1!AB16","v":0},{"$f":"GAMEstage1!AC16","v":0},{"$f":"GAMEstage1!AD16","v":0},{"$f":"GAMEstage1!AE16","v":0}]
[null,1,1,1,1,1,1,1,1,1,1,1,1,1,1,1,{"$f":"GAMEstage1!Q17","v":0},{"$f":"GAMEstage1!R17","v":0},{"$f":"GAMEstage1!S17","v":0},{"$f":"GAMEstage1!T17","v":0},{"$f":"GAMEstage1!U17","v":0},{"$f":"GAMEstage1!V17","v":0},{"$f":"GAMEstage1!W17","v":0},{"$f":"GAMEstage1!X17","v":0},{"$f":"GAMEstage1!Y17","v":0},{"$f":"GAMEstage1!Z17","v":0},{"$f":"GAMEstage1!AA17","v":0},{"$f":"GAMEstage1!AB17","v":0},{"$f":"GAMEstage1!AC17","v":0},{"$f":"GAMEstage1!AD17","v":0},{"$f":"GAMEstage1!AE17","v":0}]
[null,1,1,1,1,1,1,1,1,1,1,1,1,1,1,1,{"$f":"GAMEstage1!Q18","v":0},{"$f":"GAMEstage1!R18","v":0},{"$f":"GAMEstage1!S18","v":0},{"$f":"GAMEstage1!T18","v":0},{"$f":"GAMEstage1!U18","v":0},{"$f":"GAMEstage1!V18","v":0},{"$f":"GAMEstage1!W18","v":0},{"$f":"GAMEstage1!X18","v":0},{"$f":"GAMEstage1!Y18","v":0},{"$f":"GAMEstage1!Z18","v":0},{"$f":"GAMEstage1!AA18","v":0},{"$f":"GAMEstage1!AB18","v":0},{"$f":"GAMEstage1!AC18","v":0},{"$f":"GAMEstage1!AD18","v":0},{"$f":"GAMEstage1!AE18","v":0}]
[null,1,1,1,1,1,1,1,1,1,1,1,{"$f":"IF(AB18=AB49,1,0)","v":1},1,1,1,{"$f":"GAMEstage1!Q19","v":0},{"$f":"GAMEstage1!R19","v":0},{"$f":"GAMEstage1!S19","v":0},{"$f":"GAMEstage1!T19","v":0},{"$f":"GAMEstage1!U19","v":0},{"$f":"GAMEstage1!V19","v":0},{"$f":"GAMEstage1!W19","v":0},{"$f":"GAMEstage1!X19","v":0},{"$f":"GAMEstage1!Y19","v":0},{"$f":"GAMEstage1!Z19","v":0},{"$f":"GAMEstage1!AA19","v":0},{"$f":"GAMEstage1!AB19","v":0},{"$f":"GAMEstage1!AC19","v":0},{"$f":"GAMEstage1!AD19","v":0},{"$f":"GAMEstage1!AE19","v":0}]
[null,1,1,1,1,1,1,1,1,1,1,1,1,1,1,1,{"$f":"GAMEstage1!Q20","v":0},{"$f":"GAMEstage1!R20","v":0},{"$f":"GAMEstage1!S20","v":0},{"$f":"GAMEstage1!T20","v":0},{"$f":"GAMEstage1!U20","v":0},{"$f":"GAMEstage1!V20","v":0},{"$f":"GAMEstage1!W20","v":0},{"$f":"GAMEstage1!X20","v":0},{"$f":"GAMEstage1!Y20","v":0},{"$f":"GAMEstage1!Z20","v":0},{"$f":"GAMEstage1!AA20","v":0},{"$f":"GAMEstage1!AB20","v":0},{"$f":"GAMEstage1!AC20","v":0},{"$f":"GAMEstage1!AD20","v":0},{"$f":"GAMEstage1!AE20","v":0}]
[null,1,1,1,1,1,1,1,1,1,1,1,1,1,1,1,{"$f":"GAMEstage1!Q21","v":0},{"$f":"GAMEstage1!R21","v":0},{"$f":"GAMEstage1!S21","v":0},{"$f":"GAMEstage1!T21","v":0},{"$f":"GAMEstage1!U21","v":0},{"$f":"GAMEstage1!V21","v":0},{"$f":"GAMEstage1!W21","v":0},{"$f":"GAMEstage1!X21","v":0},{"$f":"GAMEstage1!Y21","v":0},{"$f":"GAMEstage1!Z21","v":0},{"$f":"GAMEstage1!AA21","v":0},{"$f":"GAMEstage1!AB21","v":0},{"$f":"GAMEstage1!AC21","v":0},{"$f":"GAMEstage1!AD21","v":0},{"$f":"GAMEstage1!AE21","v":0}]
[null,1,1,1,1,1,1,1,1,1,1,1,1,1,1,1,{"$f":"GAMEstage1!Q22","v":0},{"$f":"GAMEstage1!R22","v":0},{"$f":"GAMEstage1!S22","v":0},{"$f":"GAMEstage1!T22","v":0},{"$f":"GAMEstage1!U22","v":0},{"$f":"GAMEstage1!V22","v":0},{"$f":"GAMEstage1!W22","v":0},{"$f":"GAMEstage1!X22","v":0},{"$f":"GAMEstage1!Y22","v":0},{"$f":"GAMEstage1!Z22","v":0},{"$f":"GAMEstage1!AA22","v":0},{"$f":"GAMEstage1!AB22","v":0},{"$f":"GAMEstage1!AC22","v":0},{"$f":"GAMEstage1!AD22","v":0},{"$f":"GAMEstage1!AE22","v":0}]
[null,1,1,1,1,1,1,1,1,1,1,1,1,1,1,1,{"$f":"GAMEstage1!Q23","v":0},{"$f":"GAMEstage1!R23","v":0},{"$f":"GAMEstage1!S23","v":0},{"$f":"GAMEstage1!T23","v":0},{"$f":"GAMEstage1!U23","v":0},{"$f":"GAMEstage1!V23","v":0},{"$f":"GAMEstage1!W23","v":0},{"$f":"GAMEstage1!X23","v":0},{"$f":"GAMEstage1!Y23","v":0},{"$f":"GAMEstage1!Z23","v":0},{"$f":"GAMEstage1!AA23","v":0},{"$f":"GAMEstage1!AB23","v":0},{"$f":"GAMEstage1!AC23","v":0},{"$f":"GAMEstage1!AD23","v":0},{"$f":"GAMEstage1!AE23","v":0}]
[null,1,1,1,1,1,1,1,1,1,1,1,1,1,1,1,{"$f":"GAMEstage1!Q24","v":0},{"$f":"GAMEstage1!R24","v":0},{"$f":"GAMEstage1!S24","v":0},{"$f":"GAMEstage1!T24","v":0},{"$f":"GAMEstage1!U24","v":0},{"$f":"GAMEstage1!V24","v":0},{"$f":"GAMEstage1!W24","v":0},{"$f":"GAMEstage1!X24","v":0},{"$f":"GAMEstage1!Y24","v":0},{"$f":"GAMEstage1!Z24","v":0},{"$f":"GAMEstage1!AA24","v":0},{"$f":"GAMEstage1!AB24","v":0},{"$f":"GAMEstage1!AC24","v":0},{"$f":"GAMEstage1!AD24","v":0},{"$f":"GAMEstage1!AE24","v":0}]
[null,1,1,1,1,1,1,1,1,1,1,1,1,1,1,1,{"$f":"GAMEstage1!Q25","v":0},{"$f":"GAMEstage1!R25","v":0},{"$f":"GAMEstage1!S25","v":0},{"$f":"GAMEstage1!T25","v":0},{"$f":"GAMEstage1!U25","v":0},{"$f":"GAMEstage1!V25","v":0},{"$f":"GAMEstage1!W25","v":0},{"$f":"GAMEstage1!X25","v":0},{"$f":"GAMEstage1!Y25","v":0},{"$f":"GAMEstage1!Z25","v":0},{"$f":"GAMEstage1!AA25","v":0},{"$f":"GAMEstage1!AB25","v":0},{"$f":"GAMEstage1!AC25","v":0},{"$f":"GAMEstage1!AD25","v":0},{"$f":"GAMEstage1!AE25","v":0}]
[null,1,1,1,1,1,1,1,1,1,1,1,1,1,1,1,{"$f":"GAMEstage1!Q26","v":0},{"$f":"GAMEstage1!R26","v":0},{"$f":"GAMEstage1!S26","v":0},{"$f":"GAMEstage1!T26","v":0},{"$f":"GAMEstage1!U26","v":0},{"$f":"GAMEstage1!V26","v":0},{"$f":"GAMEstage1!W26","v":0},{"$f":"GAMEstage1!X26","v":0},{"$f":"GAMEstage1!Y26","v":0},{"$f":"GAMEstage1!Z26","v":0},{"$f":"GAMEstage1!AA26","v":0},{"$f":"GAMEstage1!AB26","v":0},{"$f":"GAMEstage1!AC26","v":0},{"$f":"GAMEstage1!AD26","v":0},{"$f":"GAMEstage1!AE26","v":0}]
[null,1,1,1,1,1,1,1,1,1,1,1,1,1,1,1,{"$f":"GAMEstage1!Q27","v":0},{"$f":"GAMEstage1!R27","v":0},{"$f":"GAMEstage1!S27","v":0},{"$f":"GAMEstage1!T27","v":0},{"$f":"GAMEstage1!U27","v":0},{"$f":"GAMEstage1!V27","v":0},{"$f":"GAMEstage1!W27","v":0},{"$f":"GAMEstage1!X27","v":0},{"$f":"GAMEstage1!Y27","v":0},{"$f":"GAMEstage1!Z27","v":0},{"$f":"GAMEstage1!AA27","v":0},{"$f":"GAMEstage1!AB27","v":0},{"$f":"GAMEstage1!AC27","v":0},{"$f":"GAMEstage1!AD27","v":0},{"$f":"GAMEstage1!AE27","v":0}]
[null,1,1,1,1,1,1,1,1,1,1,1,1,1,1,1,{"$f":"GAMEstage1!Q28","v":0},{"$f":"GAMEstage1!R28","v":0},{"$f":"GAMEstage1!S28","v":0},{"$f":"GAMEstage1!T28","v":0},{"$f":"GAMEstage1!U28","v":0},{"$f":"GAMEstage1!V28","v":0},{"$f":"GAMEstage1!W28","v":0},{"$f":"GAMEstage1!X28","v":0},{"$f":"GAMEstage1!Y28","v":0},{"$f":"GAMEstage1!Z28","v":0},{"$f":"GAMEstage1!AA28","v":0},{"$f":"GAMEstage1!AB28","v":0},{"$f":"GAMEstage1!AC28","v":0},{"$f":"GAMEstage1!AD28","v":0},{"$f":"GAMEstage1!AE28","v":0}]
[null,1,1,1,1,1,1,1,1,1,1,1,1,1,1,1,{"$f":"GAMEstage1!Q29","v":0},{"$f":"GAMEstage1!R29","v":0},{"$f":"GAMEstage1!S29","v":0},{"$f":"GAMEstage1!T29","v":0},{"$f":"GAMEstage1!U29","v":0},{"$f":"GAMEstage1!V29","v":0},{"$f":"GAMEstage1!W29","v":0},{"$f":"GAMEstage1!X29","v":0},{"$f":"GAMEstage1!Y29","v":0},{"$f":"GAMEstage1!Z29","v":0},{"$f":"GAMEstage1!AA29","v":0},{"$f":"GAMEstage1!AB29","v":0},{"$f":"GAMEstage1!AC29","v":0},{"$f":"GAMEstage1!AD29","v":0},{"$f":"GAMEstage1!AE29","v":0}]
[null,1,1,1,1,1,1,1,1,1,1,1,1,1,1,1,{"$f":"GAMEstage1!Q30","v":0},{"$f":"GAMEstage1!R30","v":0},{"$f":"GAMEstage1!S30","v":0},{"$f":"GAMEstage1!T30","v":0},{"$f":"GAMEstage1!U30","v":0},{"$f":"GAMEstage1!V30","v":0},{"$f":"GAMEstage1!W30","v":0},{"$f":"GAMEstage1!X30","v":0},{"$f":"GAMEstage1!Y30","v":0},{"$f":"GAMEstage1!Z30","v":0},{"$f":"GAMEstage1!AA30","v":0},{"$f":"GAMEstage1!AB30","v":0},{"$f":"GAMEstage1!AC30","v":0},{"$f":"GAMEstage1!AD30","v":0},{"$f":"GAMEstage1!AE30","v":0}]
[null,1,1,1,1,1,1,1,1,1,1,1,1,1,1,1,{"$f":"GAMEstage1!Q31","v":0},{"$f":"GAMEstage1!R31","v":0},{"$f":"GAMEstage1!S31","v":0},{"$f":"GAMEstage1!T31","v":0},{"$f":"GAMEstage1!U31","v":0},{"$f":"GAMEstage1!V31","v":0},{"$f":"GAMEstage1!W31","v":0},{"$f":"GAMEstage1!X31","v":0},{"$f":"GAMEstage1!Y31","v":0},{"$f":"GAMEstage1!Z31","v":0},{"$f":"GAMEstage1!AA31","v":0},{"$f":"GAMEstage1!AB31","v":0},{"$f":"GAMEstage1!AC31","v":0},{"$f":"GAMEstage1!AD31","v":0},{"$f":"GAMEstage1!AE31","v":0}]
[]
[]
[]
[{"$nulls":6},{"$f":"SUM(B32:P61)","v":450}]

{"sheet":"Simetría2","index":5,"n_rows":65,"n_cols":71,"rows_kept":65,"merged":[[1,31,3,36],[4,32,5,33],[4,34,5,35],[6,32,7,33],[6,34,7,35],[64,6,65,8]]}
[null,{"$f":"GAMEstage1!B2","v":0},{"$f":"GAMEstage1!C2","v":0},{"$f":"GAMEstage1!D2","v":0},{"$f":"GAMEstage1!E2","v":0},{"$f":"GAMEstage1!F2","v":0},{"$f":"GAMEstage1!G2","v":0},{"$f":"GAMEstage1!H2","v":0},{"$f":"GAMEstage1!I2","v":0},{"$f":"GAMEstage1!J2","v":0},{"$f":"GAMEstage1!K2","v":0},{"$f":"GAMEstage1!L2","v":0},{"$f":"GAMEstage1!M2","v":0},{"$f":"GAMEstage1!N2","v":0},{"$f":"GAMEstage1!O2","v":0},{"$f":"GAMEstage1!P2","v":0},{"$f":"P1","v":0},{"$f":"O1","v":0},{"$f":"N1","v":0},{"$f":"M1","v":0},{"$f":"L1","v":0},{"$f":"K1","v":0},{"$f":"J1","v":0},{"$f":"I1","v":0},{"$f":"H1","v":0},{"$f":"G1","v":0},{"$f":"F1","v":0},{"$f":"E1","v":0},{"$f":"D1","v":0},{"$f":"C1","v":0},{"$f":"B1","v":0},{"$nulls":8},"There is nothing",null,{"$f":"IF(B1=0,0,1)","v":0},{"$f":"IF(C1=0,0,1)","v":0},0,0,0,0,0,0,0,0,0,0,0,0,0,0,0,0,0,0,0,0,0,0,0,0,0,0,0,0]
[null,{"$f":"GAMEstage1!B3","v":0},{"$f":"GAMEstage1!C3","v":0},{"$f":"GAMEstage1!D3","v":0},{"$f":"GAMEstage1!E3","v":0},{"$f":"GAMEstage1!F3","v":0},{"$f":"GAMEstage1!G3","v":0},{"$f":"GAMEstage1!H3","v":0},{"$f":"GAMEstage1!I3","v":0},{"$f":"GAMEstage1!J3","v":0},{"$f":"GAMEstage1!K3","v":0},{"$f":"GAMEstage1!L3","v":0},{"$f":"GAMEstage1!M3","v":0},{"$f":"GAMEstage1!N3","v":0},{"$f":"GAMEstage1!O3","v":0},{"$f":"GAMEstage1!P3","v":0},{"$f":"P2","v":0},{"$f":"O2","v":0},{"$f":"N2","v":0},{"$f":"M2","v":0},{"$f":"L2","v":0},{"$f":"K2","v":0},{"$f":"J2","v":0},{"$f":"I2","v":0},{"$f":"H2","v":0},{"$f":"G2","v":0},{"$f":"F2","v":0},{"$f":"E2","v":0},{"$f":"D2","v":0},{"$f":"C2","v":0},{"$f":"B2","v":0},{"$nulls":10},{"$f":"IF(B2=0,0,1)","v":0},{"$f":"IF(C2=0,0,1)","v":0},{"$f":"IF(D2=0,0,1)","v":0},{"$f":"IF(E2=0,0,1)","v":0},{"$f":"IF(F2=0,0,1)","v":0},{"$f":"IF(G2=0,0,1)","v":0},{"$f":"IF(H2=0,0,1)","v":0},{"$f":"IF(I2=0,0,1)","v":0},{"$f":"IF(J2=0,0,1)","v":0},{"$f":"IF(K2=0,0,1)","v":0},{"$f":"IF(L2=0,0,1)","v":0},{"$f":"IF(M2=0,0,1)","v":0},{"$f":"IF(N2=0,0,1)","v":0},{"$f":"IF(O2=0,0,1)","v":0},{"$f":"IF(P2=0,0,1)","v":0},{"$f":"IF(Q2=0,0,1)","v":0},{"$f":"IF(R2=0,0,1)","v":0},{"$f":"IF(S2=0,0,1)","v":0},{"$f":"IF(T2=0,0,1)","v":0},{"$f":"IF(U2=0,0,1)","v":0},{"$f":"IF(V2=0,0,1)","v":0},{"$f":"IF(W2=0,0,1)","v":0},{"$f":"IF(X2=0,0,1)","v":0},{"$f":"IF(Y2=0,0,1)","v":0},{"$f":"IF(Z2=0,0,1)","v":0},{"$f":"IF(AA2=0,0,1)","v":0},{"$f":"IF(AB2=0,0,1)","v":0},{"$f":"IF(AC2=0,0,1)","v":0},{"$f":"IF(AD2=0,0,1)","v":0},{"$f":"IF(AE2=0,0,1)","v":0}]
[null,{"$f":"GAMEstage1!B4","v":0},{"$f":"GAMEstage1!C4","v":0},{"$f":"GAMEstage1!D4","v":0},{"$f":"GAMEstage1!E4","v":0},{"$f":"GAMEstage1!F4","v":0},{"$f":"GAMEstage1!G4","v":0},{"$f":"GAMEstage1!H4","v":0},{"$f":"GAMEstage1!I4","v":0},{"$f":"GAMEstage1!J4","v":0},{"$f":"GAMEstage1!K4","v":0},{"$f":"GAMEstage1!L4","v":0},{"$f":"GAMEstage1!M4","v":0},{"$f":"GAMEstage1!N4","v":0},{"$f":"GAMEstage1!O4","v":0},{"$f":"GAMEstage1!P4","v":0},0,0,0,0,0,0,0,0,0,0,0,0,0,0,0,{"$nulls":8},{"$f":"SUM(AP1:BS30)","v":0},null,0,0,0,0,0,0,0,0,0,0,0,0,0,0,0,0,0,0,0,0,0,0,0,0,0,0,0,0,0,0]
[null,{"$f":"GAMEstage1!B5","v":0},{"$f":"GAMEstage1!C5","v":0},{"$f":"GAMEstage1!D5","v":0},{"$f":"GAMEstage1!E5","v":0},{"$f":"GAMEstage1!F5","v":0},{"$f":"GAMEstage1!G5","v":0},{"$f":"GAMEstage1!H5","v":0},{"$f":"GAMEstage1!I5","v":0},{"$f":"GAMEstage1!J5","v":0},{"$f":"GAMEstage1!K5","v":0},{"$f":"GAMEstage1!L5","v":0},{"$f":"GAMEstage1!M5","v":0},{"$f":"GAMEstage1!N5","v":0},{"$f":"GAMEstage1!O5","v":0},{"$f":"GAMEstage1!P5","v":0},0,0,0,0,0,0,0,0,0,0,0,0,0,0,0,{"$nulls":10},0,0,0,0,0,0,0,0,0,0,0,0,0,0,0,0,0,0,0,0,0,0,0,0,0,0,0,0,0,0]
[null,{"$f":"GAMEstage1!B6","v":0},{"$f":"GAMEstage1!C6","v":0},{"$f":"GAMEstage1!D6","v":0},{"$f":"GAMEstage1!E6","v":0},{"$f":"GAMEstage1!F6","v":0},{"$f":"GAMEstage1!G6","v":0},{"$f":"GAMEstage1!H6","v":0},{"$f":"GAMEstage1!I6","v":0},{"$f":"GAMEstage1!J6","v":0},{"$f":"GAMEstage1!K6","v":0},{"$f":"GAMEstage1!L6","v":0},{"$f":"GAMEstage1!M6","v":0},{"$f":"GAMEstage1!N6","v":0},{"$f":"GAMEstage1!O6","v":0},{"$f":"GAMEstage1!P6","v":0},0,0,0,0,0,0,0,0,0,0,0,0,0,0,0,{"$nulls":10},0,0,0,0,0,0,0,0,0,0,0,0,0,0,0,0,0,0,0,0,0,0,0,0,0,0,0,0,0,0]
[null,{"$f":"GAMEstage1!B7","v":0},{"$f":"GAMEstage1!C7","v":0},{"$f":"GAMEstage1!D7","v":0},{"$f":"GAMEstage1!E7","v":0},{"$f":"GAMEstage1!F7","v":0},{"$f":"GAMEstage1!G7","v":0},{"$f":"GAMEstage1!H7","v":0},{"$f":"GAMEstage1!I7","v":0},{"$f":"GAMEstage1!J7","v":0},{"$f":"GAMEstage1!K7","v":0},{"$f":"GAMEstage1!L7","v":0},{"$f":"GAMEstage1!M7","v":0},{"$f":"GAMEstage1!N7","v":0},{"$f":"GAMEstage1!O7","v":0},{"$f":"GAMEstage1!P7","v":0},0,0,0,0,0,0,0,0,0,0,0,0,0,0,0,{"$nulls":10},0,0,0,0,0,0,0,0,0,0,0,0,0,0,0,0,0,0,0,0,0,0,0,0,0,0,0,0,0,0]
[null,{"$f":"GAMEstage1!B8","v":0},{"$f":"GAMEstage1!C8","v":0},{"$f":"GAMEstage1!D8","v":0},{"$f":"GAMEstage1!E8","v":0},{"$f":"GAMEstage1!F8","v":0},{"$f":"GAMEstage1!G8","v":0},{"$f":"GAMEstage1!H8","v":0},{"$f":"GAMEstage1!I8","v":0},{"$f":"GAMEstage1!J8","v":0},{"$f":"GAMEstage1!K8","v":0},{"$f":"GAMEstage1!L8","v":0},{"$f":"GAMEstage1!M8","v":0},{"$f":"GAMEstage1!N8","v":0},{"$f":"GAMEstage1!O8","v":0},{"$f":"GAMEstage1!P8","v":0},0,0,0,0,0,0,0,0,0,0,0,0,0,0,0,{"$nulls":10},0,0,0,0,0,0,0,0,0,0,0,0,0,0,0,0,0,0,0,0,0,0,0,0,0,0,0,0,0,0]
[null,{"$f":"GAMEstage1!B9","v":0},{"$f":"GAMEstage1!C9","v":0},{"$f":"GAMEstage1!D9","v":0},{"$f":"GAMEstage1!E9","v":0},{"$f":"GAMEstage1!F9","v":0},{"$f":"GAMEstage1!G9","v":0},{"$f":"GAMEstage1!H9","v":0},{"$f":"GAMEstage1!I9","v":0},{"$f":"GAMEstage1!J9","v":0},{"$f":"GAMEstage1!K9","v":0},{"$f":"GAMEstage1!L9","v":0},{"$f":"GAMEstage1!M9","v":0},{"$f":"GAMEstage1!N9","v":0},{"$f":"GAMEstage1!O9","v":0},{"$f":"GAMEstage1!P9","v":0},0,0,0,0,0,0,0,0,0,0,0,0,0,0,0,{"$nulls":10},0,0,0,0,0,0,0,0,0,0,0,0,0,0,0,0,0,0,0,0,0,0,0,0,0,0,0,0,0,0]
[null,{"$f":"GAMEstage1!B10","v":0},{"$f":"GAMEstage1!C10","v":0},{"$f":"GAMEstage1!D10","v":0},{"$f":"GAMEstage1!E10","v":0},{"$f":"GAMEstage1!F10","v":0},{"$f":"GAMEstage1!G10","v":0},{"$f":"GAMEstage1!H10","v":0},{"$f":"GAMEstage1!I10","v":0},{"$f":"GAMEstage1!J10","v":0},{"$f":"GAMEstage1!K10","v":0},{"$f":"GAMEstage1!L10","v":0},{"$f":"GAMEstage1!M10","v":0},{"$f":"GAMEstage1!N10","v":0},{"$f":"GAMEstage1!O10","v":0},{"$f":"GAMEstage1!P10","v":0},0,0,0,0,0,0,0,0,0,0,0,0,0,0,0,{"$nulls":10},0,0,0,0,0,0,0,0,0,0,0,0,0,0,0,0,0,0,0,0,0,0,0,0,0,0,0,0,0,0]
[null,{"$f":"GAMEstage1!B11","v":0},{"$f":"GAMEstage1!C11","v":0},{"$f":"GAMEstage1!D11","v":0},{"$f":"GAMEstage1!E11","v":0},{"$f":"GAMEstage1!F11","v":0},{"$f":"GAMEstage1!G11","v":0},{"$f":"GAMEstage1!H11","v":0},{"$f":"GAMEstage1!I11","v":0},{"$f":"GAMEstage1!J11","v":0},{"$f":"GAMEstage1!K11","v":0},{"$f":"GAMEstage1!L11","v":0},{"$f":"GAMEstage1!M11","v":0},{"$f":"GAMEstage1!N11","v":0},{"$f":"GAMEstage1!O11","v":0},{"$f":"GAMEstage1!P11","v":0},0,0,0,0,0,0,0,0,0,0,0,0,0,0,0,{"$nulls":10},0,0,0,0,0,0,0,0,0,0,0,0,0,0,0,0,0,0,0,0,0,0,0,0,0,0,0,0,0,0]
[null,{"$f":"GAMEstage1!B12","v":0},{"$f":"GAMEstage1!C12","v":0},{"$f":"GAMEstage1!D12","v":0},{"$f":"GAMEstage1!E12","v":0},{"$f":"GAMEstage1!F12","v":0},{"$f":"GAMEstage1!G12","v":0},{"$f":"GAMEstage1!H12","v":0},{"$f":"GAMEstage1!I12","v":0},{"$f":"GAMEstage1!J12","v":0},{"$f":"GAMEstage1!K12","v":0},{"$f":"GAMEstage1!L12","v":0},{"$f":"GAMEstage1!M12","v":0},{"$f":"GAMEstage1!N12","v":0},{"$f":"GAMEstage1!O12","v":0},{"$f":"GAMEstage1!P12","v":0},0,0,0,0,0,0,0,0,0,0,0,0,0,0,0,{"$nulls":10},0,0,0,0,0,0,0,0,0,0,0,0,0,0,0,0,0,0,0,0,0,0,0,0,0,0,0,0,0,0]
[null,{"$f":"GAMEstage1!B13","v":0},{"$f":"GAMEstage1!C13","v":0},{"$f":"GAMEstage1!D13","v":0},{"$f":"GAMEstage1!E13","v":0},{"$f":"GAMEstage1!F13","v":0},{"$f":"GAMEstage1!G13","v":0},{"$f":"GAMEstage1!H13","v":0},{"$f":"GAMEstage1!I13","v":0},{"$f":"GAMEstage1!J13","v":0},{"$f":"GAMEstage1!K13","v":0},{"$f":"GAMEstage1!L13","v":0},{"$f":"GAMEstage1!M13","v":0},{"$f":"GAMEstage1!N13","v":0},{"$f":"GAMEstage1!O13","v":0},{"$f":"GAMEstage1!P13","v":0},0,0,0,0,0,0,0,0,0,0,0,0,0,0,0,{"$nulls":10},0,0,0,0,0,0,0,0,0,0,0,0,0,0,0,0,0,0,0,0,0,0,0,0,0,0,0,0,0,0]
[null,{"$f":"GAMEstage1!B14","v":0},{"$f":"GAMEstage1!C14","v":0},{"$f":"GAMEstage1!D14","v":0},{"$f":"GAMEstage1!E14","v":0},{"$f":"GAMEstage1!F14","v":0},{"$f":"GAMEstage1!G14","v":0},{"$f":"GAMEstage1!H14","v":0},{"$f":"GAMEstage1!I14","v":0},{"$f":"GAMEstage1!J14","v":0},{"$f":"GAMEstage1!K14","v":0},{"$f":"GAMEstage1!L14","v":0},{"$f":"GAMEstage1!M14","v":0},{"$f":"GAMEstage1!N14","v":0},{"$f":"GAMEstage1!O14","v":0},{"$f":"GAMEstage1!P14","v":0},0,0,0,0,0,0,0,0,0,0,0,0,0,0,0,{"$nulls":10},0,0,0,0,0,0,0,0,0,0,0,0,0,0,0,0,0,0,0,0,0,0,0,0,0,0,0,0,0,0]
[null,{"$f":"GAMEstage1!B15","v":0},{"$f":"GAMEstage1!C15","v":0},{"$f":"GAMEstage1!D15","v":0},{"$f":"GAMEstage1!E15","v":0},{"$f":"GAMEstage1!F15","v":0},{"$f":"GAMEstage1!G15","v":0},{"$f":"GAMEstage1!H15","v":0},{"$f":"GAMEstage1!I15","v":0},{"$f":"GAMEstage1!J15","v":0},{"$f":"GAMEstage1!K15","v":0},{"$f":"GAMEstage1!L15","v":0},{"$f":"GAMEstage1!M15","v":0},{"$f":"GAMEstage1!N15","v":0},{"$f":"GAMEstage1!O15","v":0},{"$f":"GAMEstage1!P15","v":0},0,0,0,0,0,0,0,0,0,0,0,0,0,0,0,{"$nulls":10},0,0,0,0,0,0,0,0,0,0,0,0,0,0,0,0,0,0,0,0,0,0,0,0,0,0,0,0,0,0]
[null,{"$f":"GAMEstage1!B16","v":0},{"$f":"GAMEstage1!C16","v":0},{"$f":"GAMEstage1!D16","v":0},{"$f":"GAMEstage1!E16","v":0},{"$f":"GAMEstage1!F16","v":0},{"$f":"GAMEstage1!G16","v":0},{"$f":"GAMEstage1!H16","v":0},{"$f":"GAMEstage1!I16","v":0},{"$f":"GAMEstage1!J16","v":0},{"$f":"GAMEstage1!K16","v":0},{"$f":"GAMEstage1!L16","v":0},{"$f":"GAMEstage1!M16","v":0},{"$f":"GAMEstage1!N16","v":0},{"$f":"GAMEstage1!O16","v":0},{"$f":"GAMEstage1!P16","v":0},0,0,0,0,0,0,0,0,0,0,0,0,0,0,0,{"$nulls":10},0,0,0,0,0,0,0,0,0,0,0,0,0,0,0,0,0,0,0,0,0,0,0,0,0,0,0,0,0,0]
[null,{"$f":"GAMEstage1!B17","v":0},{"$f":"GAMEstage1!C17","v":0},{"$f":"GAMEstage1!D17","v":0},{"$f":"GAMEstage1!E17","v":0},{"$f":"GAMEstage1!F17","v":0},{"$f":"GAMEstage1!G17","v":0},{"$f":"GAMEstage1!H17","v":0},{"$f":"GAMEstage1!I17","v":0},{"$f":"GAMEstage1!J17","v":0},{"$f":"GAMEstage1!K17","v":0},{"$f":"GAMEstage1!L17","v":0},{"$f":"GAMEstage1!M17","v":0},{"$f":"GAMEstage1!N17","v":0},{"$f":"GAMEstage1!O17","v":0},{"$f":"GAMEstage1!P17","v":0},0,0,0,0,0,0,0,0,0,0,0,0,0,0,0,{"$nulls":10},0,0,0,0,0,0,0,0,0,0,0,0,0,0,0,0,0,0,0,0,0,0,0,0,0,0,0,0,0,0]
[null,{"$f":"GAMEstage1!B18","v":0},{"$f":"GAMEstage1!C18","v":0},{"$f":"GAMEstage1!D18","v":0},{"$f":"GAMEstage1!E18","v":0},{"$f":"GAMEstage1!F18","v":0},{"$f":"GAMEstage1!G18","v":0},{"$f":"GAMEstage1!H18","v":0},{"$f":"GAMEstage1!I18","v":0},{"$f":"GAMEstage1!J18","v":0},{"$f":"GAMEstage1!K18","v":0},{"$f":"GAMEstage1!L18","v":0},{"$f":"GAMEstage1!M18","v":0},{"$f":"GAMEstage1!N18","v":0},{"$f":"GAMEstage1!O18","v":0},{"$f":"GAMEstage1!P18","v":0},0,0,0,0,0,0,0,0,0,0,0,0,0,0,0,{"$nulls":10},0,0,0,0,0,0,0,0,0,0,0,0,0,0,0,0,0,0,0,0,0,0,0,0,0,0,0,0,0,0]
[null,{"$f":"GAMEstage1!B19","v":0},{"$f":"GAMEstage1!C19","v":0},{"$f":"GAMEstage1!D19","v":0},{"$f":"GAMEstage1!E19","v":0},{"$f":"GAMEstage1!F19","v":0},{"$f":"GAMEstage1!G19","v":0},{"$f":"GAMEstage1!H19","v":0},{"$f":"GAMEstage1!I19","v":0},{"$f":"GAMEstage1!J19","v":0},{"$f":"GAMEstage1!K19","v":0},{"$f":"GAMEstage1!L19","v":0},{"$f":"GAMEstage1!M19","v":0},{"$f":"GAMEstage1!N19","v":0},{"$f":"GAMEstage1!O19","v":0},{"$f":"GAMEstage1!P19","v":0},0,0,0,0,0,0,0,0,0,0,0,0,0,0,0,{"$nulls":10},0,0,0,0,0,0,0,0,0,0,0,0,0,0,0,0,0,0,0,0,0,0,0,0,0,0,0,0,0,0]
[null,{"$f":"GAMEstage1!B20","v":0},{"$f":"GAMEstage1!C20","v":0},{"$f":"GAMEstage1!D20","v":0},{"$f":"GAMEstage1!E20","v":0},{"$f":"GAMEstage1!F20","v":0},{"$f":"GAMEstage1!G20","v":0},{"$f":"GAMEstage1!H20","v":0},{"$f":"GAMEstage1!I20","v":0},{"$f":"GAMEstage1!J20","v":0},{"$f":"GAMEstage1!K20","v":0},{"$f":"GAMEstage1!L20","v":0},{"$f":"GAMEstage1!M20","v":0},{"$f":"GAMEstage1!N20","v":0},{"$f":"GAMEstage1!O20","v":0},{"$f":"GAMEstage1!P20","v":0},0,0,0,0,0,0,0,0,0,0,0,0,0,0,0,{"$nulls":10},0,0,0,0,0,0,0,0,0,0,0,0,0,0,0,0,0,0,0,0,0,0,0,0,0,0,0,0,0,0]
[null,{"$f":"GAMEstage1!B21","v":0},{"$f":"GAMEstage1!C21","v":0},{"$f":"GAMEstage1!D21","v":0},{"$f":"GAMEstage1!E21","v":0},{"$f":"GAMEstage1!F21","v":0},{"$f":"GAMEstage1!G21","v":0},{"$f":"GAMEstage1!H21","v":0},{"$f":"GAMEstage1!I21","v":0},{"$f":"GAMEstage1!J21","v":0},{"$f":"GAMEstage1!K21","v":0},{"$f":"GAMEstage1!L21","v":0},{"$f":"GAMEstage1!M21","v":0},{"$f":"GAMEstage1!N21","v":0},{"$f":"GAMEstage1!O21","v":0},{"$f":"GAMEstage1!P21","v":0},0,0,0,0,0,0,0,0,0,0,0,0,0,0,0,{"$nulls":10},0,0,0,0,0,0,0,0,0,0,0,0,0,0,0,0,0,0,0,0,0,0,0,0,0,0,0,0,0,0]
[null,{"$f":"GAMEstage1!B22","v":0},{"$f":"GAMEstage1!C22","v":0},{"$f":"GAMEstage1!D22","v":0},{"$f":"GAMEstage1!E22","v":0},{"$f":"GAMEstage1!F22","v":0},{"$f":"GAMEstage1!G22","v":0},{"$f":"GAMEstage1!H22","v":0},{"$f":"GAMEstage1!I22","v":0},{"$f":"GAMEstage1!J22","v":0},{"$f":"GAMEstage1!K22","v":0},{"$f":"GAMEstage1!L22","v":0},{"$f":"GAMEstage1!M22","v":0},{"$f":"GAMEstage1!N22","v":0},{"$f":"GAMEstage1!O22","v":0},{"$f":"GAMEstage1!P22","v":0},0,0,0,0,0,0,0,0,0,0,0,0,0,0,0,{"$nulls":10},0,0,0,0,0,0,0,0,0,0,0,0,0,0,0,0,0,0,0,0,0,0,0,0,0,0,0,0,0,0]
[null,{"$f":"GAMEstage1!B23","v":0},{"$f":"GAMEstage1!C23","v":0},{"$f":"GAMEstage1!D23","v":0},{"$f":"GAMEstage1!E23","v":0},{"$f":"GAMEstage1!F23","v":0},{"$f":"GAMEstage1!G23","v":0},{"$f":"GAMEstage1!H23","v":0},{"$f":"GAMEstage1!I23","v":0},{"$f":"GAMEstage1!J23","v":0},{"$f":"GAMEstage1!K23","v":0},{"$f":"GAMEstage1!L23","v":0},{"$f":"GAMEstage1!M23","v":0},{"$f":"GAMEstage1!N23","v":0},{"$f":"GAMEstage1!O23","v":0},{"$f":"GAMEstage1!P23","v":0},0,0,0,0,0,0,0,0,0,0,0,0,0,0,0,{"$nulls":10},0,0,0,0,0,0,0,0,0,0,0,0,0,0,0,0,0,0,0,0,0,0,0,0,0,0,0,0,0,0]
[null,{"$f":"GAMEstage1!B24","v":0},{"$f":"GAMEstage1!C24","v":0},{"$f":"GAMEstage1!D24","v":0},{"$f":"GAMEstage1!E24","v":0},{"$f":"GAMEstage1!F24","v":0},{"$f":"GAMEstage1!G24","v":0},{"$f":"GAMEstage1!H24","v":0},{"$f":"GAMEstage1!I24","v":0},{"$f":"GAMEstage1!J24","v":0},{"$f":"GAMEstage1!K24","v":0},{"$f":"GAMEstage1!L24","v":0},{"$f":"GAMEstage1!M24","v":0},{"$f":"GAMEstage1!N24","v":0},{"$f":"GAMEstage1!O24","v":0},{"$f":"GAMEstage1!P24","v":0},0,0,0,0,0,0,0,0,0,0,0,0,0,0,0,{"$nulls":10},0,0,0,0,0,0,0,0,0,0,0,0,0,0,0,0,0,0,0,0,0,0,0,0,0,0,0,0,0,0]
[null,{"$f":"GAMEstage1!B25","v":0},{"$f":"GAMEstage1!C25","v":0},{"$f":"GAMEstage1!D25","v":0},{"$f":"GAMEstage1!E25","v":0},{"$f":"GAMEstage1!F25","v":0},{"$f":"GAMEstage1!G25","v":0},{"$f":"GAMEstage1!H25","v":0},{"$f":"GAMEstage1!I25","v":0},{"$f":"GAMEstage1!J25","v":0},{"$f":"GAMEstage1!K25","v":0},{"$f":"GAMEstage1!L25","v":0},{"$f":"GAMEstage1!M25","v":0},{"$f":"GAMEstage1!N25","v":0},{"$f":"GAMEstage1!O25","v":0},{"$f":"GAMEstage1!P25","v":0},0,0,0,0,0,0,0,0,0,0,0,0,0,0,0,{"$nulls":10},0,0,0,0,0,0,0,0,0,0,0,0,0,0,0,0,0,0,0,0,0,0,0,0,0,0,0,0,0,0]
[null,{"$f":"GAMEstage1!B26","v":0},{"$f":"GAMEstage1!C26","v":0},{"$f":"GAMEstage1!D26","v":0},{"$f":"GAMEstage1!E26","v":0},{"$f":"GAMEstage1!F26","v":0},{"$f":"GAMEstage1!G26","v":0},{"$f":"GAMEstage1!H26","v":0},{"$f":"GAMEstage1!I26","v":0},{"$f":"GAMEstage1!J26","v":0},{"$f":"GAMEstage1!K26","v":0},{"$f":"GAMEstage1!L26","v":0},{"$f":"GAMEstage1!M26","v":0},{"$f":"GAMEstage1!N26","v":0},{"$f":"GAMEstage1!O26","v":0},{"$f":"GAMEstage1!P26","v":0},0,0,0,0,0,0,0,0,0,0,0,0,0,0,0,{"$nulls":10},0,0,0,0,0,0,0,0,0,0,0,0,0,0,0,0,0,0,0,0,0,0,0,0,0,0,0,0,0,0]
[null,{"$f":"GAMEstage1!B27","v":0},{"$f":"GAMEstage1!C27","v":0},{"$f":"GAMEstage1!D27","v":0},{"$f":"GAMEstage1!E27","v":0},{"$f":"GAMEstage1!F27","v":0},{"$f":"GAMEstage1!G27","v":0},{"$f":"GAMEstage1!H27","v":0},{"$f":"GAMEstage1!I27","v":0},{"$f":"GAMEstage1!J27","v":0},{"$f":"GAMEstage1!K27","v":0},{"$f":"GAMEstage1!L27","v":0},{"$f":"GAMEstage1!M27","v":0},{"$f":"GAMEstage1!N27","v":0},{"$f":"GAMEstage1!O27","v":0},{"$f":"GAMEstage1!P27","v":0},0,0,0,0,0,0,0,0,0,0,0,0,0,0,0,{"$nulls":10},0,0,0,0,0,0,0,0,0,0,0,0,0,0,0,0,0,0,0,0,0,0,0,0,0,0,0,0,0,0]
[null,{"$f":"GAMEstage1!B28","v":0},{"$f":"GAMEstage1!C28","v":0},{"$f":"GAMEstage1!D28","v":0},{"$f":"GAMEstage1!E28","v":0},{"$f":"GAMEstage1!F28","v":0},{"$f":"GAMEstage1!G28","v":0},{"$f":"GAMEstage1!H28","v":0},{"$f":"GAMEstage1!I28","v":0},{"$f":"GAMEstage1!J28","v":0},{"$f":"GAMEstage1!K28","v":0},{"$f":"GAMEstage1!L28","v":0},{"$f":"GAMEstage1!M28","v":0},{"$f":"GAMEstage1!N28","v":0},{"$f":"GAMEstage1!O28","v":0},{"$f":"GAMEstage1!P28","v":0},0,0,0,0,0,0,0,0,0,0,0,0,0,0,0,{"$nulls":10},0,0,0,0,0,0,0,0,0,0,0,0,0,0,0,0,0,0,0,0,0,0,0,0,0,0,0,0,0,0]
[null,{"$f":"GAMEstage1!B29","v":0},{"$f":"GAMEstage1!C29","v":0},{"$f":"GAMEstage1!D29","v":0},{"$f":"GAMEstage1!E29","v":0},{"$f":"GAMEstage1!F29","v":0},{"$f":"GAMEstage1!G29","v":0},{"$f":"GAMEstage1!H29","v":0},{"$f":"GAMEstage1!I29","v":0},{"$f":"GAMEstage1!J29","v":0},{"$f":"GAMEstage1!K29","v":0},{"$f":"GAMEstage1!L29","v":0},{"$f":"GAMEstage1!M29","v":0},{"$f":"GAMEstage1!N29","v":0},{"$f":"GAMEstage1!O29","v":0},{"$f":"GAMEstage1!P29","v":0},0,0,0,0,0,0,0,0,0,0,0,0,0,0,0,{"$nulls":10},0,0,0,0,0,0,0,0,0,0,0,0,0,0,0,0,0,0,0,0,0,0,0,0,0,0,0,0,0,0]
[null,{"$f":"GAMEstage1!B30","v":0},{"$f":"GAMEstage1!C30","v":0},{"$f":"GAMEstage1!D30","v":0},{"$f":"GAMEstage1!E30","v":0},{"$f":"GAMEstage1!F30","v":0},{"$f":"GAMEstage1!G30","v":0},{"$f":"GAMEstage1!H30","v":0},{"$f":"GAMEstage1!I30","v":0},{"$f":"GAMEstage1!J30","v":0},{"$f":"GAMEstage1!K30","v":0},{"$f":"GAMEstage1!L30","v":0},{"$f":"GAMEstage1!M30","v":0},{"$f":"GAMEstage1!N30","v":0},{"$f":"GAMEstage1!O30","v":0},{"$f":"GAMEstage1!P30","v":0},0,0,0,0,0,0,0,0,0,0,0,0,0,0,0,{"$nulls":10},0,0,0,0,0,0,0,0,0,0,0,0,0,0,0,0,0,0,0,0,0,0,0,0,0,0,0,0,0,0]
[null,{"$f":"GAMEstage1!B31","v":0},{"$f":"GAMEstage1!C31","v":0},{"$f":"GAMEstage1!D31","v":0},{"$f":"GAMEstage1!E31","v":0},{"$f":"GAMEstage1!F31","v":0},{"$f":"GAMEstage1!G31","v":0},{"$f":"GAMEstage1!H31","v":0},{"$f":"GAMEstage1!I31","v":0},{"$f":"GAMEstage1!J31","v":0},{"$f":"GAMEstage1!K31","v":0},{"$f":"GAMEstage1!L31","v":0},{"$f":"GAMEstage1!M31","v":0},{"$f":"GAMEstage1!N31","v":0},{"$f":"GAMEstage1!O31","v":0},{"$f":"GAMEstage1!P31","v":0},0,0,0,0,0,0,0,0,0,0,0,0,0,0,0,{"$nulls":10},0,0,0,0,0,0,0,0,0,0,0,0,0,0,0,0,0,0,0,0,0,0,0,0,0,0,0,0,0,0]
[]
[null,{"$f":"IF(Q1=Q32,1,0)","v":1},{"$f":"IF(R1=R32,1,0)","v":1},1,1,1,1,1,1,1,1,1,1,{"$f":"IF(AC1=AC32,1,0)","v":1},1,1,{"$f":"GAMEstage1!Q2","v":0},{"$f":"GAMEstage1!R2","v":0},{"$f":"GAMEstage1!S2","v":0},{"$f":"GAMEstage1!T2","v":0},{"$f":"GAMEstage1!U2","v":0},{"$f":"GAMEstage1!V2","v":0},{"$f":"GAMEstage1!W2","v":0},{"$f":"GAMEstage1!X2","v":0},{"$f":"GAMEstage1!Y2","v":0},{"$f":"GAMEstage1!Z2","v":0},{"$f":"GAMEstage1!AA2","v":0},{"$f":"GAMEstage1!AB2","v":0},{"$f":"GAMEstage1!AC2","v":0},{"$f":"GAMEstage1!AD2","v":0},{"$f":"GAMEstage1!AE2","v":0}]
[null,1,1,1,1,1,1,1,1,1,1,1,1,1,1,1,{"$f":"GAMEstage1!Q3","v":0},{"$f":"GAMEstage1!R3","v":0},{"$f":"GAMEstage1!S3","v":0},{"$f":"GAMEstage1!T3","v":0},{"$f":"GAMEstage1!U3","v":0},{"$f":"GAMEstage1!V3","v":0},{"$f":"GAMEstage1!W3","v":0},{"$f":"GAMEstage1!X3","v":0},{"$f":"GAMEstage1!Y3","v":0},{"$f":"GAMEstage1!Z3","v":0},{"$f":"GAMEstage1!AA3","v":0},{"$f":"GAMEstage1!AB3","v":0},{"$f":"GAMEstage1!AC3","v":0},{"$f":"GAMEstage1!AD3","v":0},{"$f":"GAMEstage1!AE3","v":0}]
[null,1,1,1,1,1,1,1,1,1,1,1,1,1,1,1,{"$f":"GAMEstage1!Q4","v":0},{"$f":"GAMEstage1!R4","v":0},{"$f":"GAMEstage1!S4","v":0},{"$f":"GAMEstage1!T4","v":0},{"$f":"GAMEstage1!U4","v":0},{"$f":"GAMEstage1!V4","v":0},{"$f":"GAMEstage1!W4","v":0},{"$f":"GAMEstage1!X4","v":0},{"$f":"GAMEstage1!Y4","v":0},{"$f":"GAMEstage1!Z4","v":0},{"$f":"GAMEstage1!AA4","v":0},{"$f":"GAMEstage1!AB4","v":0},{"$f":"GAMEstage1!AC4","v":0},{"$f":"GAMEstage1!AD4","v":0},{"$f":"GAMEstage1!AE4","v":0}]
[null,1,1,1,1,1,1,1,1,1,1,1,1,1,1,1,{"$f":"GAMEstage1!Q5","v":0},{"$f":"GAMEstage1!R5","v":0},{"$f":"GAMEstage1!S5","v":0},{"$f":"GAMEstage1!T5","v":0},{"$f":"GAMEstage1!U5","v":0},{"$f":"GAMEstage1!V5","v":0},{"$f":"GAMEstage1!W5","v":0},{"$f":"GAMEstage1!X5","v":0},{"$f":"GAMEstage1!Y5","v":0},{"$f":"GAMEstage1!Z5","v":0},{"$f":"GAMEstage1!AA5","v":0},{"$f":"GAMEstage1!AB5","v":0},{"$f":"GAMEstage1!AC5","v":0},{"$f":"GAMEstage1!AD5","v":0},{"$f":"GAMEstage1!AE5","v":0}]
[null,1,1,1,1,1,1,1,1,1,1,1,1,1,1,1,{"$f":"GAMEstage1!Q6","v":0},{"$f":"GAMEstage1!R6","v":0},{"$f":"GAMEstage1!S6","v":0},{"$f":"GAMEstage1!T6","v":0},{"$f":"GAMEstage1!U6","v":0},{"$f":"GAMEstage1!V6","v":0},{"$f":"GAMEstage1!W6","v":0},{"$f":"GAMEstage1!X6","v":0},{"$f":"GAMEstage1!Y6","v":0},{"$f":"GAMEstage1!Z6","v":0},{"$f":"GAMEstage1!AA6","v":0},{"$f":"GAMEstage1!AB6","v":0},{"$f":"GAMEstage1!AC6","v":0},{"$f":"GAMEstage1!AD6","v":0},{"$f":"GAMEstage1!AE6","v":0}]
[null,1,1,1,1,1,1,1,1,1,1,1,1,1,1,1,{"$f":"GAMEstage1!Q7","v":0},{"$f":"GAMEstage1!R7","v":0},{"$f":"GAMEstage1!S7","v":0},{"$f":"GAMEstage1!T7","v":0},{"$f":"GAMEstage1!U7","v":0},{"$f":"GAMEstage1!V7","v":0},{"$f":"GAMEstage1!W7","v":0},{"$f":"GAMEstage1!X7","v":0},{"$f":"GAMEstage1!Y7","v":0},{"$f":"GAMEstage1!Z7","v":0},{"$f":"GAMEstage1!AA7","v":0},{"$f":"GAMEstage1!AB7","v":0},{"$f":"GAMEstage1!AC7","v":0},{"$f":"GAMEstage1!AD7","v":0},{"$f":"GAMEstage1!AE7","v":0}]
[null,1,1,1,1,1,1,1,1,1,1,1,1,1,1,1,{"$f":"GAMEstage1!Q8","v":0},{"$f":"GAMEstage1!R8","v":0},{"$f":"GAMEstage1!S8","v":0},{"$f":"GAMEstage1!T8","v":0},{"$f":"GAMEstage1!U8","v":0},{"$f":"GAMEstage1!V8","v":0},{"$f":"GAMEstage1!W8","v":0},{"$f":"GAMEstage1!X8","v":0},{"$f":"GAMEstage1!Y8","v":0},{"$f":"GAMEstage1!Z8","v":0},{"$f":"GAMEstage1!AA8","v":0},{"$f":"GAMEstage1!AB8","v":0},{"$f":"GAMEstage1!AC8","v":0},{"$f":"GAMEstage1!AD8","v":0},{"$f":"GAMEstage1!AE8","v":0}]
[null,1,1,1,1,1,1,1,1,1,1,1,1,1,1,1,{"$f":"GAMEstage1!Q9","v":0},{"$f":"GAMEstage1!R9","v":0},{"$f":"GAMEstage1!S9","v":0},{"$f":"GAMEstage1!T9","v":0},{"$f":"GAMEstage1!U9","v":0},{"$f":"GAMEstage1!V9","v":0},{"$f":"GAMEstage1!W9","v":0},{"$f":"GAMEstage1!X9","v":0},{"$f":"GAMEstage1!Y9","v":0},{"$f":"GAMEstage1!Z9","v":0},{"$f":"GAMEstage1!AA9","v":0},{"$f":"GAMEstage1!AB9","v":0},{"$f":"GAMEstage1!AC9","v":0},{"$f":"GAMEstage1!AD9","v":0},{"$f":"GAMEstage1!AE9","v":0}]
[null,1,1,1,1,1,1,1,1,1,1,1,1,1,1,1,{"$f":"GAMEstage1!Q10","v":0},{"$f":"GAMEstage1!R10","v":0},{"$f":"GAMEstage1!S10","v":0},{"$f":"GAMEstage1!T10","v":0},{"$f":"GAMEstage1!U10","v":0},{"$f":"GAMEstage1!V10","v":0},{"$f":"GAMEstage1!W10","v":0},{"$f":"GAMEstage1!X10","v":0},{"$f":"GAMEstage1!Y10","v":0},{"$f":"GAMEstage1!Z10","v":0},{"$f":"GAMEstage1!AA10","v":0},{"$f":"GAMEstage1!AB10","v":0},{"$f":"GAMEstage1!AC10","v":0},{"$f":"GAMEstage1!AD10","v":0},{"$f":"GAMEstage1!AE10","v":0}]
[null,1,1,1,1,1,1,1,1,1,1,1,1,1,1,1,{"$f":"GAMEstage1!Q11","v":0},{"$f":"GAMEstage1!R11","v":0},{"$f":"GAMEstage1!S11","v":0},{"$f":"GAMEstage1!T11","v":0},{"$f":"GAMEstage1!U11","v":0},{"$f":"GAMEstage1!V11","v":0},{"$f":"GAMEstage1!W11","v":0},{"$f":"GAMEstage1!X11","v":0},{"$f":"GAMEstage1!Y11","v":0},{"$f":"GAMEstage1!Z11","v":0},{"$f":"GAMEstage1!AA11","v":0},{"$f":"GAMEstage1!AB11","v":0},{"$f":"GAMEstage1!AC11","v":0},{"$f":"GAMEstage1!AD11","v":0},{"$f":"GAMEstage1!AE11","v":0}]
[null,1,1,1,1,1,1,1,1,1,1,1,1,1,1,1,{"$f":"GAMEstage1!Q12","v":0},{"$f":"GAMEstage1!R12","v":0},{"$f":"GAMEstage1!S12","v":0},{"$f":"GAMEstage1!T12","v":0},{"$f":"GAMEstage1!U12","v":0},{"$f":"GAMEstage1!V12","v":0},{"$f":"GAMEstage1!W12","v":0},{"$f":"GAMEstage1!X12","v":0},{"$f":"GAMEstage1!Y12","v":0},{"$f":"GAMEstage1!Z12","v":0},{"$f":"GAMEstage1!AA12","v":0},{"$f":"GAMEstage1!AB12","v":0},{"$f":"GAMEstage1!AC12","v":0},{"$f":"GAMEstage1!AD12","v":0},{"$f":"GAMEstage1!AE12","v":0}]
[null,1,1,1,1,1,1,1,1,1,1,1,1,1,1,1,{"$f":"GAMEstage1!Q13","v":0},{"$f":"GAMEstage1!R13","v":0},{"$f":"GAMEstage1!S13","v":0},{"$f":"GAMEstage1!T13","v":0},{"$f":"GAMEstage1!U13","v":0},{"$f":"GAMEstage1!V13","v":0},{"$f":"GAMEstage1!W13","v":0},{"$f":"GAMEstage1!X13","v":0},{"$f":"GAMEstage1!Y13","v":0},{"$f":"GAMEstage1!Z13","v":0},{"$f":"GAMEstage1!AA13","v":0},{"$f":"GAMEstage1!AB13","v":0},{"$f":"GAMEstage1!AC13","v":0},{"$f":"GAMEstage1!AD13","v":0},{"$f":"GAMEstage1!AE13","v":0}]
[null,1,1,1,1,1,1,1,1,1,1,1,1,1,1,1,{"$f":"GAMEstage1!Q14","v":0},{"$f":"GAMEstage1!R14","v":0},{"$f":"GAMEstage1!S14","v":0},{"$f":"GAMEstage1!T14","v":0},{"$f":"GAMEstage1!U14","v":0},{"$f":"GAMEstage1!V14","v":0},{"$f":"GAMEstage1!W14","v":0},{"$f":"GAMEstage1!X14","v":0},{"$f":"GAMEstage1!Y14","v":0},{"$f":"GAMEstage1!Z14","v":0},{"$f":"GAMEstage1!AA14","v":0},{"$f":"GAMEstage1!AB14","v":0},{"$f":"GAMEstage1!AC14","v":0},{"$f":"GAMEstage1!AD14","v":0},{"$f":"GAMEstage1!AE14","v":0}]
[null,1,1,1,1,1,1,1,1,1,1,1,1,1,1,1,{"$f":"GAMEstage1!Q15","v":0},{"$f":"GAMEstage1!R15","v":0},{"$f":"GAMEstage1!S15","v":0},{"$f":"GAMEstage1!T15","v":0},{"$f":"GAMEstage1!U15","v":0},{"$f":"GAMEstage1!V15","v":0},{"$f":"GAMEstage1!W15","v":0},{"$f":"GAMEstage1!X15","v":0},{"$f":"GAMEstage1!Y15","v":0},{"$f":"GAMEstage1!Z15","v":0},{"$f":"GAMEstage1!AA15","v":0},{"$f":"GAMEstage1!AB15","v":0},{"$f":"GAMEstage1!AC15","v":0},{"$f":"GAMEstage1!AD15","v":0},{"$f":"GAMEstage1!AE15","v":0}]
[null,1,1,1,1,1,1,1,1,1,1,1,1,1,1,1,{"$f":"GAMEstage1!Q16","v":0},{"$f":"GAMEstage1!R16","v":0},{"$f":"GAMEstage1!S16","v":0},{"$f":"GAMEstage1!T16","v":0},{"$f":"GAMEstage1!U16","v":0},{"$f":"GAMEstage1!V16","v":0},{"$f":"GAMEstage1!W16","v":0},{"$f":"GAMEstage1!X16","v":0},{"$f":"GAMEstage1!Y16","v":0},{"$f":"GAMEstage1!Z16","v":0},{"$f":"GAMEstage1!AA16","v":0},{"$f":"GAMEstage1!AB16","v":0},{"$f":"GAMEstage1!AC16","v":0},{"$f":"GAMEstage1!AD16","v":0},{"$f":"GAMEstage1!AE16","v":0}]
[null,1,1,1,1,1,1,1,1,1,1,1,1,1,1,1,{"$f":"GAMEstage1!Q17","v":0},{"$f":"GAMEstage1!R17","v":0},{"$f":"GAMEstage1!S17","v":0},{"$f":"GAMEstage1!T17","v":0},{"$f":"GAMEstage1!U17","v":0},{"$f":"GAMEstage1!V17","v":0},{"$f":"GAMEstage1!W17","v":0},{"$f":"GAMEstage1!X17","v":0},{"$f":"GAMEstage1!Y17","v":0},{"$f":"GAMEstage1!Z17","v":0},{"$f":"GAMEstage1!AA17","v":0},{"$f":"GAMEstage1!AB17","v":0},{"$f":"GAMEstage1!AC17","v":0},{"$f":"GAMEstage1!AD17","v":0},{"$f":"GAMEstage1!AE17","v":0}]
[null,1,{"$f":"IF(R17=R48,1,0)","v":1},1,1,1,1,1,1,1,1,1,1,1,1,1,{"$f":"GAMEstage1!Q18","v":0},{"$f":"GAMEstage1!R18","v":0},{"$f":"GAMEstage1!S18","v":0},{"$f":"GAMEstage1!T18","v":0},{"$f":"GAMEstage1!U18","v":0},{"$f":"GAMEstage1!V18","v":0},{"$f":"GAMEstage1!W18","v":0},{"$f":"GAMEstage1!X18","v":0},{"$f":"GAMEstage1!Y18","v":0},{"$f":"GAMEstage1!Z18","v":0},{"$f":"GAMEstage1!AA18","v":0},{"$f":"GAMEstage1!AB18","v":0},{"$f":"GAMEstage1!AC18","v":0},{"$f":"GAMEstage1!AD18","v":0},{"$f":"GAMEstage1!AE18","v":0}]
[null,{"$f":"IF(Q18=Q49,1,0)","v":1},1,1,1,1,1,1,1,1,1,1,1,1,1,1,{"$f":"GAMEstage1!Q19","v":0},{"$f":"GAMEstage1!R19","v":0},{"$f":"GAMEstage1!S19","v":0},{"$f":"GAMEstage1!T19","v":0},{"$f":"GAMEstage1!U19","v":0},{"$f":"GAMEstage1!V19","v":0},{"$f":"GAMEstage1!W19","v":0},{"$f":"GAMEstage1!X19","v":0},{"$f":"GAMEstage1!Y19","v":0},{"$f":"GAMEstage1!Z19","v":0},{"$f":"GAMEstage1!AA19","v":0},{"$f":"GAMEstage1!AB19","v":0},{"$f":"GAMEstage1!AC19","v":0},{"$f":"GAMEstage1!AD19","v":0},{"$f":"GAMEstage1!AE19","v":0}]
[null,1,1,1,1,1,1,1,1,1,1,1,1,1,1,1,{"$f":"GAMEstage1!Q20","v":0},{"$f":"GAMEstage1!R20","v":0},{"$f":"GAMEstage1!S20","v":0},{"$f":"GAMEstage1!T20","v":0},{"$f":"GAMEstage1!U20","v":0},{"$f":"GAMEstage1!V20","v":0},{"$f":"GAMEstage1!W20","v":0},{"$f":"GAMEstage1!X20","v":0},{"$f":"GAMEstage1!Y20","v":0},{"$f":"GAMEstage1!Z20","v":0},{"$f":"GAMEstage1!AA20","v":0},{"$f":"GAMEstage1!AB20","v":0},{"$f":"GAMEstage1!AC20","v":0},{"$f":"GAMEstage1!AD20","v":0},{"$f":"GAMEstage1!AE20","v":0}]
[null,1,1,1,1,1,1,1,1,1,1,1,1,1,1,1,{"$f":"GAMEstage1!Q21","v":0},{"$f":"GAMEstage1!R21","v":0},{"$f":"GAMEstage1!S21","v":0},{"$f":"GAMEstage1!T21","v":0},{"$f":"GAMEstage1!U21","v":0},{"$f":"GAMEstage1!V21","v":0},{"$f":"GAMEstage1!W21","v":0},{"$f":"GAMEstage1!X21","v":0},{"$f":"GAMEstage1!Y21","v":0},{"$f":"GAMEstage1!Z21","v":0},{"$f":"GAMEstage1!AA21","v":0},{"$f":"GAMEstage1!AB21","v":0},{"$f":"GAMEstage1!AC21","v":0},{"$f":"GAMEstage1!AD21","v":0},{"$f":"GAMEstage1!AE21","v":0}]
[null,1,1,1,1,1,1,1,1,1,1,1,1,1,1,1,{"$f":"GAMEstage1!Q22","v":0},{"$f":"GAMEstage1!R22","v":0},{"$f":"GAMEstage1!S22","v":0},{"$f":"GAMEstage1!T22","v":0},{"$f":"GAMEstage1!U22","v":0},{"$f":"GAMEstage1!V22","v":0},{"$f":"GAMEstage1!W22","v":0},{"$f":"GAMEstage1!X22","v":0},{"$f":"GAMEstage1!Y22","v":0},{"$f":"GAMEstage1!Z22","v":0},{"$f":"GAMEstage1!AA22","v":0},{"$f":"GAMEstage1!AB22","v":0},{"$f":"GAMEstage1!AC22","v":0},{"$f":"GAMEstage1!AD22","v":0},{"$f":"GAMEstage1!AE22","v":0}]
[null,1,1,1,1,1,1,1,1,1,1,1,1,1,1,1,{"$f":"GAMEstage1!Q23","v":0},{"$f":"GAMEstage1!R23","v":0},{"$f":"GAMEstage1!S23","v":0},{"$f":"GAMEstage1!T23","v":0},{"$f":"GAMEstage1!U23","v":0},{"$f":"GAMEstage1!V23","v":0},{"$f":"GAMEstage1!W23","v":0},{"$f":"GAMEstage1!X23","v":0},{"$f":"GAMEstage1!Y23","v":0},{"$f":"GAMEstage1!Z23","v":0},{"$f":"GAMEstage1!AA23","v":0},{"$f":"GAMEstage1!AB23","v":0},{"$f":"GAMEstage1!AC23","v":0},{"$f":"GAMEstage1!AD23","v":0},{"$f":"GAMEstage1!AE23","v":0}]
[null,1,1,1,1,1,1,1,1,1,1,1,1,1,1,1,{"$f":"GAMEstage1!Q24","v":0},{"$f":"GAMEstage1!R24","v":0},{"$f":"GAMEstage1!S24","v":0},{"$f":"GAMEstage1!T24","v":0},{"$f":"GAMEstage1!U24","v":0},{"$f":"GAMEstage1!V24","v":0},{"$f":"GAMEstage1!W24","v":0},{"$f":"GAMEstage1!X24","v":0},{"$f":"GAMEstage1!Y24","v":0},{"$f":"GAMEstage1!Z24","v":0},{"$f":"GAMEstage1!AA24","v":0},{"$f":"GAMEstage1!AB24","v":0},{"$f":"GAMEstage1!AC24","v":0},{"$f":"GAMEstage1!AD24","v":0},{"$f":"GAMEstage1!AE24","v":0}]
[null,1,1,1,1,1,1,1,1,1,1,1,1,1,1,1,{"$f":"GAMEstage1!Q25","v":0},{"$f":"GAMEstage1!R25","v":0},{"$f":"GAMEstage1!S25","v":0},{"$f":"GAMEstage1!T25","v":0},{"$f":"GAMEstage1!U25","v":0},{"$f":"GAMEstage1!V25","v":0},{"$f":"GAMEstage1!W25","v":0},{"$f":"GAMEstage1!X25","v":0},{"$f":"GAMEstage1!Y25","v":0},{"$f":"GAMEstage1!Z25","v":0},{"$f":"GAMEstage1!AA25","v":0},{"$f":"GAMEstage1!AB25","v":0},{"$f":"GAMEstage1!AC25","v":0},{"$f":"GAMEstage1!AD25","v":0},{"$f":"GAMEstage1!AE25","v":0}]
[null,1,1,1,1,1,1,1,1,1,1,1,1,1,1,1,{"$f":"GAMEstage1!Q26","v":0},{"$f":"GAMEstage1!R26","v":0},{"$f":"GAMEstage1!S26","v":0},{"$f":"GAMEstage1!T26","v":0},{"$f":"GAMEstage1!U26","v":0},{"$f":"GAMEstage1!V26","v":0},{"$f":"GAMEstage1!W26","v":0},{"$f":"GAMEstage1!X26","v":0},{"$f":"GAMEstage1!Y26","v":0},{"$f":"GAMEstage1!Z26","v":0},{"$f":"GAMEstage1!AA26","v":0},{"$f":"GAMEstage1!AB26","v":0},{"$f":"GAMEstage1!AC26","v":0},{"$f":"GAMEstage1!AD26","v":0},{"$f":"GAMEstage1!AE26","v":0}]
[null,1,1,1,1,1,1,1,1,1,1,1,1,1,1,1,{"$f":"GAMEstage1!Q27","v":0},{"$f":"GAMEstage1!R27","v":0},{"$f":"GAMEstage1!S27","v":0},{"$f":"GAMEstage1!T27","v":0},{"$f":"GAMEstage1!U27","v":0},{"$f":"GAMEstage1!V27","v":0},{"$f":"GAMEstage1!W27","v":0},{"$f":"GAMEstage1!X27","v":0},{"$f":"GAMEstage1!Y27","v":0},{"$f":"GAMEstage1!Z27","v":0},{"$f":"GAMEstage1!AA27","v":0},{"$f":"GAMEstage1!AB27","v":0},{"$f":"GAMEstage1!AC27","v":0},{"$f":"GAMEstage1!AD27","v":0},{"$f":"GAMEstage1!AE27","v":0}]
[null,1,1,1,1,1,1,1,1,1,1,1,1,1,1,1,{"$f":"GAMEstage1!Q28","v":0},{"$f":"GAMEstage1!R28","v":0},{"$f":"GAMEstage1!S28","v":0},{"$f":"GAMEstage1!T28","v":0},{"$f":"GAMEstage1!U28","v":0},{"$f":"GAMEstage1!V28","v":0},{"$f":"GAMEstage1!W28","v":0},{"$f":"GAMEstage1!X28","v":0},{"$f":"GAMEstage1!Y28","v":0},{"$f":"GAMEstage1!Z28","v":0},{"$f":"GAMEstage1!AA28","v":0},{"$f":"GAMEstage1!AB28","v":0},{"$f":"GAMEstage1!AC28","v":0},{"$f":"GAMEstage1!AD28","v":0},{"$f":"GAMEstage1!AE28","v":0}]
[null,1,1,1,1,1,1,1,1,1,1,1,1,1,1,1,{"$f":"GAMEstage1!Q29","v":0},{"$f":"GAMEstage1!R29","v":0},{"$f":"GAMEstage1!S29","v":0},{"$f":"GAMEstage1!T29","v":0},{"$f":"GAMEstage1!U29","v":0},{"$f":"GAMEstage1!V29","v":0},{"$f":"GAMEstage1!W29","v":0},{"$f":"GAMEstage1!X29","v":0},{"$f":"GAMEstage1!Y29","v":0},{"$f":"GAMEstage1!Z29","v":0},{"$f":"GAMEstage1!AA29","v":0},{"$f":"GAMEstage1!AB29","v":0},{"$f":"GAMEstage1!AC29","v":0},{"$f":"GAMEstage1!AD29","v":0},{"$f":"GAMEstage1!AE29","v":0}]
[null,1,1,1,1,1,1,1,1,1,1,1,1,1,1,1,{"$f":"GAMEstage1!Q30","v":0},{"$f":"GAMEstage1!R30","v":0},{"$f":"GAMEstage1!S30","v":0},{"$f":"GAMEstage1!T30","v":0},{"$f":"GAMEstage1!U30","v":0},{"$f":"GAMEstage1!V30","v":0},{"$f":"GAMEstage1!W30","v":0},{"$f":"GAMEstage1!X30","v":0},{"$f":"GAMEstage1!Y30","v":0},{"$f":"GAMEstage1!Z30","v":0},{"$f":"GAMEstage1!AA30","v":0},{"$f":"GAMEstage1!AB30","v":0},{"$f":"GAMEstage1!AC30","v":0},{"$f":"GAMEstage1!AD30","v":0},{"$f":"GAMEstage1!AE30","v":0}]
[null,1,1,1,1,1,1,1,1,1,1,1,1,1,1,1,{"$f":"GAMEstage1!Q31","v":0},{"$f":"GAMEstage1!R31","v":0},{"$f":"GAMEstage1!S31","v":0},{"$f":"GAMEstage1!T31","v":0},{"$f":"GAMEstage1!U31","v":0},{"$f":"GAMEstage1!V31","v":0},{"$f":"GAMEstage1!W31","v":0},{"$f":"GAMEstage1!X31","v":0},{"$f":"GAMEstage1!Y31","v":0},{"$f":"GAMEstage1!Z31","v":0},{"$f":"GAMEstage1!AA31","v":0},{"$f":"GAMEstage1!AB31","v":0},{"$f":"GAMEstage1!AC31","v":0},{"$f":"GAMEstage1!AD31","v":0},{"$f":"GAMEstage1!AE31","v":0}]
[]
[]
[]
[{"$nulls":6},{"$f":"SUM(B32:P61)","v":450}]

{"sheet":"GAMEtools","index":6,"n_rows":55,"n_cols":81,"rows_kept":55,"merged":[[1,31,3,36],[1,65,1,66],[1,67,1,68],[2,37,3,49],[4,32,5,33],[4,34,5,35],[4,65,4,66],[4,67,4,68],[4,74,4,76],[5,67,5,68],[6,32,7,33],[6,34,7,35],[6,65,6,66],[6,67,6,68],[6,74,6,77],[6,80,6,81],[7,67,7,68],[8,65,8,66],[8,67,8,68],[8,74,8,77],[8,80,8,81],[10,74,10,77],[10,80,10,81],[12,74,12,76],[13,37,14,49],[14,74,14,77],[14,80,14,81],[16,74,16,77],[16,80,16,81],[18,74,18,77],[18,80,18,81],[20,65,20,66],[20,67,20,68],[21,67,21,68],[22,65,22,66],[22,67,22,68],[22,74,22,77],[22,80,22,81],[23,67,23,68],[24,37,25,49],[24,65,24,66],[24,67,24,68],[32,1,32,7],[32,8,32,9],[32,12,32,16],[32,17,32,19],[32,22,32,27],[32,28,32,30],[32,65,32,66],[32,67,32,68],[33,65,33,66],[33,67,33,68],[34,1,34,7],[34,8,34,9],[34,12,34,16],[34,17,34,19],[34,65,34,66],[34,67,34,68],[35,65,35,66],[35,67,35,68],[36,38,38,50],[36,65,36,66],[36,67,36,68],[44,65,44,66],[44,67,44,68],[45,67,45,68],[46,65,46,66],[46,67,46,68],[47,67,47,68],[48,65,48,66],[48,67,48,68],[54,65,54,66],[54,67,54,68]]}
[]
[{"$nulls":65},"Weight",null,"Cost"]
[{"$nulls":59},"BODY",{"$nulls":17},"WEIGHT",null,null,"COST"]
[]
[{"$nulls":52},"Capacity",{"$nulls":3},{"$f":"COUNTIF(GAMEstage1!O2:R30,\"sb\")*3+COUNTIF(GAMEstage1!O2:R30,\"tb\")+COUNTIF(GAMEstage1!O2:R30,\"btb\")","v":0},null,null,"Squares",{"$nulls":3},{"$f":"COUNTIF(GAMEstage1!B2:AE31,\"sb\")","v":0},null,{"$f":"BL5*CA7","v":0},null,{"$f":"BL5*CC7","v":0},{"$nulls":6},"Body"]
[]
[{"$nulls":52},"Length",{"$nulls":3},{"$f":"BL13+BL27","v":0},null,null,"Big triangles",{"$nulls":3},{"$f":"COUNTIF(GAMEstage1!B2:AE31,\"btb\")","v":0},null,{"$f":"BL7*CA9","v":0},null,{"$f":"BL7*CC9","v":0},{"$nulls":6},"Squares",{"$nulls":3},11.5,null,130]
[]
[{"$nulls":52},"Wing span",{"$nulls":3},{"$f":"'Calculate wingSpam'!$C$15","v":2},null,null,"Triangles",{"$nulls":3},{"$f":"COUNTIF(GAMEstage1!B2:AE31,\"tb\")","v":0},null,{"$f":"BL9*CA11","v":0},null,{"$f":"BL9*CC11","v":0},{"$nulls":6},"Big triangles",{"$nulls":3},8,null,170]
[]
[{"$nulls":52},"Range",{"$nulls":3},{"$f":"I33*I35","v":0},null,null,"Npb",{"$nulls":3},{"$f":"SUM(BL5:BL9)","v":0},{"$nulls":10},"Triangles",{"$nulls":3},6,null,70]
[{"$nulls":59}," "]
[{"$nulls":52},"Cost",{"$nulls":3},{"$f":"SUM(BP5:BQ65)","v":0},null,null,"NpbL",{"$nulls":3},{"$f":"COUNTIF(GAMEstage1!N2:S31,\"btb\")+COUNTIF(GAMEstage1!P2:P31,\"sb\")+COUNTIF(GAMEstage1!P2:P31,\"tb\")","v":0},{"$nulls":10},"Wing & Tail"]
[]
[{"$nulls":52},"Weight",{"$nulls":3},{"$f":"SUM(BN5:BO65)","v":0},null,null,"NpbW",{"$nulls":3},{"$f":"'Calculate Wight Body'!$B$19","v":0},{"$nulls":10},"Squares",{"$nulls":3},10,null,100]
[]
[{"$nulls":52},"Ratio of power",{"$nulls":3},{"$f":"R35/BE15*100","v":{"$error":"#DIV/0!"}},{"$nulls":17},"Big Triangles",{"$nulls":3},7,null,160]
[]
[{"$nulls":59},"COCKPIT",{"$nulls":14},"Triangles",{"$nulls":3},5,null,60]
[]
[{"$nulls":59},"Squares",{"$nulls":3},{"$f":"COUNTIF(GAMEstage1!B2:AE31,\"sc\")","v":0},{"$nulls":10},"Power Plant"]
[]
[{"$nulls":59},"Big triangles",{"$nulls":3},{"$f":"COUNTIF(GAMEstage1!B2:AE31,\"btc\")","v":0},{"$nulls":10},"Engine",{"$nulls":3},50,null,500]
[]
[{"$nulls":59},"Triangles",{"$nulls":3},{"$f":"COUNTIF(GAMEstage1!B2:AE31,\"tc\")","v":0}]
[]
[{"$nulls":59},"Lc",{"$nulls":3},{"$f":"BL15","v":0}]
[]
[]
[]
[{"$nulls":59},"TAIL"]
[]
[null,"Consume of fuel",{"$nulls":6},{"$f":"IF(BL55=2,200,0)+IF(BL55=4,150,0)+IF(BL55=6,100,0)","v":0},{"$nulls":3},"Power",{"$nulls":4},{"$f":"BL55*500","v":0},{"$nulls":4},"Total Surface",{"$nulls":5},{"$f":"SUM(I35,BL33,BL35,BL37/2)","v":0},{"$nulls":30},"Squares",{"$nulls":3},{"$f":"COUNTIF(GAMEstage1!B2:AE31,\"st\")/2","v":0},null,{"$f":"BL33*CA15","v":0},null,{"$f":"BL33*CC15","v":0}]
[]
[null,"Fuel",{"$nulls":6},{"$f":"SUM(BL21,BL23,BL25/2)","v":0},{"$nulls":3},"Free power",{"$nulls":4},{"$f":"R33-BE15","v":0},{"$nulls":41},"Big triangles",{"$nulls":3},{"$f":"COUNTIF(GAMEstage1!B2:AE31,\"btt\")/2","v":0},null,{"$f":"BL35*CA17","v":0},null,{"$f":"BL35*CC17","v":0}]
[]
[{"$nulls":59},"Triangles",{"$nulls":3},{"$f":"COUNTIF(GAMEstage1!B2:AE30,\"tt\")/2","v":0},null,{"$f":"BL37*CA19","v":0},null,{"$f":"BL37*CC19","v":0}]
[]
[{"$nulls":59},"NptW",{"$nulls":3},{"$f":"'Calculate wingSpam of the tail'!$C$15","v":0}]
[{"$nulls":59},"NptL",{"$nulls":3},{"$f":"ROUNDDOWN(2*SUM(BL33:BL37)/(BL39),0)","v":{"$error":"#DIV/0!"}}]
[{"$nulls":59},"NpT",{"$nulls":3},{"$f":"SUM(BL33:BL37)","v":0}]
[]
[{"$nulls":59},"WING"]
[]
[{"$nulls":59},"Squares",{"$nulls":3},{"$f":"COUNTIF(GAMEstage1!B2:AE31,\"sw\")/2","v":0},null,{"$f":"BL45*CA29","v":0},null,{"$f":"BL45*CC29","v":0}]
[]
[{"$nulls":59},"Big triangles",{"$nulls":3},{"$f":"COUNTIF(GAMEstage1!B2:AE31,\"btw\")/2","v":0},null,{"$f":"BL47*CA31","v":0},null,{"$f":"BL47*CC31","v":0}]
[]
[{"$nulls":59},"Triangles",{"$nulls":3},{"$f":"COUNTIF(GAMEstage1!B2:AE31,\"tw\")/2","v":0},null,{"$f":"BL49*CA33","v":0},null,{"$f":"BL49*CC33","v":0}]
[]
[{"$nulls":59},"NpwL",{"$nulls":3},{"$f":"ROUNDDOWN(2*SUM(BL45:BL49)/(BL52),0)","v":0}]
[{"$nulls":59},"NpwW",{"$nulls":3},{"$f":"(BE9-BL15)/2","v":1}]
[{"$nulls":59},"NpW",{"$nulls":3},{"$f":"BL52*BL51/2","v":0}]
[]
[{"$nulls":59},"POWER PLANT",{"$nulls":3},{"$f":"COUNTIF(GAMEstage1!B2:AE31,\"e\")","v":0},null,{"$f":"BL55*CA23","v":0},null,{"$f":"BL55*CC23","v":0}]

{"sheet":"Calculate Wight Body","index":7,"n_rows":30,"n_cols":2,"rows_kept":30,"merged":[[17,1,17,3],[18,1,18,3]]}
[{"$f":"COUNTIF(GAMEstage2!B2:AE2,\"btb\")+COUNTIF(GAMEstage2!B2:AE2,\"sb\")+COUNTIF(GAMEstage2!B2:AE2,\"tb\")","v":0}]
[{"$f":"COUNTIF(GAMEstage2!B3:AE3,\"btb\")+COUNTIF(GAMEstage2!B3:AE3,\"sb\")+COUNTIF(GAMEstage2!B3:AE3,\"tb\")","v":0}]
[{"$f":"COUNTIF(GAMEstage1!B4:AE4,\"btb\")+COUNTIF(GAMEstage1!B4:AE4,\"sb\")+COUNTIF(GAMEstage1!B4:AE4,\"tb\")","v":0}]
[{"$f":"COUNTIF(GAMEstage1!B5:AE5,\"btb\")+COUNTIF(GAMEstage1!B5:AE5,\"sb\")+COUNTIF(GAMEstage1!B5:AE5,\"tb\")","v":0}]
[{"$f":"COUNTIF(GAMEstage1!B6:AE6,\"btb\")+COUNTIF(GAMEstage1!B6:AE6,\"sb\")+COUNTIF(GAMEstage1!B6:AE6,\"tb\")","v":0}]
[{"$f":"COUNTIF(GAMEstage1!B7:AE7,\"btb\")+COUNTIF(GAMEstage1!B7:AE7,\"sb\")+COUNTIF(GAMEstage1!B7:AE7,\"tb\")","v":0}]
[{"$f":"COUNTIF(GAMEstage1!B8:AE8,\"btb\")+COUNTIF(GAMEstage1!B8:AE8,\"sb\")+COUNTIF(GAMEstage1!B8:AE8,\"tb\")","v":0}]
[{"$f":"COUNTIF(GAMEstage1!B9:AE9,\"btb\")+COUNTIF(GAMEstage1!B9:AE9,\"sb\")+COUNTIF(GAMEstage1!B9:AE9,\"tb\")","v":0}]
[{"$f":"COUNTIF(GAMEstage1!B10:AE10,\"btb\")+COUNTIF(GAMEstage1!B10:AE10,\"sb\")+COUNTIF(GAMEstage1!B10:AE10,\"tb\")","v":0}]
[{"$f":"COUNTIF(GAMEstage1!B11:AE11,\"btb\")+COUNTIF(GAMEstage1!B11:AE11,\"sb\")+COUNTIF(GAMEstage1!B11:AE11,\"tb\")","v":0}]
[{"$f":"COUNTIF(GAMEstage1!B12:AE12,\"btb\")+COUNTIF(GAMEstage1!B12:AE12,\"sb\")+COUNTIF(GAMEstage1!B12:AE12,\"tb\")","v":0}]
[{"$f":"COUNTIF(GAMEstage1!B13:AE13,\"btb\")+COUNTIF(GAMEstage1!B13:AE13,\"sb\")+COUNTIF(GAMEstage1!B13:AE13,\"tb\")","v":0}]
[{"$f":"COUNTIF(GAMEstage1!B14:AE14,\"btb\")+COUNTIF(GAMEstage1!B14:AE14,\"sb\")+COUNTIF(GAMEstage1!B14:AE14,\"tb\")","v":0}]
[{"$f":"COUNTIF(GAMEstage1!B15:AE15,\"btb\")+COUNTIF(GAMEstage1!B15:AE15,\"sb\")+COUNTIF(GAMEstage1!B15:AE15,\"tb\")","v":0}]
[{"$f":"COUNTIF(GAMEstage1!B16:AE16,\"btb\")+COUNTIF(GAMEstage1!B16:AE16,\"sb\")+COUNTIF(GAMEstage1!B16:AE16,\"tb\")","v":0}]
[{"$f":"COUNTIF(GAMEstage1!B17:AE17,\"btb\")+COUNTIF(GAMEstage1!B17:AE17,\"sb\")+COUNTIF(GAMEstage1!B17:AE17,\"tb\")","v":0}]
[{"$f":"COUNTIF(GAMEstage1!B18:AE18,\"btb\")+COUNTIF(GAMEstage1!B18:AE18,\"sb\")+COUNTIF(GAMEstage1!B18:AE18,\"tb\")","v":0}]
[{"$f":"COUNTIF(GAMEstage1!B19:AE19,\"btb\")+COUNTIF(GAMEstage1!B19:AE19,\"sb\")+COUNTIF(GAMEstage1!B19:AE19,\"tb\")","v":0},"Wight of the body"]
[{"$f":"COUNTIF(GAMEstage1!B20:AE20,\"btb\")+COUNTIF(GAMEstage1!B20:AE20,\"sb\")+COUNTIF(GAMEstage1!B20:AE20,\"tb\")","v":0},{"$f":"MAX(A1:A30)","v":0}]
[{"$f":"COUNTIF(GAMEstage1!B21:AE21,\"btb\")+COUNTIF(GAMEstage1!B21:AE21,\"sb\")+COUNTIF(GAMEstage1!B21:AE21,\"tb\")","v":0}]
[{"$f":"COUNTIF(GAMEstage1!B22:AE22,\"btb\")+COUNTIF(GAMEstage1!B22:AE22,\"sb\")+COUNTIF(GAMEstage1!B22:AE22,\"tb\")","v":0}]
[{"$f":"COUNTIF(GAMEstage1!B23:AE23,\"btb\")+COUNTIF(GAMEstage1!B23:AE23,\"sb\")+COUNTIF(GAMEstage1!B23:AE23,\"tb\")","v":0}]
[{"$f":"COUNTIF(GAMEstage1!B24:AE24,\"btb\")+COUNTIF(GAMEstage1!B24:AE24,\"sb\")+COUNTIF(GAMEstage1!B24:AE24,\"tb\")","v":0}]
[{"$f":"COUNTIF(GAMEstage1!B25:AE25,\"btb\")+COUNTIF(GAMEstage1!B25:AE25,\"sb\")+COUNTIF(GAMEstage1!B25:AE25,\"tb\")","v":0}]
[{"$f":"COUNTIF(GAMEstage1!B26:AE26,\"btb\")+COUNTIF(GAMEstage1!B26:AE26,\"sb\")+COUNTIF(GAMEstage1!B26:AE26,\"tb\")","v":0}]
[{"$f":"COUNTIF(GAMEstage1!B27:AE27,\"btb\")+COUNTIF(GAMEstage1!B27:AE27,\"sb\")+COUNTIF(GAMEstage1!B27:AE27,\"tb\")","v":0}]
[{"$f":"COUNTIF(GAMEstage1!B28:AE28,\"btb\")+COUNTIF(GAMEstage1!B28:AE28,\"sb\")+COUNTIF(GAMEstage1!B28:AE28,\"tb\")","v":0}]
[{"$f":"COUNTIF(GAMEstage1!B29:AE29,\"btb\")+COUNTIF(GAMEstage1!B29:AE29,\"sb\")+COUNTIF(GAMEstage1!B29:AE29,\"tb\")","v":0}]
[{"$f":"COUNTIF(GAMEstage1!B30:AE30,\"btb\")+COUNTIF(GAMEstage1!B30:AE30,\"sb\")+COUNTIF(GAMEstage1!B30:AE30,\"tb\")","v":0}]
[{"$f":"COUNTIF(GAMEstage1!B31:AE31,\"btb\")+COUNTIF(GAMEstage1!B31:AE31,\"sb\")+COUNTIF(GAMEstage1!B31:AE31,\"tb\")","v":0}]

{"sheet":"Calculate wingSpam","index":8,"n_rows":30,"n_cols":3,"rows_kept":30,"merged":[[13,2,13,4],[14,2,14,4]]}
[{"$f":"COUNTIF(GAMEstage1!B2:AE2,\"sb\")+COUNTIF(GAMEstage1!B2:AE2,\"bt\")+COUNTIF(GAMEstage1!B2:AE2,\"btb\")+COUNTIF(GAMEstage1!B2:AE2,\"btw\")+COUNTIF(GAMEstage1!B2:AE2,\"sw\")+COUNTIF(GAMEstage1!B2:AE2,\"tw\")","v":0},{"$f":"IF(A1=0,100,A1)","v":100}]
[{"$f":"COUNTIF(GAMEstage1!B3:AE3,\"sb\")+COUNTIF(GAMEstage1!B3:AE3,\"bt\")+COUNTIF(GAMEstage1!B3:AE3,\"btb\")+COUNTIF(GAMEstage1!B3:AE3,\"btw\")+COUNTIF(GAMEstage1!B3:AE3,\"sw\")+COUNTIF(GAMEstage1!B3:AE3,\"tw\")","v":0},{"$f":"IF(A2=0,100,A2)","v":100}]
[{"$f":"COUNTIF(GAMEstage1!B4:AE4,\"sb\")+COUNTIF(GAMEstage1!B4:AE4,\"bt\")+COUNTIF(GAMEstage1!B4:AE4,\"btb\")+COUNTIF(GAMEstage1!B4:AE4,\"btw\")+COUNTIF(GAMEstage1!B4:AE4,\"sw\")+COUNTIF(GAMEstage1!B4:AE4,\"tw\")","v":0},100]
[{"$f":"COUNTIF(GAMEstage1!B5:AE5,\"sb\")+COUNTIF(GAMEstage1!B5:AE5,\"bt\")+COUNTIF(GAMEstage1!B5:AE5,\"btb\")+COUNTIF(GAMEstage1!B5:AE5,\"btw\")+COUNTIF(GAMEstage1!B5:AE5,\"sw\")+COUNTIF(GAMEstage1!B5:AE5,\"tw\")","v":0},100]
[{"$f":"COUNTIF(GAMEstage1!B6:AE6,\"sb\")+COUNTIF(GAMEstage1!B6:AE6,\"bt\")+COUNTIF(GAMEstage1!B6:AE6,\"btb\")+COUNTIF(GAMEstage1!B6:AE6,\"btw\")+COUNTIF(GAMEstage1!B6:AE6,\"sw\")+COUNTIF(GAMEstage1!B6:AE6,\"tw\")","v":0},100]
[{"$f":"COUNTIF(GAMEstage1!B7:AE7,\"sb\")+COUNTIF(GAMEstage1!B7:AE7,\"bt\")+COUNTIF(GAMEstage1!B7:AE7,\"btb\")+COUNTIF(GAMEstage1!B7:AE7,\"btw\")+COUNTIF(GAMEstage1!B7:AE7,\"sw\")+COUNTIF(GAMEstage1!B7:AE7,\"tw\")","v":0},100]
[{"$f":"COUNTIF(GAMEstage1!B8:AE8,\"sb\")+COUNTIF(GAMEstage1!B8:AE8,\"bt\")+COUNTIF(GAMEstage1!B8:AE8,\"btb\")+COUNTIF(GAMEstage1!B8:AE8,\"btw\")+COUNTIF(GAMEstage1!B8:AE8,\"sw\")+COUNTIF(GAMEstage1!B8:AE8,\"tw\")","v":0},100]
[{"$f":"COUNTIF(GAMEstage1!B9:AE9,\"sb\")+COUNTIF(GAMEstage1!B9:AE9,\"bt\")+COUNTIF(GAMEstage1!B9:AE9,\"btb\")+COUNTIF(GAMEstage1!B9:AE9,\"btw\")+COUNTIF(GAMEstage1!B9:AE9,\"sw\")+COUNTIF(GAMEstage1!B9:AE9,\"tw\")","v":0},100]
[{"$f":"COUNTIF(GAMEstage1!B10:AE10,\"sb\")+COUNTIF(GAMEstage1!B10:AE10,\"bt\")+COUNTIF(GAMEstage1!B10:AE10,\"btb\")+COUNTIF(GAMEstage1!B10:AE10,\"btw\")+COUNTIF(GAMEstage1!B10:AE10,\"sw\")+COUNTIF(GAMEstage1!B10:AE10,\"tw\")","v":0},100]
[{"$f":"COUNTIF(GAMEstage1!B11:AE11,\"sb\")+COUNTIF(GAMEstage1!B11:AE11,\"bt\")+COUNTIF(GAMEstage1!B11:AE11,\"btb\")+COUNTIF(GAMEstage1!B11:AE11,\"btw\")+COUNTIF(GAMEstage1!B11:AE11,\"sw\")+COUNTIF(GAMEstage1!B11:AE11,\"tw\")","v":0},100]
[{"$f":"COUNTIF(GAMEstage1!B12:AE12,\"sb\")+COUNTIF(GAMEstage1!B12:AE12,\"bt\")+COUNTIF(GAMEstage1!B12:AE12,\"btb\")+COUNTIF(GAMEstage1!B12:AE12,\"btw\")+COUNTIF(GAMEstage1!B12:AE12,\"sw\")+COUNTIF(GAMEstage1!B12:AE12,\"tw\")","v":0},100]
[{"$f":"COUNTIF(GAMEstage1!B13:AE13,\"sb\")+COUNTIF(GAMEstage1!B13:AE13,\"bt\")+COUNTIF(GAMEstage1!B13:AE13,\"btb\")+COUNTIF(GAMEstage1!B13:AE13,\"btw\")+COUNTIF(GAMEstage1!B13:AE13,\"sw\")+COUNTIF(GAMEstage1!B13:AE13,\"tw\")","v":0},100]
[{"$f":"COUNTIF(GAMEstage1!B14:AE14,\"sb\")+COUNTIF(GAMEstage1!B14:AE14,\"bt\")+COUNTIF(GAMEstage1!B14:AE14,\"btb\")+COUNTIF(GAMEstage1!B14:AE14,\"btw\")+COUNTIF(GAMEstage1!B14:AE14,\"sw\")+COUNTIF(GAMEstage1!B14:AE14,\"tw\")","v":0},100]
[{"$f":"COUNTIF(GAMEstage1!B15:AE15,\"sb\")+COUNTIF(GAMEstage1!B15:AE15,\"bt\")+COUNTIF(GAMEstage1!B15:AE15,\"btb\")+COUNTIF(GAMEstage1!B15:AE15,\"btw\")+COUNTIF(GAMEstage1!B15:AE15,\"sw\")+COUNTIF(GAMEstage1!B15:AE15,\"tw\")","v":0},100,"Wing Span"]
[{"$f":"COUNTIF(GAMEstage1!B16:AE16,\"sb\")+COUNTIF(GAMEstage1!B16:AE16,\"bt\")+COUNTIF(GAMEstage1!B16:AE16,\"btb\")+COUNTIF(GAMEstage1!B16:AE16,\"btw\")+COUNTIF(GAMEstage1!B16:AE16,\"sw\")+COUNTIF(GAMEstage1!B16:AE16,\"tw\")","v":0},100,{"$f":"MAX(A1:A30)+2","v":2}]
[{"$f":"COUNTIF(GAMEstage1!B17:AE17,\"sb\")+COUNTIF(GAMEstage1!B17:AE17,\"bt\")+COUNTIF(GAMEstage1!B17:AE17,\"btb\")+COUNTIF(GAMEstage1!B17:AE17,\"btw\")+COUNTIF(GAMEstage1!B17:AE17,\"sw\")+COUNTIF(GAMEstage1!B17:AE17,\"tw\")","v":0},100]
[{"$f":"COUNTIF(GAMEstage1!B18:AE18,\"sb\")+COUNTIF(GAMEstage1!B18:AE18,\"bt\")+COUNTIF(GAMEstage1!B18:AE18,\"btb\")+COUNTIF(GAMEstage1!B18:AE18,\"btw\")+COUNTIF(GAMEstage1!B18:AE18,\"sw\")+COUNTIF(GAMEstage1!B18:AE18,\"tw\")","v":0},100]
[{"$f":"COUNTIF(GAMEstage1!B19:AE19,\"sb\")+COUNTIF(GAMEstage1!B19:AE19,\"bt\")+COUNTIF(GAMEstage1!B19:AE19,\"btb\")+COUNTIF(GAMEstage1!B19:AE19,\"btw\")+COUNTIF(GAMEstage1!B19:AE19,\"sw\")+COUNTIF(GAMEstage1!B19:AE19,\"tw\")","v":0},100]
[{"$f":"COUNTIF(GAMEstage1!B20:AE20,\"sb\")+COUNTIF(GAMEstage1!B20:AE20,\"bt\")+COUNTIF(GAMEstage1!B20:AE20,\"btb\")+COUNTIF(GAMEstage1!B20:AE20,\"btw\")+COUNTIF(GAMEstage1!B20:AE20,\"sw\")+COUNTIF(GAMEstage1!B20:AE20,\"tw\")","v":0},100]
[{"$f":"COUNTIF(GAMEstage1!B21:AE21,\"sb\")+COUNTIF(GAMEstage1!B21:AE21,\"bt\")+COUNTIF(GAMEstage1!B21:AE21,\"btb\")+COUNTIF(GAMEstage1!B21:AE21,\"btw\")+COUNTIF(GAMEstage1!B21:AE21,\"sw\")+COUNTIF(GAMEstage1!B21:AE21,\"tw\")","v":0},100]
[{"$f":"COUNTIF(GAMEstage1!B22:AE22,\"sb\")+COUNTIF(GAMEstage1!B22:AE22,\"bt\")+COUNTIF(GAMEstage1!B22:AE22,\"btb\")+COUNTIF(GAMEstage1!B22:AE22,\"btw\")+COUNTIF(GAMEstage1!B22:AE22,\"sw\")+COUNTIF(GAMEstage1!B22:AE22,\"tw\")","v":0},100]
[{"$f":"COUNTIF(GAMEstage1!B23:AE23,\"sb\")+COUNTIF(GAMEstage1!B23:AE23,\"bt\")+COUNTIF(GAMEstage1!B23:AE23,\"btb\")+COUNTIF(GAMEstage1!B23:AE23,\"btw\")+COUNTIF(GAMEstage1!B23:AE23,\"sw\")+COUNTIF(GAMEstage1!B23:AE23,\"tw\")","v":0},100]
[{"$f":"COUNTIF(GAMEstage1!B24:AE24,\"sb\")+COUNTIF(GAMEstage1!B24:AE24,\"bt\")+COUNTIF(GAMEstage1!B24:AE24,\"btb\")+COUNTIF(GAMEstage1!B24:AE24,\"btw\")+COUNTIF(GAMEstage1!B24:AE24,\"sw\")+COUNTIF(GAMEstage1!B24:AE24,\"tw\")","v":0},100]
[{"$f":"COUNTIF(GAMEstage1!B25:AE25,\"sb\")+COUNTIF(GAMEstage1!B25:AE25,\"bt\")+COUNTIF(GAMEstage1!B25:AE25,\"btb\")+COUNTIF(GAMEstage1!B25:AE25,\"btw\")+COUNTIF(GAMEstage1!B25:AE25,\"sw\")+COUNTIF(GAMEstage1!B25:AE25,\"tw\")","v":0},100]
[{"$f":"COUNTIF(GAMEstage1!B26:AE26,\"sb\")+COUNTIF(GAMEstage1!B26:AE26,\"bt\")+COUNTIF(GAMEstage1!B26:AE26,\"btb\")+COUNTIF(GAMEstage1!B26:AE26,\"btw\")+COUNTIF(GAMEstage1!B26:AE26,\"sw\")+COUNTIF(GAMEstage1!B26:AE26,\"tw\")","v":0},100]
[{"$f":"COUNTIF(GAMEstage1!B27:AE27,\"sb\")+COUNTIF(GAMEstage1!B27:AE27,\"bt\")+COUNTIF(GAMEstage1!B27:AE27,\"btb\")+COUNTIF(GAMEstage1!B27:AE27,\"btw\")+COUNTIF(GAMEstage1!B27:AE27,\"sw\")+COUNTIF(GAMEstage1!B27:AE27,\"tw\")","v":0},100]
[{"$f":"COUNTIF(GAMEstage1!B28:AE28,\"sb\")+COUNTIF(GAMEstage1!B28:AE28,\"bt\")+COUNTIF(GAMEstage1!B28:AE28,\"btb\")+COUNTIF(GAMEstage1!B28:AE28,\"btw\")+COUNTIF(GAMEstage1!B28:AE28,\"sw\")+COUNTIF(GAMEstage1!B28:AE28,\"tw\")","v":0},100]
[{"$f":"COUNTIF(GAMEstage1!B29:AE29,\"sb\")+COUNTIF(GAMEstage1!B29:AE29,\"bt\")+COUNTIF(GAMEstage1!B29:AE29,\"btb\")+COUNTIF(GAMEstage1!B29:AE29,\"btw\")+COUNTIF(GAMEstage1!B29:AE29,\"sw\")+COUNTIF(GAMEstage1!B29:AE29,\"tw\")","v":0},100]
[{"$f":"COUNTIF(GAMEstage1!B30:AE30,\"sb\")+COUNTIF(GAMEstage1!B30:AE30,\"bt\")+COUNTIF(GAMEstage1!B30:AE30,\"btb\")+COUNTIF(GAMEstage1!B30:AE30,\"btw\")+COUNTIF(GAMEstage1!B30:AE30,\"sw\")+COUNTIF(GAMEstage1!B30:AE30,\"tw\")","v":0},100]
[{"$f":"COUNTIF(GAMEstage1!B31:AE31,\"sb\")+COUNTIF(GAMEstage1!B31:AE31,\"bt\")+COUNTIF(GAMEstage1!B31:AE31,\"btb\")+COUNTIF(GAMEstage1!B31:AE31,\"btw\")+COUNTIF(GAMEstage1!B31:AE31,\"sw\")+COUNTIF(GAMEstage1!B31:AE31,\"tw\")","v":0},100]

{"sheet":"Calculate wingSpam of the tail","index":9,"n_rows":30,"n_cols":4,"rows_kept":30,"merged":[[13,2,13,4],[14,2,14,4]]}
[{"$f":"COUNTIF(GAMEstage1!B2:AE2,\"sb\")+COUNTIF(GAMEstage1!B2:AE2,\"bt\")+COUNTIF(GAMEstage1!B2:AE2,\"btb\")+COUNTIF(GAMEstage1!B2:AE2,\"btw\")+COUNTIF(GAMEstage1!B2:AE2,\"sw\")+COUNTIF(GAMEstage1!B2:AE2,\"tw\")","v":0}]
[{"$f":"COUNTIF(GAMEstage1!B3:AE3,\"sb\")+COUNTIF(GAMEstage1!B3:AE3,\"bt\")+COUNTIF(GAMEstage1!B3:AE3,\"btb\")+COUNTIF(GAMEstage1!B3:AE3,\"btw\")+COUNTIF(GAMEstage1!B3:AE3,\"sw\")+COUNTIF(GAMEstage1!B3:AE3,\"tw\")","v":0}]
[{"$f":"COUNTIF(GAMEstage1!B4:AE4,\"sb\")+COUNTIF(GAMEstage1!B4:AE4,\"bt\")+COUNTIF(GAMEstage1!B4:AE4,\"btb\")+COUNTIF(GAMEstage1!B4:AE4,\"btw\")+COUNTIF(GAMEstage1!B4:AE4,\"sw\")+COUNTIF(GAMEstage1!B4:AE4,\"tw\")","v":0}]
{"$rows_empty":10}
[null,null,"Wing Span of the tail"]
[null,null,{"$f":"((MAX(A16:A30)+2)-2)/2","v":0}]
[{"$f":"COUNTIF(GAMEstage1!B17:AE17,\"sb\")+COUNTIF(GAMEstage1!B17:AE17,\"bt\")+COUNTIF(GAMEstage1!B17:AE17,\"btb\")+COUNTIF(GAMEstage1!B17:AE17,\"btt\")+COUNTIF(GAMEstage1!B17:AE17,\"st\")+COUNTIF(GAMEstage1!B17:AE17,\"tt\")","v":0}]
[{"$f":"COUNTIF(GAMEstage1!B18:AE18,\"sb\")+COUNTIF(GAMEstage1!B18:AE18,\"bt\")+COUNTIF(GAMEstage1!B18:AE18,\"btb\")+COUNTIF(GAMEstage1!B18:AE18,\"btt\")+COUNTIF(GAMEstage1!B18:AE18,\"st\")+COUNTIF(GAMEstage1!B18:AE18,\"tt\")","v":0}]
[{"$f":"COUNTIF(GAMEstage1!B19:AE19,\"sb\")+COUNTIF(GAMEstage1!B19:AE19,\"bt\")+COUNTIF(GAMEstage1!B19:AE19,\"btb\")+COUNTIF(GAMEstage1!B19:AE19,\"btt\")+COUNTIF(GAMEstage1!B19:AE19,\"st\")+COUNTIF(GAMEstage1!B19:AE19,\"tt\")","v":0},null,null,{"$f":"$C$15","v":0}]
[{"$f":"COUNTIF(GAMEstage1!B20:AE20,\"sb\")+COUNTIF(GAMEstage1!B20:AE20,\"bt\")+COUNTIF(GAMEstage1!B20:AE20,\"btb\")+COUNTIF(GAMEstage1!B20:AE20,\"btt\")+COUNTIF(GAMEstage1!B20:AE20,\"st\")+COUNTIF(GAMEstage1!B20:AE20,\"tt\")","v":0}]
[{"$f":"COUNTIF(GAMEstage1!B21:AE21,\"sb\")+COUNTIF(GAMEstage1!B21:AE21,\"bt\")+COUNTIF(GAMEstage1!B21:AE21,\"btb\")+COUNTIF(GAMEstage1!B21:AE21,\"btt\")+COUNTIF(GAMEstage1!B21:AE21,\"st\")+COUNTIF(GAMEstage1!B21:AE21,\"tt\")","v":0}]
[{"$f":"COUNTIF(GAMEstage1!B22:AE22,\"sb\")+COUNTIF(GAMEstage1!B22:AE22,\"bt\")+COUNTIF(GAMEstage1!B22:AE22,\"btb\")+COUNTIF(GAMEstage1!B22:AE22,\"btt\")+COUNTIF(GAMEstage1!B22:AE22,\"st\")+COUNTIF(GAMEstage1!B22:AE22,\"tt\")","v":0}]
[{"$f":"COUNTIF(GAMEstage1!B23:AE23,\"sb\")+COUNTIF(GAMEstage1!B23:AE23,\"bt\")+COUNTIF(GAMEstage1!B23:AE23,\"btb\")+COUNTIF(GAMEstage1!B23:AE23,\"btt\")+COUNTIF(GAMEstage1!B23:AE23,\"st\")+COUNTIF(GAMEstage1!B23:AE23,\"tt\")","v":0}]
[{"$f":"COUNTIF(GAMEstage1!B24:AE24,\"sb\")+COUNTIF(GAMEstage1!B24:AE24,\"bt\")+COUNTIF(GAMEstage1!B24:AE24,\"btb\")+COUNTIF(GAMEstage1!B24:AE24,\"btt\")+COUNTIF(GAMEstage1!B24:AE24,\"st\")+COUNTIF(GAMEstage1!B24:AE24,\"tt\")","v":0}]
[{"$f":"COUNTIF(GAMEstage1!B25:AE25,\"sb\")+COUNTIF(GAMEstage1!B25:AE25,\"bt\")+COUNTIF(GAMEstage1!B25:AE25,\"btb\")+COUNTIF(GAMEstage1!B25:AE25,\"btt\")+COUNTIF(GAMEstage1!B25:AE25,\"st\")+COUNTIF(GAMEstage1!B25:AE25,\"tt\")","v":0}]
[{"$f":"COUNTIF(GAMEstage1!B26:AE26,\"sb\")+COUNTIF(GAMEstage1!B26:AE26,\"bt\")+COUNTIF(GAMEstage1!B26:AE26,\"btb\")+COUNTIF(GAMEstage1!B26:AE26,\"btt\")+COUNTIF(GAMEstage1!B26:AE26,\"st\")+COUNTIF(GAMEstage1!B26:AE26,\"tt\")","v":0}]
[{"$f":"COUNTIF(GAMEstage1!B27:AE27,\"sb\")+COUNTIF(GAMEstage1!B27:AE27,\"bt\")+COUNTIF(GAMEstage1!B27:AE27,\"btb\")+COUNTIF(GAMEstage1!B27:AE27,\"btt\")+COUNTIF(GAMEstage1!B27:AE27,\"st\")+COUNTIF(GAMEstage1!B27:AE27,\"tt\")","v":0}]
[{"$f":"COUNTIF(GAMEstage1!B28:AE28,\"sb\")+COUNTIF(GAMEstage1!B28:AE28,\"bt\")+COUNTIF(GAMEstage1!B28:AE28,\"btb\")+COUNTIF(GAMEstage1!B28:AE28,\"btt\")+COUNTIF(GAMEstage1!B28:AE28,\"st\")+COUNTIF(GAMEstage1!B28:AE28,\"tt\")","v":0}]
[{"$f":"COUNTIF(GAMEstage1!B29:AE29,\"sb\")+COUNTIF(GAMEstage1!B29:AE29,\"bt\")+COUNTIF(GAMEstage1!B29:AE29,\"btb\")+COUNTIF(GAMEstage1!B29:AE29,\"btt\")+COUNTIF(GAMEstage1!B29:AE29,\"st\")+COUNTIF(GAMEstage1!B29:AE29,\"tt\")","v":0}]
[{"$f":"COUNTIF(GAMEstage1!B30:AE30,\"sb\")+COUNTIF(GAMEstage1!B30:AE30,\"bt\")+COUNTIF(GAMEstage1!B30:AE30,\"btb\")+COUNTIF(GAMEstage1!B30:AE30,\"btt\")+COUNTIF(GAMEstage1!B30:AE30,\"st\")+COUNTIF(GAMEstage1!B30:AE30,\"tt\")","v":0}]
[{"$f":"COUNTIF(GAMEstage1!B31:AE31,\"sb\")+COUNTIF(GAMEstage1!B31:AE31,\"bt\")+COUNTIF(GAMEstage1!B31:AE31,\"btb\")+COUNTIF(GAMEstage1!B31:AE31,\"btt\")+COUNTIF(GAMEstage1!B31:AE31,\"st\")+COUNTIF(GAMEstage1!B31:AE31,\"tt\")","v":0}]

{"sheet":"GAMEtools2","index":10,"n_rows":55,"n_cols":81,"rows_kept":55,"merged":[[1,31,3,36],[1,65,1,66],[1,67,1,68],[2,37,3,49],[4,32,5,33],[4,34,5,35],[4,65,4,66],[4,67,4,68],[4,74,4,76],[5,67,5,68],[6,32,7,33],[6,34,7,35],[6,65,6,66],[6,67,6,68],[6,74,6,77],[6,80,6,81],[7,67,7,68],[8,65,8,66],[8,67,8,68],[8,74,8,77],[8,80,8,81],[10,74,10,77],[10,80,10,81],[12,74,12,76],[13,37,14,49],[14,74,14,77],[14,80,14,81],[16,74,16,77],[16,80,16,81],[18,74,18,77],[18,80,18,81],[20,65,20,66],[20,67,20,68],[21,67,21,68],[22,65,22,66],[22,67,22,68],[22,74,22,77],[22,80,22,81],[23,67,23,68],[24,37,25,49],[24,65,24,66],[24,67,24,68],[32,1,32,7],[32,8,32,9],[32,12,32,16],[32,17,32,19],[32,22,32,27],[32,28,32,30],[32,65,32,66],[32,67,32,68],[33,67,33,68],[34,1,34,7],[34,8,34,9],[34,12,34,16],[34,17,34,19],[34,65,34,66],[34,67,34,68],[35,67,35,68],[36,38,38,50],[36,65,36,66],[36,67,36,68],[44,65,44,66],[44,67,44,68],[45,67,45,68],[46,65,46,66],[46,67,46,68],[47,67,47,68],[48,65,48,66],[48,67,48,68],[54,65,54,66],[54,67,54,68]]}
[]
[{"$nulls":65},"Weight",null,"Cost"]
[{"$nulls":59},"BODY",{"$nulls":17},"WEIGHT",null,null,"COST"]
[]
[{"$nulls":52},"Capacity",{"$nulls":3},{"$f":"COUNTIF(GAMEstage2!O2:R30,\"sb\")*3+COUNTIF(GAMEstage2!O2:R30,\"tb\")+COUNTIF(GAMEstage2!O2:R30,\"btb\")","v":0},null,null,"Squares",{"$nulls":3},{"$f":"COUNTIF(GAMEstage2!B2:AE31,\"sb\")","v":0},null,{"$f":"BL5*CA7","v":0},null,{"$f":"BL5*CC7","v":0},{"$nulls":6},"Body"]
[]
[{"$nulls":52},"Length",{"$nulls":3},{"$f":"BL13+BL27","v":0},null,null,"Big triangles",{"$nulls":3},{"$f":"COUNTIF(GAMEstage2!B2:AE31,\"btb\")","v":0},null,{"$f":"BL7*CA9","v":0},null,{"$f":"BL7*CC9","v":0},{"$nulls":6},"Squares",{"$nulls":3},11.5,null,130]
[]
[{"$nulls":52},"Wing span",{"$nulls":3},{"$f":"'Calculate wingSpam2'!$C$15","v":2},null,null,"Triangles",{"$nulls":3},{"$f":"COUNTIF(GAMEstage2!B2:AE31,\"tb\")","v":0},null,{"$f":"BL9*CA11","v":0},null,{"$f":"BL9*CC11","v":0},{"$nulls":6},"Big triangles",{"$nulls":3},8,null,170]
[]
[{"$nulls":52},"Range",{"$nulls":3},{"$f":"I33*I35","v":0},null,null,"Npb",{"$nulls":3},{"$f":"SUM(BL5:BL9)","v":0},{"$nulls":10},"Triangles",{"$nulls":3},6,null,70]
[{"$nulls":59}," "]
[{"$nulls":52},"Cost",{"$nulls":3},{"$f":"SUM(BP5:BQ65)","v":0},null,null,"NpbL",{"$nulls":3},{"$f":"COUNTIF(GAMEstage2!N2:S31,\"btb\")+COUNTIF(GAMEstage2!P2:P31,\"sb\")+COUNTIF(GAMEstage2!P2:P31,\"tb\")","v":0},{"$nulls":10},"Wing & Tail"]
[]
[{"$nulls":52},"Weight",{"$nulls":3},{"$f":"SUM(BN5:BO65)","v":0},null,null,"NpbW",{"$nulls":3},{"$f":"'Calculate Wight Body2'!$B$19","v":0},{"$nulls":10},"Squares",{"$nulls":3},10,null,100]
[]
[{"$nulls":52},"Total power",{"$nulls":3},{"$f":"BP55","v":0},{"$nulls":17},"Big Triangles",{"$nulls":3},7,null,160]
[]
[{"$nulls":52},"Free Power",{"$nulls":3},{"$f":"BE17-BE15","v":0},null,null,"COCKPIT",{"$nulls":14},"Triangles",{"$nulls":3},5,null,60]
[]
[{"$nulls":59},"Squares",{"$nulls":3},{"$f":"COUNTIF(GAMEstage2!B2:AE31,\"sc\")","v":0},null,{"$f":"BL21*$CA$15","v":0},null,{"$f":"CC15*BL21","v":0},{"$nulls":6},"Power Plant"]
[{"$nulls":52},"Ratio of power",{"$nulls":3},{"$f":"ROUND(100*(BE19/BE15), 0)","v":{"$error":"#DIV/0!"}}]
[{"$nulls":59},"Big triangles",{"$nulls":3},{"$f":"COUNTIF(GAMEstage2!B2:AE31,\"btc\")","v":0},null,{"$f":"BL23*$CA$17","v":0},null,{"$f":"CC17*BL23","v":0},{"$nulls":6},"Engine",{"$nulls":3},50,null,500]
[]
[{"$nulls":59},"Triangles",{"$nulls":3},{"$f":"COUNTIF(GAMEstage2!B2:AE31,\"tc\")","v":0},null,{"$f":"BL25*$CA$19","v":0},null,{"$f":"CC19*BL25","v":0}]
[]
[{"$nulls":53},"DistanceBlock",null,null,{"$f":"IF(BL55=2,200,IF(BL55=4,150,100))","v":100},null,null,"Lc",{"$nulls":3},{"$f":"BL15","v":0}]
[{"$nulls":53},"Wing Surface",null,null,{"$f":"2*(BL45+0.5*BL49+0.5*BL47)","v":0}]
[{"$nulls":53},"Km of travel",null,null,{"$f":"BE27*BE28","v":0}]
[]
[{"$nulls":59},"TAIL"]
[]
[null,"Consume of fuel",{"$nulls":6},{"$f":"IF(BL55=2,200,0)+IF(BL55=4,150,0)+IF(BL55=6,100,0)","v":0},{"$nulls":3},"Power",{"$nulls":4},{"$f":"BL55*500","v":0},{"$nulls":4},"Total Surface",{"$nulls":5},{"$f":"SUM(I35,BL33,BL35,BL37/2)","v":0},{"$nulls":30},"Squares",{"$nulls":3},{"$f":"COUNTIF(GAMEstage2!B2:AE31,\"st\")/2","v":0},null,{"$f":"BL33*$CA$15","v":0},null,{"$f":"2*BL33*CC15","v":0}]
[]
[null,"Fuel",{"$nulls":6},{"$f":"SUM(BL21,BL23,BL25/2)","v":0},{"$nulls":3},"Free power",{"$nulls":4},{"$f":"R33-BE15","v":0},{"$nulls":41},"Big triangles",{"$nulls":3},{"$f":"COUNTIF(GAMEstage2!B2:AE31,\"btt\")/2","v":0},null,{"$f":"BL35*$CA$17","v":0},null,{"$f":"2*BL35*CC1","v":0}]
[]
[{"$nulls":59},"Triangles",{"$nulls":3},{"$f":"COUNTIF(GAMEstage2!B2:AE30,\"tt\")/2","v":0},null,{"$f":"BL37*$CA$19","v":0},null,{"$f":"BL37*CC19*2","v":0}]
[]
[{"$nulls":59},"NptW",{"$nulls":3},{"$f":"'Calculate wingSpam of the t 2'!D18","v":0}]
[{"$nulls":59},"NptL",{"$nulls":3},{"$f":"ROUNDDOWN(2*SUM(BL33:BL37)/(BL39),0)","v":{"$error":"#DIV/0!"}}]
[{"$nulls":59},"NpT",{"$nulls":3},{"$f":"SUM(BL33:BL37)","v":0}]
[]
[{"$nulls":59},"WING"]
[]
[{"$nulls":59},"Squares",{"$nulls":3},{"$f":"COUNTIF(GAMEstage2!B2:AE31,\"sw\")/2","v":0},null,{"$f":"BL45*$CA$15","v":0},null,{"$f":"BL45*CC15*2","v":0}]
[]
[{"$nulls":59},"Big triangles",{"$nulls":3},{"$f":"COUNTIF(GAMEstage2!B2:AE31,\"btw\")/2","v":0},null,{"$f":"BL47*$CA$17","v":0},null,{"$f":"BL47*CC17*2","v":0}]
[]
[{"$nulls":59},"Triangles",{"$nulls":3},{"$f":"COUNTIF(GAMEstage2!B2:AE31,\"tw\")/2","v":0},null,{"$f":"BL49*$CA$19","v":0},null,{"$f":"BL49*CC19*2","v":0}]
[]
[{"$nulls":59},"NpwL",{"$nulls":3},{"$f":"ROUNDDOWN(2*SUM(BL45:BL49)/(BL52),0)","v":0}]
[{"$nulls":59},"NpwW",{"$nulls":3},{"$f":"(BE9-BL15)/2","v":1}]
[{"$nulls":59},"NpW",{"$nulls":3},{"$f":"BL52*BL51/2","v":0}]
[]
[{"$nulls":59},"POWER PLANT",{"$nulls":3},{"$f":"COUNTIF(GAMEstage2!B2:AE31,\"e\")","v":0},null,{"$f":"BL55*CA23","v":0},null,{"$f":"BL55*CC23","v":0}]

{"sheet":"Cross-functional","index":11,"n_rows":41,"n_cols":58,"rows_kept":41,"merged":[[1,31,3,36],[1,37,2,49],[1,65,1,66],[1,67,1,68],[4,32,5,33],[4,34,5,35],[4,65,4,66],[4,67,4,68],[4,74,4,76],[5,55,6,60],[5,67,5,68],[6,32,7,33],[6,34,7,35],[6,65,6,66],[6,67,6,68],[6,74,6,77],[6,80,6,81],[7,67,7,68],[8,65,8,66],[8,67,8,68],[8,74,8,77],[8,80,8,81],[9,56,9,58],[10,57,10,58],[10,74,10,77],[10,80,10,81],[11,37,12,49],[11,57,11,58],[12,57,12,58],[12,74,12,76],[13,57,13,58],[13,65,13,66],[13,67,13,68],[14,57,14,58],[14,67,14,68],[14,74,14,77],[14,80,14,81],[15,57,15,58],[15,65,15,66],[15,67,15,68],[16,57,16,58],[16,67,16,68],[16,74,16,77],[16,80,16,81],[17,57,17,58],[17,65,17,66],[17,67,17,68],[18,74,18,77],[18,80,18,81],[21,37,22,49],[22,65,22,66],[22,67,22,68],[22,74,22,77],[22,80,22,81],[23,65,23,66],[23,67,23,68],[24,65,24,66],[24,67,24,68],[29,55,30,60],[30,37,31,49],[32,1,32,7],[32,8,32,9],[32,12,32,16],[32,17,32,19],[32,22,32,27],[32,28,32,30],[33,56,33,58],[34,1,34,7],[34,8,34,9],[34,12,34,16],[34,17,34,19],[34,57,34,58],[35,57,35,58],[36,57,36,58],[37,57,37,58],[38,57,38,58],[39,37,40,49],[39,57,39,58],[40,57,40,58],[41,57,41,58]]}
{"$rows_empty":29}
[{"$nulls":55},"CROSS-FUNCTIONAL TEAMS"]
[]
[]
[]
[{"$nulls":56},"Estimation of customer needs"]
[]
[{"$nulls":56},"Range of passengers",{"$f":"GAMEtools2!BE5","v":0}]
[{"$nulls":56},"Speed",{"$f":"GAMEtools2!BE22","v":{"$error":"#DIV/0!"}}]
[{"$nulls":56},"Km of Travel",{"$f":"GAMEtools2!BE29","v":0}]
[{"$nulls":56},"Lenght",{"$f":"GAMEtools2!BE7","v":0}]
[{"$nulls":56},"Wing Span",{"$f":"GAMEtools2!BE9","v":2}]
[{"$nulls":56},"Cost",{"$f":"GAMEtools2!BE13","v":0}]

{"sheet":"Performance","index":12,"n_rows":236,"n_cols":35,"rows_kept":236,"merged":[[0,0,0,2],[0,3,0,5],[0,6,0,8],[0,15,0,32],[0,33,0,34],[1,0,1,2],[1,3,1,5],[1,6,1,8],[1,15,1,29],[1,30,1,32],[2,0,2,2],[2,3,2,5],[2,6,2,8],[2,15,2,29],[2,30,2,32],[3,0,3,2],[3,3,3,5],[3,6,3,8],[3,15,3,29],[3,30,3,32],[4,0,5,2],[4,3,4,5],[4,6,4,8],[4,15,4,29],[4,30,4,32],[5,3,5,5],[5,6,5,8],[5,15,5,29],[5,30,5,32],[6,0,6,2],[6,3,6,5],[6,6,6,8],[6,15,6,29],[6,30,6,32],[7,0,7,2],[7,3,7,5],[7,6,7,8],[7,15,7,29],[7,30,7,32],[14,0,14,2],[14,3,14,5],[14,6,14,8],[14,13,14,15],[15,0,15,2],[15,3,15,5],[15,6,15,8],[15,13,19,13],[15,14,16,14],[15,15,16,15],[16,0,16,2],[16,3,16,5],[16,6,16,8],[17,0,17,2],[17,3,17,5],[17,6,17,8],[17,14,19,14],[17,15,19,15],[18,0,19,2],[18,3,18,5],[18,6,18,8],[18,9,19,9],[18,10,19,10],[18,11,19,11],[18,12,19,12],[19,3,19,5],[19,6,19,8],[20,0,20,2],[20,3,20,5],[20,6,20,8],[21,0,21,2],[21,3,21,5],[21,6,21,8],[22,11,26,11],[22,12,26,12],[27,0,27,9],[35,0,35,2],[35,3,35,5],[35,6,35,8],[36,3,36,5],[36,6,36,8],[37,3,37,5],[37,6,37,8],[38,3,38,5],[38,6,38,8],[39,3,39,5],[39,6,39,8],[40,3,40,5],[40,6,40,8],[41,3,41,5],[41,6,41,8],[42,3,42,5],[42,6,42,8],[43,3,43,5],[43,6,43,8],[44,3,44,5],[44,6,44,8],[45,3,45,5],[45,6,45,8],[46,3,46,5],[46,6,46,8],[47,3,47,5],[47,6,47,8],[48,3,48,5],[48,6,48,8],[49,3,49,5],[49,6,49,8],[50,3,50,5],[50,6,50,8],[51,3,51,5],[51,6,51,8],[52,3,52,5],[52,6,52,8],[53,3,53,5],[53,6,53,8],[54,3,54,5],[54,6,54,8],[55,3,55,5],[55,6,55,8],[56,3,56,5],[56,6,56,8],[57,3,57,5],[57,6,57,8],[58,3,58,5],[58,6,58,8],[59,3,59,5],[59,6,59,8],[60,3,60,5],[60,6,60,8],[61,3,61,5],[61,6,61,8],[62,3,62,5],[62,6,62,8],[63,3,63,5],[63,6,63,8],[64,3,64,5],[64,6,64,8],[65,3,65,5],[65,6,65,8],[66,3,66,5],[66,6,66,8],[67,3,67,5],[67,6,67,8],[68,3,68,5],[68,6,68,8],[69,3,69,5],[69,6,69,8],[70,3,70,5],[70,6,70,8],[71,3,71,5],[71,6,71,8],[72,3,72,5],[72,6,72,8],[73,3,73,5],[73,6,73,8],[74,3,74,5],[74,6,74,8],[75,3,75,5],[75,6,75,8],[76,3,76,5],[76,6,76,8],[77,3,77,5],[77,6,77,8],[78,3,78,5],[78,6,78,8],[79,3,79,5],[79,6,79,8],[80,3,80,5],[80,6,80,8],[81,3,81,5],[81,6,81,8],[82,3,82,5],[82,6,82,8],[83,3,83,5],[83,6,83,8],[84,3,84,5],[84,6,84,8],[85,3,85,5],[85,6,85,8],[86,3,86,5],[86,6,86,8],[87,3,87,5],[87,6,87,8],[88,3,88,5],[88,6,88,8],[89,3,89,5],[89,6,89,8],[90,3,90,5],[90,6,90,8],[91,3,91,5],[91,6,91,8],[92,3,92,5],[92,6,92,8],[93,3,93,5],[93,6,93,8],[94,3,94,5],[94,6,94,8],[95,3,95,5],[95,6,95,8],[96,3,96,5],[96,6,96,8],[97,3,97,5],[97,6,97,8],[98,3,98,5],[98,6,98,8],[99,3,99,5],[99,6,99,8],[100,3,100,5],[100,6,100,8],[101,3,101,5],[101,6,101,8],[102,3,102,5],[102,6,102,8],[103,3,103,5],[103,6,103,8],[104,3,104,5],[104,6,104,8],[105,3,105,5],[105,6,105,8],[106,3,106,5],[106,6,106,8],[107,3,107,5],[107,6,107,8],[108,3,108,5],[108,6,108,8],[109,3,109,5],[109,6,109,8],[110,3,110,5],[110,6,110,8],[111,3,111,5],[111,6,111,8],[112,3,112,5],[112,6,112,8],[113,3,113,5],[113,6,113,8],[114,3,114,5],[114,6,114,8],[115,3,115,5],[115,6,115,8],[116,3,116,5],[116,6,116,8],[117,3,117,5],[117,6,117,8],[118,3,118,5],[118,6,118,8],[119,3,119,5],[119,6,119,8],[120,3,120,5],[120,6,120,8],[121,3,121,5],[121,6,121,8],[122,3,122,5],[122,6,122,8],[123,3,123,5],[123,6,123,8],[124,3,124,5],[124,6,124,8],[125,3,125,5],[125,6,125,8],[126,3,126,5],[126,6,126,8],[127,3,127,5],[127,6,127,8],[128,3,128,5],[128,6,128,8],[129,3,129,5],[129,6,129,8],[130,3,130,5],[130,6,130,8],[131,3,131,5],[131,6,131,8],[132,3,132,5],[132,6,132,8],[133,3,133,5],[133,6,133,8],[134,3,134,5],[134,6,134,8],[135,3,135,5],[135,6,135,8],[136,3,136,5],[136,6,136,8],[137,3,137,5],[137,6,137,8],[138,3,138,5],[138,6,138,8],[139,3,139,5],[139,6,139,8],[140,3,140,5],[140,6,140,8],[141,3,141,5],[141,6,141,8],[142,3,142,5],[142,6,142,8],[143,3,143,5],[143,6,143,8],[144,3,144,5],[144,6,144,8],[145,3,145,5],[145,6,145,8],[146,3,146,5],[146,6,146,8],[147,3,147,5],[147,6,147,8],[148,3,148,5],[148,6,148,8],[149,3,149,5],[149,6,149,8],[150,3,150,5],[150,6,150,8],[151,3,151,5],[151,6,151,8],[152,3,152,5],[152,6,152,8],[153,3,153,5],[153,6,153,8],[154,3,154,5],[154,6,154,8],[155,3,155,5],[155,6,155,8],[156,3,156,5],[156,6,156,8],[157,3,157,5],[157,6,157,8],[158,3,158,5],[158,6,158,8],[159,3,159,5],[159,6,159,8],[160,3,160,5],[160,6,160,8],[161,3,161,5],[161,6,161,8],[162,3,162,5],[162,6,162,8],[163,3,163,5],[163,6,163,8],[164,3,164,5],[164,6,164,8],[165,3,165,5],[165,6,165,8],[166,3,166,5],[166,6,166,8],[167,3,167,5],[167,6,167,8],[168,3,168,5],[168,6,168,8],[169,3,169,5],[169,6,169,8],[170,3,170,5],[170,6,170,8],[171,3,171,5],[171,6,171,8],[172,3,172,5],[172,6,172,8],[173,3,173,5],[173,6,173,8],[174,3,174,5],[174,6,174,8],[175,3,175,5],[175,6,175,8],[176,3,176,5],[176,6,176,8],[177,3,177,5],[177,6,177,8],[178,3,178,5],[178,6,178,8],[179,3,179,5],[179,6,179,8],[180,3,180,5],[180,6,180,8],[181,3,181,5],[181,6,181,8],[182,3,182,5],[182,6,182,8],[183,3,183,5],[183,6,183,8],[184,3,184,5],[184,6,184,8],[185,3,185,5],[185,6,185,8],[186,3,186,5],[186,6,186,8],[187,3,187,5],[187,6,187,8],[188,3,188,5],[188,6,188,8],[189,3,189,5],[189,6,189,8],[190,3,190,5],[190,6,190,8],[191,3,191,5],[191,6,191,8],[192,3,192,5],[192,6,192,8],[193,3,193,5],[193,6,193,8],[194,3,194,5],[194,6,194,8],[195,3,195,5],[195,6,195,8],[196,3,196,5],[196,6,196,8],[197,3,197,5],[197,6,197,8],[198,3,198,5],[198,6,198,8],[199,3,199,5],[199,6,199,8],[200,3,200,5],[200,6,200,8],[201,3,201,5],[201,6,201,8],[202,3,202,5],[202,6,202,8],[203,3,203,5],[203,6,203,8],[204,3,204,5],[204,6,204,8],[205,3,205,5],[205,6,205,8],[206,3,206,5],[206,6,206,8],[207,3,207,5],[207,6,207,8],[208,3,208,5],[208,6,208,8],[209,3,209,5],[209,6,209,8],[210,3,210,5],[210,6,210,8],[211,3,211,5],[211,6,211,8],[212,3,212,5],[212,6,212,8],[213,3,213,5],[213,6,213,8],[214,3,214,5],[214,6,214,8],[215,3,215,5],[215,6,215,8],[216,3,216,5],[216,6,216,8],[217,3,217,5],[217,6,217,8],[218,3,218,5],[218,6,218,8],[219,3,219,5],[219,6,219,8],[220,3,220,5],[220,6,220,8],[221,3,221,5],[221,6,221,8],[222,3,222,5],[222,6,222,8],[223,3,223,5],[223,6,223,8],[224,3,224,5],[224,6,224,8],[225,3,225,5],[225,6,225,8],[226,3,226,5],[226,6,226,8],[227,3,227,5],[227,6,227,8],[228,3,228,5],[228,6,228,8],[229,3,229,5],[229,6,229,8],[230,3,230,5],[230,6,230,8],[231,3,231,5],[231,6,231,8],[232,3,232,5],[232,6,232,8],[233,3,233,5],[233,6,233,8],[234,3,234,5],[234,6,234,8],[235,3,235,5],[235,6,235,8]]}
[{"$nulls":3},"Real customer needs",null,null,"Design",null,null,"Rest","Variation","PERCENTAGE","LEAN POINTS",null,null,"REAL CUSTOMER NEEDS"]
["Capacity (Number pass)",null,null,"NPC",null,null,"NP",null,null,"NPC-NP","Res/NPC","SI(L2>0;0,5;1)","100-Variation*Percentage",null,null,"Np",{"$nulls":14},{"$f":"'Customer needs'!B33","v":222},{"$nulls":3},0]
["Fast/Slow",null,null,"Ratio of power customer",null,null,"Ratio of power",{"$nulls":8},"Ratio of Power",{"$nulls":14},{"$f":"'Customer needs'!B34","v":32}]
["Km of travel",null,null,"Km of travel customer",null,null,"Km of travel",{"$nulls":8},"Km of Travel",{"$nulls":14},{"$f":"'Customer needs'!B35","v":13000}]
["Parking requirements",null,null,"LC                                                      ",null,null,"L                                                        ",{"$nulls":8},"Lenght",{"$nulls":14},{"$f":"'Customer needs'!B36","v":27}]
[{"$nulls":3},"  WsC",null,null,"Ws",{"$nulls":8},"Ws",{"$nulls":14},{"$f":"'Customer needs'!B37","v":30}]
["Cost",null,null,"Cost of customer",null,null,"Cost",null,null,"neg",{"$nulls":5},"Cost",{"$nulls":14},{"$f":"'Customer needs'!B38","v":34400}]
["Delivery time",null,null,"Delivery tim of customer",null,null,"Delilvery time",null,null,"neg",{"$nulls":5},"Dtc",{"$nulls":14},{"$f":"'Customer needs'!B39","v":9646}]
[]
[]
[]
[]
[]
[]
[{"$nulls":3},"Real customer needs",null,null,"Design",null,null,"Rest","Variation","Percentage","LEAN POINTS","Iteration PENALITIES"]
["1.Capacity (Number pass)",null,null,{"$f":"AE2","v":222},null,null,{"$f":"Review!R11","v":116},null,null,{"$f":"G16-D16","v":-106},{"$f":"J16/D16","v":-0.4774774774774775},{"$f":"IF(K16>0,0.5,1)","v":1},{"$f":"100-ABS(K16*L16)*100","v":52.25225225225225},null,"Number of Iterations of clock","Number of Iterations of can the airplane fly??"]
["2.Fast/Slow",null,null,{"$f":"AE3","v":32},null,null,{"$f":"Review!R12","v":32},null,null,{"$f":"G17-D17","v":0},{"$f":"J17/D17","v":0},{"$f":"IF(K17>0,0.5,1)","v":1},{"$f":"100-ABS(K17*L17)*100","v":100}]
["3. Km of travel",null,null,13000,null,null,{"$f":"Review!R13","v":10800},null,null,{"$f":"G18-D18","v":-2200},{"$f":"J18/D18","v":-0.16923076923076924},1,{"$f":"100-ABS(K18*L18)*100","v":83.07692307692308},null,0]
["4. Parking requirements",null,null,27,null,null,{"$f":"Review!R14","v":22},null,null,{"$f":"MAX(G19-D19,G20-D20)","v":-4},{"$f":"J19/D19","v":-0.14814814814814814},1,{"$f":"100-ABS(K19*L19)*100","v":85.18518518518519}]
[{"$nulls":3},30,null,null,{"$f":"Review!R15","v":26}]
["5. Cost",null,null,34400,null,null,{"$f":"Review!R16","v":17480},null,null,{"$f":"-(G21+O21+P21-D21)","v":16380},{"$f":"J21/D21","v":0.4761627906976744},0.5,{"$f":"100-ABS(K21*L21)*100","v":76.19186046511628},"Oportunity Cost",{"$f":"18*30+36*30*O18+G21*0.05*O18","v":540},{"$f":"(P18)*20*5","v":0}]
["6. Delivery time",null,null,9646,null,null,{"$f":"Review!R17","v":3422},null,null,{"$f":"-(G22+O22+P22-D22)","v":6224},{"$f":"J22/D22","v":0.6452415509019283},0.5,{"$f":"100-ABS(K22*L22)*100","v":67.73792245490358},"Time Cost",{"$f":"O18*30*60","v":0},{"$f":"P18*5*60","v":0}]
[{"$nulls":11},"LEAN POINTS",{"$f":"SUM(M16:M22)/6","v":{"v":77.4073572390634,"d":"77"}}]
[{"$nulls":13},"hora normal","18E/min","20E/min","Cost de test"]
[{"$nulls":13},"Hora extra","36E/min"]
[{"$nulls":13},"Coste opor","0,05*Coste diseño*nIteraciones"]
[]
["The perfect design is going to have 100 points. In any other case, you will haver penalizations."]
[]
[]
[]
[]
["Example:"]
[]
[]
["1.Capacity (Number pass)",null,null,300,null,null,200,null,null,{"$f":"G36-D36","v":-100},{"$f":"J36/D36","v":-0.3333333333333333},{"$f":"IF(K36>0,0.5,1)","v":1},{"$f":"100-ABS(K36*L36)*100","v":66.66666666666667}]
[{"$nulls":3},300,null,null,201,null,null,{"$f":"G37-D37","v":-99},{"$f":"J37/D37","v":-0.33},{"$f":"IF(K37>0,0.5,1)","v":1},{"$f":"100-ABS(K37*L37)*100","v":67}]
[{"$nulls":3},300,null,null,202,null,null,-98,-0.32666666666666666,1,67.33333333333334]
[{"$nulls":3},300,null,null,203,null,null,-97,-0.3233333333333333,1,67.66666666666667]
[{"$nulls":3},300,null,null,204,null,null,-96,-0.32,1,68]
[{"$nulls":3},300,null,null,205,null,null,-95,-0.31666666666666665,1,68.33333333333334]
[{"$nulls":3},300,null,null,206,null,null,-94,-0.31333333333333335,1,68.66666666666666]
[{"$nulls":3},300,null,null,207,null,null,-93,-0.31,1,69]
[{"$nulls":3},300,null,null,208,null,null,-92,-0.30666666666666664,1,69.33333333333334]
[{"$nulls":3},300,null,null,209,null,null,-91,-0.30333333333333334,1,69.66666666666666]
[{"$nulls":3},300,null,null,210,null,null,-90,-0.3,1,70]
[{"$nulls":3},300,null,null,211,null,null,-89,-0.2966666666666667,1,70.33333333333333]
[{"$nulls":3},300,null,null,212,null,null,-88,-0.29333333333333333,1,70.66666666666667]
[{"$nulls":3},300,null,null,213,null,null,-87,-0.29,1,71]
[{"$nulls":3},300,null,null,214,null,null,-86,-0.2866666666666667,1,71.33333333333333]
[{"$nulls":3},300,null,null,215,null,null,-85,-0.2833333333333333,1,71.66666666666667]
[{"$nulls":3},300,null,null,216,null,null,-84,-0.28,1,72]
[{"$nulls":3},300,null,null,217,null,null,-83,-0.27666666666666667,1,72.33333333333333]
[{"$nulls":3},300,null,null,218,null,null,-82,-0.2733333333333333,1,72.66666666666667]
[{"$nulls":3},300,null,null,219,null,null,-81,-0.27,1,73]
[{"$nulls":3},300,null,null,220,null,null,-80,-0.26666666666666666,1,73.33333333333333]
[{"$nulls":3},300,null,null,221,null,null,-79,-0.2633333333333333,1,73.66666666666667]
[{"$nulls":3},300,null,null,222,null,null,-78,-0.26,1,74]
[{"$nulls":3},300,null,null,223,null,null,-77,-0.25666666666666665,1,74.33333333333334]
[{"$nulls":3},300,null,null,224,null,null,-76,-0.25333333333333335,1,74.66666666666666]
[{"$nulls":3},300,null,null,225,null,null,-75,-0.25,1,75]
[{"$nulls":3},300,null,null,226,null,null,-74,-0.24666666666666667,1,75.33333333333333]
[{"$nulls":3},300,null,null,227,null,null,-73,-0.24333333333333335,1,75.66666666666666]
[{"$nulls":3},300,null,null,228,null,null,-72,-0.24,1,76]
[{"$nulls":3},300,null,null,229,null,null,-71,-0.23666666666666666,1,76.33333333333333]
[{"$nulls":3},300,null,null,230,null,null,-70,-0.23333333333333334,1,76.66666666666667]
[{"$nulls":3},300,null,null,231,null,null,-69,-0.23,1,77]
[{"$nulls":3},300,null,null,232,null,null,-68,-0.22666666666666666,1,77.33333333333334]
[{"$nulls":3},300,null,null,233,null,null,-67,-0.22333333333333333,1,77.66666666666667]
[{"$nulls":3},300,null,null,234,null,null,-66,-0.22,1,78]
[{"$nulls":3},300,null,null,235,null,null,-65,-0.21666666666666667,1,78.33333333333333]
[{"$nulls":3},300,null,null,236,null,null,-64,-0.21333333333333335,1,78.66666666666666]
[{"$nulls":3},300,null,null,237,null,null,-63,-0.21,1,79]
[{"$nulls":3},300,null,null,238,null,null,-62,-0.20666666666666667,1,79.33333333333333]
[{"$nulls":3},300,null,null,239,null,null,-61,-0.20333333333333334,1,79.66666666666667]
[{"$nulls":3},300,null,null,240,null,null,-60,-0.2,1,80]
[{"$nulls":3},300,null,null,241,null,null,-59,-0.19666666666666666,1,80.33333333333334]
[{"$nulls":3},300,null,null,242,null,null,-58,-0.19333333333333333,1,80.66666666666667]
[{"$nulls":3},300,null,null,243,null,null,-57,-0.19,1,81]
[{"$nulls":3},300,null,null,244,null,null,-56,-0.18666666666666668,1,81.33333333333333]
[{"$nulls":3},300,null,null,245,null,null,-55,-0.18333333333333332,1,81.66666666666667]
[{"$nulls":3},300,null,null,246,null,null,-54,-0.18,1,82]
[{"$nulls":3},300,null,null,247,null,null,-53,-0.17666666666666667,1,82.33333333333333]
[{"$nulls":3},300,null,null,248,null,null,-52,-0.17333333333333334,1,82.66666666666666]
[{"$nulls":3},300,null,null,249,null,null,-51,-0.17,1,83]
[{"$nulls":3},300,null,null,250,null,null,-50,-0.16666666666666666,1,83.33333333333334]
[{"$nulls":3},300,null,null,251,null,null,-49,-0.16333333333333333,1,83.66666666666667]
[{"$nulls":3},300,null,null,252,null,null,-48,-0.16,1,84]
[{"$nulls":3},300,null,null,253,null,null,-47,-0.15666666666666668,1,84.33333333333333]
[{"$nulls":3},300,null,null,254,null,null,-46,-0.15333333333333332,1,84.66666666666667]
[{"$nulls":3},300,null,null,255,null,null,-45,-0.15,1,85]
[{"$nulls":3},300,null,null,256,null,null,-44,-0.14666666666666667,1,85.33333333333333]
[{"$nulls":3},300,null,null,257,null,null,-43,-0.14333333333333334,1,85.66666666666667]
[{"$nulls":3},300,null,null,258,null,null,-42,-0.14,1,86]
[{"$nulls":3},300,null,null,259,null,null,-41,-0.13666666666666666,1,86.33333333333333]
[{"$nulls":3},300,null,null,260,null,null,-40,-0.13333333333333333,1,86.66666666666667]
[{"$nulls":3},300,null,null,261,null,null,-39,-0.13,1,87]
[{"$nulls":3},300,null,null,262,null,null,-38,-0.12666666666666668,1,87.33333333333333]
[{"$nulls":3},300,null,null,263,null,null,-37,-0.12333333333333334,1,87.66666666666667]
[{"$nulls":3},300,null,null,264,null,null,-36,-0.12,1,88]
[{"$nulls":3},300,null,null,265,null,null,{"$f":"G101-D101","v":-35},{"$f":"J101/D101","v":-0.11666666666666667},{"$f":"IF(K101>0,0.5,1)","v":1},{"$f":"100-ABS(K101*L101)*100","v":88.33333333333333}]
[{"$nulls":3},300,null,null,266,null,null,-34,-0.11333333333333333,1,88.66666666666667]
[{"$nulls":3},300,null,null,267,null,null,-33,-0.11,1,89]
[{"$nulls":3},300,null,null,268,null,null,-32,-0.10666666666666667,1,89.33333333333333]
[{"$nulls":3},300,null,null,269,null,null,-31,-0.10333333333333333,1,89.66666666666667]
[{"$nulls":3},300,null,null,270,null,null,-30,-0.1,1,90]
[{"$nulls":3},300,null,null,271,null,null,-29,-0.09666666666666666,1,90.33333333333333]
[{"$nulls":3},300,null,null,272,null,null,-28,-0.09333333333333334,1,90.66666666666667]
[{"$nulls":3},300,null,null,273,null,null,-27,-0.09,1,91]
[{"$nulls":3},300,null,null,274,null,null,-26,-0.08666666666666667,1,91.33333333333333]
[{"$nulls":3},300,null,null,275,null,null,-25,-0.08333333333333333,1,91.66666666666667]
[{"$nulls":3},300,null,null,276,null,null,-24,-0.08,1,92]
[{"$nulls":3},300,null,null,277,null,null,-23,-0.07666666666666666,1,92.33333333333333]
[{"$nulls":3},300,null,null,278,null,null,-22,-0.07333333333333333,1,92.66666666666667]
[{"$nulls":3},300,null,null,279,null,null,-21,-0.07,1,93]
[{"$nulls":3},300,null,null,280,null,null,-20,-0.06666666666666667,1,93.33333333333333]
[{"$nulls":3},300,null,null,281,null,null,-19,-0.06333333333333334,1,93.66666666666667]
[{"$nulls":3},300,null,null,282,null,null,-18,-0.06,1,94]
[{"$nulls":3},300,null,null,283,null,null,-17,-0.056666666666666664,1,94.33333333333333]
[{"$nulls":3},300,null,null,284,null,null,-16,-0.05333333333333334,1,94.66666666666667]
[{"$nulls":3},300,null,null,285,null,null,-15,-0.05,1,95]
[{"$nulls":3},300,null,null,286,null,null,-14,-0.04666666666666667,1,95.33333333333333]
[{"$nulls":3},300,null,null,287,null,null,-13,-0.043333333333333335,1,95.66666666666667]
[{"$nulls":3},300,null,null,288,null,null,-12,-0.04,1,96]
[{"$nulls":3},300,null,null,289,null,null,-11,-0.03666666666666667,1,96.33333333333333]
[{"$nulls":3},300,null,null,290,null,null,-10,-0.03333333333333333,1,96.66666666666667]
[{"$nulls":3},300,null,null,291,null,null,-9,-0.03,1,97]
[{"$nulls":3},300,null,null,292,null,null,-8,-0.02666666666666667,1,97.33333333333333]
[{"$nulls":3},300,null,null,293,null,null,-7,-0.023333333333333334,1,97.66666666666667]
[{"$nulls":3},300,null,null,294,null,null,-6,-0.02,1,98]
[{"$nulls":3},300,null,null,295,null,null,-5,-0.016666666666666666,1,98.33333333333333]
[{"$nulls":3},300,null,null,296,null,null,-4,-0.013333333333333334,1,98.66666666666667]
[{"$nulls":3},300,null,null,297,null,null,-3,-0.01,1,99]
[{"$nulls":3},300,null,null,298,null,null,-2,-0.006666666666666667,1,99.33333333333333]
[{"$nulls":3},300,null,null,299,null,null,-1,-3.3333333333333335E-3,1,99.66666666666667]
[{"$nulls":3},300,null,null,300,null,null,0,0,1,100]
[{"$nulls":3},300,null,null,301,null,null,1,3.3333333333333335E-3,0.5,99.83333333333333]
[{"$nulls":3},300,null,null,302,null,null,2,0.006666666666666667,0.5,99.66666666666667]
[{"$nulls":3},300,null,null,303,null,null,3,0.01,0.5,99.5]
[{"$nulls":3},300,null,null,304,null,null,4,0.013333333333333334,0.5,99.33333333333333]
[{"$nulls":3},300,null,null,305,null,null,5,0.016666666666666666,0.5,99.16666666666667]
[{"$nulls":3},300,null,null,306,null,null,6,0.02,0.5,99]
[{"$nulls":3},300,null,null,307,null,null,7,0.023333333333333334,0.5,98.83333333333333]
[{"$nulls":3},300,null,null,308,null,null,8,0.02666666666666667,0.5,98.66666666666667]
[{"$nulls":3},300,null,null,309,null,null,9,0.03,0.5,98.5]
[{"$nulls":3},300,null,null,310,null,null,10,0.03333333333333333,0.5,98.33333333333333]
[{"$nulls":3},300,null,null,311,null,null,11,0.03666666666666667,0.5,98.16666666666667]
[{"$nulls":3},300,null,null,312,null,null,12,0.04,0.5,98]
[{"$nulls":3},300,null,null,313,null,null,13,0.043333333333333335,0.5,97.83333333333333]
[{"$nulls":3},300,null,null,314,null,null,14,0.04666666666666667,0.5,97.66666666666667]
[{"$nulls":3},300,null,null,315,null,null,15,0.05,0.5,97.5]
[{"$nulls":3},300,null,null,316,null,null,16,0.05333333333333334,0.5,97.33333333333333]
[{"$nulls":3},300,null,null,317,null,null,17,0.056666666666666664,0.5,97.16666666666667]
[{"$nulls":3},300,null,null,318,null,null,18,0.06,0.5,97]
[{"$nulls":3},300,null,null,319,null,null,19,0.06333333333333334,0.5,96.83333333333333]
[{"$nulls":3},300,null,null,320,null,null,20,0.06666666666666667,0.5,96.66666666666667]
[{"$nulls":3},300,null,null,321,null,null,21,0.07,0.5,96.5]
[{"$nulls":3},300,null,null,322,null,null,22,0.07333333333333333,0.5,96.33333333333333]
[{"$nulls":3},300,null,null,323,null,null,23,0.07666666666666666,0.5,96.16666666666667]
[{"$nulls":3},300,null,null,324,null,null,24,0.08,0.5,96]
[{"$nulls":3},300,null,null,325,null,null,25,0.08333333333333333,0.5,95.83333333333333]
[{"$nulls":3},300,null,null,326,null,null,26,0.08666666666666667,0.5,95.66666666666667]
[{"$nulls":3},300,null,null,327,null,null,27,0.09,0.5,95.5]
[{"$nulls":3},300,null,null,328,null,null,28,0.09333333333333334,0.5,95.33333333333333]
[{"$nulls":3},300,null,null,329,null,null,{"$f":"G165-D165","v":29},{"$f":"J165/D165","v":0.09666666666666666},{"$f":"IF(K165>0,0.5,1)","v":0.5},{"$f":"100-ABS(K165*L165)*100","v":95.16666666666667}]
[{"$nulls":3},300,null,null,330,null,null,30,0.1,0.5,95]
[{"$nulls":3},300,null,null,331,null,null,31,0.10333333333333333,0.5,94.83333333333333]
[{"$nulls":3},300,null,null,332,null,null,32,0.10666666666666667,0.5,94.66666666666667]
[{"$nulls":3},300,null,null,333,null,null,33,0.11,0.5,94.5]
[{"$nulls":3},300,null,null,334,null,null,34,0.11333333333333333,0.5,94.33333333333333]
[{"$nulls":3},300,null,null,335,null,null,35,0.11666666666666667,0.5,94.16666666666667]
[{"$nulls":3},300,null,null,336,null,null,36,0.12,0.5,94]
[{"$nulls":3},300,null,null,337,null,null,37,0.12333333333333334,0.5,93.83333333333333]
[{"$nulls":3},300,null,null,338,null,null,38,0.12666666666666668,0.5,93.66666666666667]
[{"$nulls":3},300,null,null,339,null,null,39,0.13,0.5,93.5]
[{"$nulls":3},300,null,null,340,null,null,40,0.13333333333333333,0.5,93.33333333333333]
[{"$nulls":3},300,null,null,341,null,null,41,0.13666666666666666,0.5,93.16666666666667]
[{"$nulls":3},300,null,null,342,null,null,42,0.14,0.5,93]
[{"$nulls":3},300,null,null,343,null,null,43,0.14333333333333334,0.5,92.83333333333333]
[{"$nulls":3},300,null,null,344,null,null,44,0.14666666666666667,0.5,92.66666666666667]
[{"$nulls":3},300,null,null,345,null,null,45,0.15,0.5,92.5]
[{"$nulls":3},300,null,null,346,null,null,46,0.15333333333333332,0.5,92.33333333333333]
[{"$nulls":3},300,null,null,347,null,null,47,0.15666666666666668,0.5,92.16666666666667]
[{"$nulls":3},300,null,null,348,null,null,48,0.16,0.5,92]
[{"$nulls":3},300,null,null,349,null,null,49,0.16333333333333333,0.5,91.83333333333333]
[{"$nulls":3},300,null,null,350,null,null,50,0.16666666666666666,0.5,91.66666666666667]
[{"$nulls":3},300,null,null,351,null,null,51,0.17,0.5,91.5]
[{"$nulls":3},300,null,null,352,null,null,52,0.17333333333333334,0.5,91.33333333333333]
[{"$nulls":3},300,null,null,353,null,null,53,0.17666666666666667,0.5,91.16666666666667]
[{"$nulls":3},300,null,null,354,null,null,54,0.18,0.5,91]
[{"$nulls":3},300,null,null,355,null,null,55,0.18333333333333332,0.5,90.83333333333333]
[{"$nulls":3},300,null,null,356,null,null,56,0.18666666666666668,0.5,90.66666666666667]
[{"$nulls":3},300,null,null,357,null,null,57,0.19,0.5,90.5]
[{"$nulls":3},300,null,null,358,null,null,58,0.19333333333333333,0.5,90.33333333333333]
[{"$nulls":3},300,null,null,359,null,null,59,0.19666666666666666,0.5,90.16666666666667]
[{"$nulls":3},300,null,null,360,null,null,60,0.2,0.5,90]
[{"$nulls":3},300,null,null,361,null,null,61,0.20333333333333334,0.5,89.83333333333333]
[{"$nulls":3},300,null,null,362,null,null,62,0.20666666666666667,0.5,89.66666666666667]
[{"$nulls":3},300,null,null,363,null,null,63,0.21,0.5,89.5]
[{"$nulls":3},300,null,null,364,null,null,64,0.21333333333333335,0.5,89.33333333333333]
[{"$nulls":3},300,null,null,365,null,null,65,0.21666666666666667,0.5,89.16666666666667]
[{"$nulls":3},300,null,null,366,null,null,66,0.22,0.5,89]
[{"$nulls":3},300,null,null,367,null,null,67,0.22333333333333333,0.5,88.83333333333333]
[{"$nulls":3},300,null,null,368,null,null,68,0.22666666666666666,0.5,88.66666666666667]
[{"$nulls":3},300,null,null,369,null,null,69,0.23,0.5,88.5]
[{"$nulls":3},300,null,null,370,null,null,70,0.23333333333333334,0.5,88.33333333333333]
[{"$nulls":3},300,null,null,371,null,null,71,0.23666666666666666,0.5,88.16666666666667]
[{"$nulls":3},300,null,null,372,null,null,72,0.24,0.5,88]
[{"$nulls":3},300,null,null,373,null,null,73,0.24333333333333335,0.5,87.83333333333333]
[{"$nulls":3},300,null,null,374,null,null,74,0.24666666666666667,0.5,87.66666666666667]
[{"$nulls":3},300,null,null,375,null,null,75,0.25,0.5,87.5]
[{"$nulls":3},300,null,null,376,null,null,76,0.25333333333333335,0.5,87.33333333333333]
[{"$nulls":3},300,null,null,377,null,null,77,0.25666666666666665,0.5,87.16666666666667]
[{"$nulls":3},300,null,null,378,null,null,78,0.26,0.5,87]
[{"$nulls":3},300,null,null,379,null,null,79,0.2633333333333333,0.5,86.83333333333333]
[{"$nulls":3},300,null,null,380,null,null,80,0.26666666666666666,0.5,86.66666666666667]
[{"$nulls":3},300,null,null,381,null,null,81,0.27,0.5,86.5]
[{"$nulls":3},300,null,null,382,null,null,82,0.2733333333333333,0.5,86.33333333333333]
[{"$nulls":3},300,null,null,383,null,null,83,0.27666666666666667,0.5,86.16666666666667]
[{"$nulls":3},300,null,null,384,null,null,84,0.28,0.5,86]
[{"$nulls":3},300,null,null,385,null,null,85,0.2833333333333333,0.5,85.83333333333333]
[{"$nulls":3},300,null,null,386,null,null,86,0.2866666666666667,0.5,85.66666666666667]
[{"$nulls":3},300,null,null,387,null,null,87,0.29,0.5,85.5]
[{"$nulls":3},300,null,null,388,null,null,88,0.29333333333333333,0.5,85.33333333333333]
[{"$nulls":3},300,null,null,389,null,null,89,0.2966666666666667,0.5,85.16666666666667]
[{"$nulls":3},300,null,null,390,null,null,90,0.3,0.5,85]
[{"$nulls":3},300,null,null,391,null,null,91,0.30333333333333334,0.5,84.83333333333333]
[{"$nulls":3},300,null,null,392,null,null,92,0.30666666666666664,0.5,84.66666666666667]
[{"$nulls":3},300,null,null,393,null,null,{"$f":"G229-D229","v":93},{"$f":"J229/D229","v":0.31},{"$f":"IF(K229>0,0.5,1)","v":0.5},{"$f":"100-ABS(K229*L229)*100","v":84.5}]
[{"$nulls":3},300,null,null,394,null,null,94,0.31333333333333335,0.5,84.33333333333333]
[{"$nulls":3},300,null,null,395,null,null,95,0.31666666666666665,0.5,84.16666666666667]
[{"$nulls":3},300,null,null,396,null,null,96,0.32,0.5,84]
[{"$nulls":3},300,null,null,397,null,null,97,0.3233333333333333,0.5,83.83333333333334]
[{"$nulls":3},300,null,null,398,null,null,98,0.32666666666666666,0.5,83.66666666666667]
[{"$nulls":3},300,null,null,399,null,null,99,0.33,0.5,83.5]
[{"$nulls":3},300,null,null,400,null,null,100,0.3333333333333333,0.5,83.33333333333334]

{"sheet":"Performance2","index":13,"n_rows":236,"n_cols":35,"rows_kept":236,"merged":[[0,0,0,2],[0,3,0,5],[0,6,0,8],[0,15,0,32],[1,0,1,2],[1,3,1,5],[1,6,1,8],[1,15,1,29],[1,30,1,32],[2,0,2,2],[2,3,2,5],[2,6,2,8],[2,15,2,29],[2,30,2,32],[3,0,3,2],[3,3,3,5],[3,6,3,8],[3,15,3,29],[3,30,3,32],[4,0,5,2],[4,3,4,5],[4,6,4,8],[4,15,4,29],[4,30,4,32],[5,3,5,5],[5,6,5,8],[5,15,5,29],[5,30,5,32],[6,0,6,2],[6,3,6,5],[6,6,6,8],[6,15,6,29],[6,30,6,32],[7,0,7,2],[7,3,7,5],[7,6,7,8],[7,15,7,29],[7,30,7,32],[14,0,14,2],[14,3,14,5],[14,6,14,8],[14,13,14,15],[15,0,15,2],[15,3,15,5],[15,6,15,8],[15,13,19,13],[15,14,16,14],[15,15,16,15],[16,0,16,2],[16,3,16,5],[16,6,16,8],[17,0,17,2],[17,3,17,5],[17,6,17,8],[17,14,19,14],[17,15,19,15],[18,0,19,2],[18,3,18,5],[18,6,18,8],[18,9,19,9],[18,10,19,10],[18,11,19,11],[18,12,19,12],[19,3,19,5],[19,6,19,8],[20,0,20,2],[20,3,20,5],[20,6,20,8],[21,0,21,2],[21,3,21,5],[21,6,21,8],[22,11,26,11],[22,12,26,12],[27,0,27,9],[35,0,35,2],[35,3,35,5],[35,6,35,8],[36,3,36,5],[36,6,36,8],[37,3,37,5],[37,6,37,8],[38,3,38,5],[38,6,38,8],[39,3,39,5],[39,6,39,8],[40,3,40,5],[40,6,40,8],[41,3,41,5],[41,6,41,8],[42,3,42,5],[42,6,42,8],[43,3,43,5],[43,6,43,8],[44,3,44,5],[44,6,44,8],[45,3,45,5],[45,6,45,8],[46,3,46,5],[46,6,46,8],[47,3,47,5],[47,6,47,8],[48,3,48,5],[48,6,48,8],[49,3,49,5],[49,6,49,8],[50,3,50,5],[50,6,50,8],[51,3,51,5],[51,6,51,8],[52,3,52,5],[52,6,52,8],[53,3,53,5],[53,6,53,8],[54,3,54,5],[54,6,54,8],[55,3,55,5],[55,6,55,8],[56,3,56,5],[56,6,56,8],[57,3,57,5],[57,6,57,8],[58,3,58,5],[58,6,58,8],[59,3,59,5],[59,6,59,8],[60,3,60,5],[60,6,60,8],[61,3,61,5],[61,6,61,8],[62,3,62,5],[62,6,62,8],[63,3,63,5],[63,6,63,8],[64,3,64,5],[64,6,64,8],[65,3,65,5],[65,6,65,8],[66,3,66,5],[66,6,66,8],[67,3,67,5],[67,6,67,8],[68,3,68,5],[68,6,68,8],[69,3,69,5],[69,6,69,8],[70,3,70,5],[70,6,70,8],[71,3,71,5],[71,6,71,8],[72,3,72,5],[72,6,72,8],[73,3,73,5],[73,6,73,8],[74,3,74,5],[74,6,74,8],[75,3,75,5],[75,6,75,8],[76,3,76,5],[76,6,76,8],[77,3,77,5],[77,6,77,8],[78,3,78,5],[78,6,78,8],[79,3,79,5],[79,6,79,8],[80,3,80,5],[80,6,80,8],[81,3,81,5],[81,6,81,8],[82,3,82,5],[82,6,82,8],[83,3,83,5],[83,6,83,8],[84,3,84,5],[84,6,84,8],[85,3,85,5],[85,6,85,8],[86,3,86,5],[86,6,86,8],[87,3,87,5],[87,6,87,8],[88,3,88,5],[88,6,88,8],[89,3,89,5],[89,6,89,8],[90,3,90,5],[90,6,90,8],[91,3,91,5],[91,6,91,8],[92,3,92,5],[92,6,92,8],[93,3,93,5],[93,6,93,8],[94,3,94,5],[94,6,94,8],[95,3,95,5],[95,6,95,8],[96,3,96,5],[96,6,96,8],[97,3,97,5],[97,6,97,8],[98,3,98,5],[98,6,98,8],[99,3,99,5],[99,6,99,8],[100,3,100,5],[100,6,100,8],[101,3,101,5],[101,6,101,8],[102,3,102,5],[102,6,102,8],[103,3,103,5],[103,6,103,8],[104,3,104,5],[104,6,104,8],[105,3,105,5],[105,6,105,8],[106,3,106,5],[106,6,106,8],[107,3,107,5],[107,6,107,8],[108,3,108,5],[108,6,108,8],[109,3,109,5],[109,6,109,8],[110,3,110,5],[110,6,110,8],[111,3,111,5],[111,6,111,8],[112,3,112,5],[112,6,112,8],[113,3,113,5],[113,6,113,8],[114,3,114,5],[114,6,114,8],[115,3,115,5],[115,6,115,8],[116,3,116,5],[116,6,116,8],[117,3,117,5],[117,6,117,8],[118,3,118,5],[118,6,118,8],[119,3,119,5],[119,6,119,8],[120,3,120,5],[120,6,120,8],[121,3,121,5],[121,6,121,8],[122,3,122,5],[122,6,122,8],[123,3,123,5],[123,6,123,8],[124,3,124,5],[124,6,124,8],[125,3,125,5],[125,6,125,8],[126,3,126,5],[126,6,126,8],[127,3,127,5],[127,6,127,8],[128,3,128,5],[128,6,128,8],[129,3,129,5],[129,6,129,8],[130,3,130,5],[130,6,130,8],[131,3,131,5],[131,6,131,8],[132,3,132,5],[132,6,132,8],[133,3,133,5],[133,6,133,8],[134,3,134,5],[134,6,134,8],[135,3,135,5],[135,6,135,8],[136,3,136,5],[136,6,136,8],[137,3,137,5],[137,6,137,8],[138,3,138,5],[138,6,138,8],[139,3,139,5],[139,6,139,8],[140,3,140,5],[140,6,140,8],[141,3,141,5],[141,6,141,8],[142,3,142,5],[142,6,142,8],[143,3,143,5],[143,6,143,8],[144,3,144,5],[144,6,144,8],[145,3,145,5],[145,6,145,8],[146,3,146,5],[146,6,146,8],[147,3,147,5],[147,6,147,8],[148,3,148,5],[148,6,148,8],[149,3,149,5],[149,6,149,8],[150,3,150,5],[150,6,150,8],[151,3,151,5],[151,6,151,8],[152,3,152,5],[152,6,152,8],[153,3,153,5],[153,6,153,8],[154,3,154,5],[154,6,154,8],[155,3,155,5],[155,6,155,8],[156,3,156,5],[156,6,156,8],[157,3,157,5],[157,6,157,8],[158,3,158,5],[158,6,158,8],[159,3,159,5],[159,6,159,8],[160,3,160,5],[160,6,160,8],[161,3,161,5],[161,6,161,8],[162,3,162,5],[162,6,162,8],[163,3,163,5],[163,6,163,8],[164,3,164,5],[164,6,164,8],[165,3,165,5],[165,6,165,8],[166,3,166,5],[166,6,166,8],[167,3,167,5],[167,6,167,8],[168,3,168,5],[168,6,168,8],[169,3,169,5],[169,6,169,8],[170,3,170,5],[170,6,170,8],[171,3,171,5],[171,6,171,8],[172,3,172,5],[172,6,172,8],[173,3,173,5],[173,6,173,8],[174,3,174,5],[174,6,174,8],[175,3,175,5],[175,6,175,8],[176,3,176,5],[176,6,176,8],[177,3,177,5],[177,6,177,8],[178,3,178,5],[178,6,178,8],[179,3,179,5],[179,6,179,8],[180,3,180,5],[180,6,180,8],[181,3,181,5],[181,6,181,8],[182,3,182,5],[182,6,182,8],[183,3,183,5],[183,6,183,8],[184,3,184,5],[184,6,184,8],[185,3,185,5],[185,6,185,8],[186,3,186,5],[186,6,186,8],[187,3,187,5],[187,6,187,8],[188,3,188,5],[188,6,188,8],[189,3,189,5],[189,6,189,8],[190,3,190,5],[190,6,190,8],[191,3,191,5],[191,6,191,8],[192,3,192,5],[192,6,192,8],[193,3,193,5],[193,6,193,8],[194,3,194,5],[194,6,194,8],[195,3,195,5],[195,6,195,8],[196,3,196,5],[196,6,196,8],[197,3,197,5],[197,6,197,8],[198,3,198,5],[198,6,198,8],[199,3,199,5],[199,6,199,8],[200,3,200,5],[200,6,200,8],[201,3,201,5],[201,6,201,8],[202,3,202,5],[202,6,202,8],[203,3,203,5],[203,6,203,8],[204,3,204,5],[204,6,204,8],[205,3,205,5],[205,6,205,8],[206,3,206,5],[206,6,206,8],[207,3,207,5],[207,6,207,8],[208,3,208,5],[208,6,208,8],[209,3,209,5],[209,6,209,8],[210,3,210,5],[210,6,210,8],[211,3,211,5],[211,6,211,8],[212,3,212,5],[212,6,212,8],[213,3,213,5],[213,6,213,8],[214,3,214,5],[214,6,214,8],[215,3,215,5],[215,6,215,8],[216,3,216,5],[216,6,216,8],[217,3,217,5],[217,6,217,8],[218,3,218,5],[218,6,218,8],[219,3,219,5],[219,6,219,8],[220,3,220,5],[220,6,220,8],[221,3,221,5],[221,6,221,8],[222,3,222,5],[222,6,222,8],[223,3,223,5],[223,6,223,8],[224,3,224,5],[224,6,224,8],[225,3,225,5],[225,6,225,8],[226,3,226,5],[226,6,226,8],[227,3,227,5],[227,6,227,8],[228,3,228,5],[228,6,228,8],[229,3,229,5],[229,6,229,8],[230,3,230,5],[230,6,230,8],[231,3,231,5],[231,6,231,8],[232,3,232,5],[232,6,232,8],[233,3,233,5],[233,6,233,8],[234,3,234,5],[234,6,234,8],[235,3,235,5],[235,6,235,8]]}
[{"$nulls":3},"Real customer needs",null,null,"Design",null,null,"Rest","Variation","PERCENTAGE","LEAN POINTS",null,null,"Real characteristics"]
["Capacity (Number pass)",null,null,"NPC",null,null,"NP",null,null,"NPC-NP","Res/NPC","SI(L2>0;0,5;1)","100-Variation*Percentage",null,null,"Np",{"$nulls":14},{"$f":"Review2!$R$11","v":116},{"$nulls":3},0]
["Fast/Slow",null,null,"Ratio of power customer",null,null,"Ratio of power",{"$nulls":8},"Ratio of Power",{"$nulls":14},{"$f":"Review2!$R$12","v":32}]
["Km of travel",null,null,"Km of travel customer",null,null,"Km of travel",{"$nulls":8},"Km of Travel",{"$nulls":14},{"$f":"Review2!$R$13","v":10800}]
["Parking requirements",null,null,"LC                                                      ",null,null,"L                                                        ",{"$nulls":8},"Lenght",{"$nulls":14},{"$f":"Review2!$R$14","v":22}]
[{"$nulls":3},"  WsC",null,null,"Ws",{"$nulls":8},"Ws",{"$nulls":14},{"$f":"Review2!$R$15","v":26}]
["Cost",null,null,"Cost of customer",null,null,"Cost",null,null,"neg",{"$nulls":5},"Cost",{"$nulls":14},{"$f":"Review2!$R$16","v":17480}]
["Delivery time",null,null,"Delivery tim of customer",null,null,"Delilvery time",null,null,"neg",{"$nulls":5},"Dtc",{"$nulls":14},{"$f":"Review2!$R$17","v":3422}]
[]
[]
[]
[]
[]
[]
[{"$nulls":3},"Real customer needs",null,null,"Design",null,null,"Rest","Variation","Percentage","LEAN POINTS","Iteration PENALITIES"]
["1.Capacity (Number pass)",null,null,{"$f":"'Customer needs2'!$B$33","v":75},null,null,{"$f":"Review2!R11","v":116},null,null,{"$f":"G16-D16","v":41},{"$f":"J16/D16","v":0.5466666666666666},{"$f":"IF(K16>0,0.5,1)","v":0.5},{"$f":"100-ABS(K16*L16)*100","v":72.66666666666667},null,"Number of Iterations of clock","Number of Iterations of can the airplane fly??"]
["2.Fast/Slow",null,null,{"$f":"'Customer needs2'!$B$34","v":22},null,null,{"$f":"Review2!R12","v":32},null,null,{"$f":"G17-D17","v":10},{"$f":"J17/D17","v":0.45454545454545453},{"$f":"IF(K17>0,0.5,1)","v":0.5},{"$f":"100-ABS(K17*L17)*100","v":77.27272727272728}]
["3. Km of travel",null,null,{"$f":"'Customer needs2'!$B$35","v":14700},null,null,{"$f":"Review2!R13","v":10800},null,null,{"$f":"G18-D18","v":-3900},{"$f":"J18/D18","v":-0.2653061224489796},1,{"$f":"100-ABS(K18*L18)*100","v":73.46938775510205},null,0]
["4. Parking requirements",null,null,{"$f":"'Customer needs2'!$B$36","v":10},null,null,{"$f":"Review2!R14","v":22},null,null,{"$f":"MAX(G19-D19,G20-D20)","v":12},{"$f":"J19/D19","v":1.2},0.5,{"$f":"100-ABS(K19*L19)*100","v":40}]
[{"$nulls":3},{"$f":"'Customer needs2'!$B$37","v":32},null,null,{"$f":"Review2!R15","v":26}]
["5. Cost",null,null,{"$f":"'Customer needs2'!$B$38","v":19670},null,null,{"$f":"Review2!R16","v":17480},null,null,{"$f":"-(G21+O21+P21-D21)","v":1650},{"$f":"J21/D21","v":0.0838840874428063},0.5,{"$f":"100-ABS(K21*L21)*100","v":95.80579562785968},"Oportunity Cost",{"$f":"18*30+36*30*O18+G21*0.05*O18","v":540},{"$f":"(P18)*20*5","v":0}]
["6. Delivery time",null,null,{"$f":"'Customer needs2'!$B$39","v":5503},null,null,{"$f":"Review2!R17","v":3422},null,null,{"$f":"-(G22+O22+P22-D22)","v":2081},{"$f":"J22/D22","v":0.37815736870797745},0.5,{"$f":"100-ABS(K22*L22)*100","v":81.09213156460113},"Time Cost",{"$f":"O18*20*60","v":0},{"$f":"P18*5*60","v":0}]
[{"$nulls":11},"LEAN POINTS",{"$f":"SUM(M16:M22)/6","v":{"v":73.38445148115947,"d":"73"}}]
[]
[]
[]
[]
["The perfect design is going to have 100 points. In any other case, you will haver penalizations."]
[]
[]
[]
[]
["Example:"]
[]
[]
["1.Capacity (Number pass)",null,null,300,null,null,200,null,null,{"$f":"G36-D36","v":-100},{"$f":"J36/D36","v":-0.3333333333333333},{"$f":"IF(K36>0,0.5,1)","v":1},{"$f":"100-ABS(K36*L36)*100","v":66.66666666666667}]
[{"$nulls":3},300,null,null,201,null,null,{"$f":"G37-D37","v":-99},{"$f":"J37/D37","v":-0.33},{"$f":"IF(K37>0,0.5,1)","v":1},{"$f":"100-ABS(K37*L37)*100","v":67}]
[{"$nulls":3},300,null,null,202,null,null,-98,-0.32666666666666666,1,67.33333333333334]
[{"$nulls":3},300,null,null,203,null,null,-97,-0.3233333333333333,1,67.66666666666667]
[{"$nulls":3},300,null,null,204,null,null,-96,-0.32,1,68]
[{"$nulls":3},300,null,null,205,null,null,-95,-0.31666666666666665,1,68.33333333333334]
[{"$nulls":3},300,null,null,206,null,null,-94,-0.31333333333333335,1,68.66666666666666]
[{"$nulls":3},300,null,null,207,null,null,-93,-0.31,1,69]
[{"$nulls":3},300,null,null,208,null,null,-92,-0.30666666666666664,1,69.33333333333334]
[{"$nulls":3},300,null,null,209,null,null,-91,-0.30333333333333334,1,69.66666666666666]
[{"$nulls":3},300,null,null,210,null,null,-90,-0.3,1,70]
[{"$nulls":3},300,null,null,211,null,null,-89,-0.2966666666666667,1,70.33333333333333]
[{"$nulls":3},300,null,null,212,null,null,-88,-0.29333333333333333,1,70.66666666666667]
[{"$nulls":3},300,null,null,213,null,null,-87,-0.29,1,71]
[{"$nulls":3},300,null,null,214,null,null,-86,-0.2866666666666667,1,71.33333333333333]
[{"$nulls":3},300,null,null,215,null,null,-85,-0.2833333333333333,1,71.66666666666667]
[{"$nulls":3},300,null,null,216,null,null,-84,-0.28,1,72]
[{"$nulls":3},300,null,null,217,null,null,-83,-0.27666666666666667,1,72.33333333333333]
[{"$nulls":3},300,null,null,218,null,null,-82,-0.2733333333333333,1,72.66666666666667]
[{"$nulls":3},300,null,null,219,null,null,-81,-0.27,1,73]
[{"$nulls":3},300,null,null,220,null,null,-80,-0.26666666666666666,1,73.33333333333333]
[{"$nulls":3},300,null,null,221,null,null,-79,-0.2633333333333333,1,73.66666666666667]
[{"$nulls":3},300,null,null,222,null,null,-78,-0.26,1,74]
[{"$nulls":3},300,null,null,223,null,null,-77,-0.25666666666666665,1,74.33333333333334]
[{"$nulls":3},300,null,null,224,null,null,-76,-0.25333333333333335,1,74.66666666666666]
[{"$nulls":3},300,null,null,225,null,null,-75,-0.25,1,75]
[{"$nulls":3},300,null,null,226,null,null,-74,-0.24666666666666667,1,75.33333333333333]
[{"$nulls":3},300,null,null,227,null,null,-73,-0.24333333333333335,1,75.66666666666666]
[{"$nulls":3},300,null,null,228,null,null,-72,-0.24,1,76]
[{"$nulls":3},300,null,null,229,null,null,-71,-0.23666666666666666,1,76.33333333333333]
[{"$nulls":3},300,null,null,230,null,null,-70,-0.23333333333333334,1,76.66666666666667]
[{"$nulls":3},300,null,null,231,null,null,-69,-0.23,1,77]
[{"$nulls":3},300,null,null,232,null,null,-68,-0.22666666666666666,1,77.33333333333334]
[{"$nulls":3},300,null,null,233,null,null,-67,-0.22333333333333333,1,77.66666666666667]
[{"$nulls":3},300,null,null,234,null,null,-66,-0.22,1,78]
[{"$nulls":3},300,null,null,235,null,null,-65,-0.21666666666666667,1,78.33333333333333]
[{"$nulls":3},300,null,null,236,null,null,-64,-0.21333333333333335,1,78.66666666666666]
[{"$nulls":3},300,null,null,237,null,null,-63,-0.21,1,79]
[{"$nulls":3},300,null,null,238,null,null,-62,-0.20666666666666667,1,79.33333333333333]
[{"$nulls":3},300,null,null,239,null,null,-61,-0.20333333333333334,1,79.66666666666667]
[{"$nulls":3},300,null,null,240,null,null,-60,-0.2,1,80]
[{"$nulls":3},300,null,null,241,null,null,-59,-0.19666666666666666,1,80.33333333333334]
[{"$nulls":3},300,null,null,242,null,null,-58,-0.19333333333333333,1,80.66666666666667]
[{"$nulls":3},300,null,null,243,null,null,-57,-0.19,1,81]
[{"$nulls":3},300,null,null,244,null,null,-56,-0.18666666666666668,1,81.33333333333333]
[{"$nulls":3},300,null,null,245,null,null,-55,-0.18333333333333332,1,81.66666666666667]
[{"$nulls":3},300,null,null,246,null,null,-54,-0.18,1,82]
[{"$nulls":3},300,null,null,247,null,null,-53,-0.17666666666666667,1,82.33333333333333]
[{"$nulls":3},300,null,null,248,null,null,-52,-0.17333333333333334,1,82.66666666666666]
[{"$nulls":3},300,null,null,249,null,null,-51,-0.17,1,83]
[{"$nulls":3},300,null,null,250,null,null,-50,-0.16666666666666666,1,83.33333333333334]
[{"$nulls":3},300,null,null,251,null,null,-49,-0.16333333333333333,1,83.66666666666667]
[{"$nulls":3},300,null,null,252,null,null,-48,-0.16,1,84]
[{"$nulls":3},300,null,null,253,null,null,-47,-0.15666666666666668,1,84.33333333333333]
[{"$nulls":3},300,null,null,254,null,null,-46,-0.15333333333333332,1,84.66666666666667]
[{"$nulls":3},300,null,null,255,null,null,-45,-0.15,1,85]
[{"$nulls":3},300,null,null,256,null,null,-44,-0.14666666666666667,1,85.33333333333333]
[{"$nulls":3},300,null,null,257,null,null,-43,-0.14333333333333334,1,85.66666666666667]
[{"$nulls":3},300,null,null,258,null,null,-42,-0.14,1,86]
[{"$nulls":3},300,null,null,259,null,null,-41,-0.13666666666666666,1,86.33333333333333]
[{"$nulls":3},300,null,null,260,null,null,-40,-0.13333333333333333,1,86.66666666666667]
[{"$nulls":3},300,null,null,261,null,null,-39,-0.13,1,87]
[{"$nulls":3},300,null,null,262,null,null,-38,-0.12666666666666668,1,87.33333333333333]
[{"$nulls":3},300,null,null,263,null,null,-37,-0.12333333333333334,1,87.66666666666667]
[{"$nulls":3},300,null,null,264,null,null,-36,-0.12,1,88]
[{"$nulls":3},300,null,null,265,null,null,{"$f":"G101-D101","v":-35},{"$f":"J101/D101","v":-0.11666666666666667},{"$f":"IF(K101>0,0.5,1)","v":1},{"$f":"100-ABS(K101*L101)*100","v":88.33333333333333}]
[{"$nulls":3},300,null,null,266,null,null,-34,-0.11333333333333333,1,88.66666666666667]
[{"$nulls":3},300,null,null,267,null,null,-33,-0.11,1,89]
[{"$nulls":3},300,null,null,268,null,null,-32,-0.10666666666666667,1,89.33333333333333]
[{"$nulls":3},300,null,null,269,null,null,-31,-0.10333333333333333,1,89.66666666666667]
[{"$nulls":3},300,null,null,270,null,null,-30,-0.1,1,90]
[{"$nulls":3},300,null,null,271,null,null,-29,-0.09666666666666666,1,90.33333333333333]
[{"$nulls":3},300,null,null,272,null,null,-28,-0.09333333333333334,1,90.66666666666667]
[{"$nulls":3},300,null,null,273,null,null,-27,-0.09,1,91]
[{"$nulls":3},300,null,null,274,null,null,-26,-0.08666666666666667,1,91.33333333333333]
[{"$nulls":3},300,null,null,275,null,null,-25,-0.08333333333333333,1,91.66666666666667]
[{"$nulls":3},300,null,null,276,null,null,-24,-0.08,1,92]
[{"$nulls":3},300,null,null,277,null,null,-23,-0.07666666666666666,1,92.33333333333333]
[{"$nulls":3},300,null,null,278,null,null,-22,-0.07333333333333333,1,92.66666666666667]
[{"$nulls":3},300,null,null,279,null,null,-21,-0.07,1,93]
[{"$nulls":3},300,null,null,280,null,null,-20,-0.06666666666666667,1,93.33333333333333]
[{"$nulls":3},300,null,null,281,null,null,-19,-0.06333333333333334,1,93.66666666666667]
[{"$nulls":3},300,null,null,282,null,null,-18,-0.06,1,94]
[{"$nulls":3},300,null,null,283,null,null,-17,-0.056666666666666664,1,94.33333333333333]
[{"$nulls":3},300,null,null,284,null,null,-16,-0.05333333333333334,1,94.66666666666667]
[{"$nulls":3},300,null,null,285,null,null,-15,-0.05,1,95]
[{"$nulls":3},300,null,null,286,null,null,-14,-0.04666666666666667,1,95.33333333333333]
[{"$nulls":3},300,null,null,287,null,null,-13,-0.043333333333333335,1,95.66666666666667]
[{"$nulls":3},300,null,null,288,null,null,-12,-0.04,1,96]
[{"$nulls":3},300,null,null,289,null,null,-11,-0.03666666666666667,1,96.33333333333333]
[{"$nulls":3},300,null,null,290,null,null,-10,-0.03333333333333333,1,96.66666666666667]
[{"$nulls":3},300,null,null,291,null,null,-9,-0.03,1,97]
[{"$nulls":3},300,null,null,292,null,null,-8,-0.02666666666666667,1,97.33333333333333]
[{"$nulls":3},300,null,null,293,null,null,-7,-0.023333333333333334,1,97.66666666666667]
[{"$nulls":3},300,null,null,294,null,null,-6,-0.02,1,98]
[{"$nulls":3},300,null,null,295,null,null,-5,-0.016666666666666666,1,98.33333333333333]
[{"$nulls":3},300,null,null,296,null,null,-4,-0.013333333333333334,1,98.66666666666667]
[{"$nulls":3},300,null,null,297,null,null,-3,-0.01,1,99]
[{"$nulls":3},300,null,null,298,null,null,-2,-0.006666666666666667,1,99.33333333333333]
[{"$nulls":3},300,null,null,299,null,null,-1,-3.3333333333333335E-3,1,99.66666666666667]
[{"$nulls":3},300,null,null,300,null,null,0,0,1,100]
[{"$nulls":3},300,null,null,301,null,null,1,3.3333333333333335E-3,0.5,99.83333333333333]
[{"$nulls":3},300,null,null,302,null,null,2,0.006666666666666667,0.5,99.66666666666667]
[{"$nulls":3},300,null,null,303,null,null,3,0.01,0.5,99.5]
[{"$nulls":3},300,null,null,304,null,null,4,0.013333333333333334,0.5,99.33333333333333]
[{"$nulls":3},300,null,null,305,null,null,5,0.016666666666666666,0.5,99.16666666666667]
[{"$nulls":3},300,null,null,306,null,null,6,0.02,0.5,99]
[{"$nulls":3},300,null,null,307,null,null,7,0.023333333333333334,0.5,98.83333333333333]
[{"$nulls":3},300,null,null,308,null,null,8,0.02666666666666667,0.5,98.66666666666667]
[{"$nulls":3},300,null,null,309,null,null,9,0.03,0.5,98.5]
[{"$nulls":3},300,null,null,310,null,null,10,0.03333333333333333,0.5,98.33333333333333]
[{"$nulls":3},300,null,null,311,null,null,11,0.03666666666666667,0.5,98.16666666666667]
[{"$nulls":3},300,null,null,312,null,null,12,0.04,0.5,98]
[{"$nulls":3},300,null,null,313,null,null,13,0.043333333333333335,0.5,97.83333333333333]
[{"$nulls":3},300,null,null,314,null,null,14,0.04666666666666667,0.5,97.66666666666667]
[{"$nulls":3},300,null,null,315,null,null,15,0.05,0.5,97.5]
[{"$nulls":3},300,null,null,316,null,null,16,0.05333333333333334,0.5,97.33333333333333]
[{"$nulls":3},300,null,null,317,null,null,17,0.056666666666666664,0.5,97.16666666666667]
[{"$nulls":3},300,null,null,318,null,null,18,0.06,0.5,97]
[{"$nulls":3},300,null,null,319,null,null,19,0.06333333333333334,0.5,96.83333333333333]
[{"$nulls":3},300,null,null,320,null,null,20,0.06666666666666667,0.5,96.66666666666667]
[{"$nulls":3},300,null,null,321,null,null,21,0.07,0.5,96.5]
[{"$nulls":3},300,null,null,322,null,null,22,0.07333333333333333,0.5,96.33333333333333]
[{"$nulls":3},300,null,null,323,null,null,23,0.07666666666666666,0.5,96.16666666666667]
[{"$nulls":3},300,null,null,324,null,null,24,0.08,0.5,96]
[{"$nulls":3},300,null,null,325,null,null,25,0.08333333333333333,0.5,95.83333333333333]
[{"$nulls":3},300,null,null,326,null,null,26,0.08666666666666667,0.5,95.66666666666667]
[{"$nulls":3},300,null,null,327,null,null,27,0.09,0.5,95.5]
[{"$nulls":3},300,null,null,328,null,null,28,0.09333333333333334,0.5,95.33333333333333]
[{"$nulls":3},300,null,null,329,null,null,{"$f":"G165-D165","v":29},{"$f":"J165/D165","v":0.09666666666666666},{"$f":"IF(K165>0,0.5,1)","v":0.5},{"$f":"100-ABS(K165*L165)*100","v":95.16666666666667}]
[{"$nulls":3},300,null,null,330,null,null,30,0.1,0.5,95]
[{"$nulls":3},300,null,null,331,null,null,31,0.10333333333333333,0.5,94.83333333333333]
[{"$nulls":3},300,null,null,332,null,null,32,0.10666666666666667,0.5,94.66666666666667]
[{"$nulls":3},300,null,null,333,null,null,33,0.11,0.5,94.5]
[{"$nulls":3},300,null,null,334,null,null,34,0.11333333333333333,0.5,94.33333333333333]
[{"$nulls":3},300,null,null,335,null,null,35,0.11666666666666667,0.5,94.16666666666667]
[{"$nulls":3},300,null,null,336,null,null,36,0.12,0.5,94]
[{"$nulls":3},300,null,null,337,null,null,37,0.12333333333333334,0.5,93.83333333333333]
[{"$nulls":3},300,null,null,338,null,null,38,0.12666666666666668,0.5,93.66666666666667]
[{"$nulls":3},300,null,null,339,null,null,39,0.13,0.5,93.5]
[{"$nulls":3},300,null,null,340,null,null,40,0.13333333333333333,0.5,93.33333333333333]
[{"$nulls":3},300,null,null,341,null,null,41,0.13666666666666666,0.5,93.16666666666667]
[{"$nulls":3},300,null,null,342,null,null,42,0.14,0.5,93]
[{"$nulls":3},300,null,null,343,null,null,43,0.14333333333333334,0.5,92.83333333333333]
[{"$nulls":3},300,null,null,344,null,null,44,0.14666666666666667,0.5,92.66666666666667]
[{"$nulls":3},300,null,null,345,null,null,45,0.15,0.5,92.5]
[{"$nulls":3},300,null,null,346,null,null,46,0.15333333333333332,0.5,92.33333333333333]
[{"$nulls":3},300,null,null,347,null,null,47,0.15666666666666668,0.5,92.16666666666667]
[{"$nulls":3},300,null,null,348,null,null,48,0.16,0.5,92]
[{"$nulls":3},300,null,null,349,null,null,49,0.16333333333333333,0.5,91.83333333333333]
[{"$nulls":3},300,null,null,350,null,null,50,0.16666666666666666,0.5,91.66666666666667]
[{"$nulls":3},300,null,null,351,null,null,51,0.17,0.5,91.5]
[{"$nulls":3},300,null,null,352,null,null,52,0.17333333333333334,0.5,91.33333333333333]
[{"$nulls":3},300,null,null,353,null,null,53,0.17666666666666667,0.5,91.16666666666667]
[{"$nulls":3},300,null,null,354,null,null,54,0.18,0.5,91]
[{"$nulls":3},300,null,null,355,null,null,55,0.18333333333333332,0.5,90.83333333333333]
[{"$nulls":3},300,null,null,356,null,null,56,0.18666666666666668,0.5,90.66666666666667]
[{"$nulls":3},300,null,null,357,null,null,57,0.19,0.5,90.5]
[{"$nulls":3},300,null,null,358,null,null,58,0.19333333333333333,0.5,90.33333333333333]
[{"$nulls":3},300,null,null,359,null,null,59,0.19666666666666666,0.5,90.16666666666667]
[{"$nulls":3},300,null,null,360,null,null,60,0.2,0.5,90]
[{"$nulls":3},300,null,null,361,null,null,61,0.20333333333333334,0.5,89.83333333333333]
[{"$nulls":3},300,null,null,362,null,null,62,0.20666666666666667,0.5,89.66666666666667]
[{"$nulls":3},300,null,null,363,null,null,63,0.21,0.5,89.5]
[{"$nulls":3},300,null,null,364,null,null,64,0.21333333333333335,0.5,89.33333333333333]
[{"$nulls":3},300,null,null,365,null,null,65,0.21666666666666667,0.5,89.16666666666667]
[{"$nulls":3},300,null,null,366,null,null,66,0.22,0.5,89]
[{"$nulls":3},300,null,null,367,null,null,67,0.22333333333333333,0.5,88.83333333333333]
[{"$nulls":3},300,null,null,368,null,null,68,0.22666666666666666,0.5,88.66666666666667]
[{"$nulls":3},300,null,null,369,null,null,69,0.23,0.5,88.5]
[{"$nulls":3},300,null,null,370,null,null,70,0.23333333333333334,0.5,88.33333333333333]
[{"$nulls":3},300,null,null,371,null,null,71,0.23666666666666666,0.5,88.16666666666667]
[{"$nulls":3},300,null,null,372,null,null,72,0.24,0.5,88]
[{"$nulls":3},300,null,null,373,null,null,73,0.24333333333333335,0.5,87.83333333333333]
[{"$nulls":3},300,null,null,374,null,null,74,0.24666666666666667,0.5,87.66666666666667]
[{"$nulls":3},300,null,null,375,null,null,75,0.25,0.5,87.5]
[{"$nulls":3},300,null,null,376,null,null,76,0.25333333333333335,0.5,87.33333333333333]
[{"$nulls":3},300,null,null,377,null,null,77,0.25666666666666665,0.5,87.16666666666667]
[{"$nulls":3},300,null,null,378,null,null,78,0.26,0.5,87]
[{"$nulls":3},300,null,null,379,null,null,79,0.2633333333333333,0.5,86.83333333333333]
[{"$nulls":3},300,null,null,380,null,null,80,0.26666666666666666,0.5,86.66666666666667]
[{"$nulls":3},300,null,null,381,null,null,81,0.27,0.5,86.5]
[{"$nulls":3},300,null,null,382,null,null,82,0.2733333333333333,0.5,86.33333333333333]
[{"$nulls":3},300,null,null,383,null,null,83,0.27666666666666667,0.5,86.16666666666667]
[{"$nulls":3},300,null,null,384,null,null,84,0.28,0.5,86]
[{"$nulls":3},300,null,null,385,null,null,85,0.2833333333333333,0.5,85.83333333333333]
[{"$nulls":3},300,null,null,386,null,null,86,0.2866666666666667,0.5,85.66666666666667]
[{"$nulls":3},300,null,null,387,null,null,87,0.29,0.5,85.5]
[{"$nulls":3},300,null,null,388,null,null,88,0.29333333333333333,0.5,85.33333333333333]
[{"$nulls":3},300,null,null,389,null,null,89,0.2966666666666667,0.5,85.16666666666667]
[{"$nulls":3},300,null,null,390,null,null,90,0.3,0.5,85]
[{"$nulls":3},300,null,null,391,null,null,91,0.30333333333333334,0.5,84.83333333333333]
[{"$nulls":3},300,null,null,392,null,null,92,0.30666666666666664,0.5,84.66666666666667]
[{"$nulls":3},300,null,null,393,null,null,{"$f":"G229-D229","v":93},{"$f":"J229/D229","v":0.31},{"$f":"IF(K229>0,0.5,1)","v":0.5},{"$f":"100-ABS(K229*L229)*100","v":84.5}]
[{"$nulls":3},300,null,null,394,null,null,94,0.31333333333333335,0.5,84.33333333333333]
[{"$nulls":3},300,null,null,395,null,null,95,0.31666666666666665,0.5,84.16666666666667]
[{"$nulls":3},300,null,null,396,null,null,96,0.32,0.5,84]
[{"$nulls":3},300,null,null,397,null,null,97,0.3233333333333333,0.5,83.83333333333334]
[{"$nulls":3},300,null,null,398,null,null,98,0.32666666666666666,0.5,83.66666666666667]
[{"$nulls":3},300,null,null,399,null,null,99,0.33,0.5,83.5]
[{"$nulls":3},300,null,null,400,null,null,100,0.3333333333333333,0.5,83.33333333333334]

{"sheet":"Customer needs2","index":14,"n_rows":50,"n_cols":18,"rows_kept":50,"merged":[[7,0,7,1],[14,0,14,1],[20,0,20,1],[26,0,26,1],[30,9,30,11],[31,0,31,1],[33,10,33,11],[34,10,34,11],[41,9,41,11],[44,10,44,11],[45,10,45,11]]}
["BODY"]
["NpbL",9]
["NpbW",{"$f":"EVEN(C3)","v":4},4]
["Npb",36]
["nsb",14,null,3.888888888888889,6.111111111111111]
["ntb",22,null,3]
["ntbt",11]
["COCKPIT"]
["random",15]
["nsc",0]
["ntc",0]
["nbtc",2]
["Lc",1]
[{"$nulls":17},23]
["WING"]
["nsw",21,2,{"$nulls":14},18900]
["ntw",40,{"$nulls":15},3866]
["nbtw",8]
["NpwL",14]
[]
["TAIL"]
["nst",0,1]
["ntt",0]
["nbtt",8]
["NptL",4]
[]
["ENGINE"]
["ne",4]
[]
[]
[{"$nulls":9},"Estimation of customer needs"]
["Customer needs",{"$nulls":9},"Minimum","Maximum"]
["Np",75,{"$nulls":7},"Range of passengers",67,83]
["Ratio of Power",22,{"$nulls":7},"Speed","Slow"]
["Km of Travel",14700,{"$nulls":7},"Km of Travel","Transatlantic"]
["Lenght",10,{"$nulls":7},"Lenght",9,12]
["Ws",32,{"$nulls":7},"Wing Span",26,35]
["Cost",19670,{"$nulls":7},"Cost",17703,21637]
["Dtc",5503,{"$nulls":7},"Delivery time to customer",5503,6604]
[]
[]
[{"$nulls":9},"Estimation of customer needs with Chief Engineer"]
[{"$nulls":10},"Minimum","Maximum"]
[{"$nulls":9},"Range of passengers",75,83]
[{"$nulls":9},"Speed","Slow"]
[{"$nulls":9},"Km of Travel","Transatlantic"]
[{"$nulls":9},"Lenght",9,10]
[{"$nulls":9},"Wing Span",29,32]
[{"$nulls":9},"Cost",17703,19670]
[{"$nulls":9},"Delivery time to customer",4953,5503]

{"sheet":"Review2","index":15,"n_rows":17,"n_cols":18,"rows_kept":17,"merged":[[5,0,7,24],[9,2,9,19],[9,27,9,44],[10,2,10,16],[10,17,10,19],[10,27,10,41],[10,42,10,44],[11,2,11,16],[11,17,11,19],[11,27,11,41],[11,42,11,44],[12,2,12,16],[12,17,12,19],[12,27,12,41],[12,42,12,44],[13,2,13,16],[13,17,13,19],[13,27,13,41],[13,42,13,44],[14,2,14,16],[14,17,14,19],[14,27,14,41],[14,42,14,44],[15,2,15,16],[15,17,15,19],[15,27,15,41],[15,42,15,44],[16,2,16,16],[16,17,16,19],[16,27,16,41],[16,42,16,44]]}
[]
[]
[]
[]
[]
["CHEK HOW GOOD IS YOUR DESIGN."]
[]
[]
[]
[null,null,"Design characteristics"]
[null,null,"Np",{"$nulls":14},116]
[null,null,"Ratio of Power",{"$nulls":14},32]
[null,null,"Km of Travel",{"$nulls":14},10800]
[null,null,"Lenght",{"$nulls":14},22]
[null,null,"Ws",{"$nulls":14},26]
[null,null,"Cost",{"$nulls":14},17480]
[null,null,"Dtc",{"$nulls":14},3422]

{"sheet":"Customer needs","index":16,"n_rows":50,"n_cols":18,"rows_kept":50,"merged":[[7,0,7,1],[14,0,14,1],[20,0,20,1],[26,0,26,1],[30,9,30,11],[31,0,31,1],[33,10,33,11],[34,10,34,11],[41,9,41,11],[44,10,44,11],[45,10,45,11]]}
["BODY"]
["NpbL",24]
["NpbW",{"$f":"EVEN(C3)","v":4},3]
["Npb",96,7]
["nsb",58,null,6.041666666666666,3.958333333333334]
["ntb",19,null,1]
["ntbt",29,22]
["COCKPIT"]
["random",13]
["nsc",4]
["ntc",2]
["nbtc",2]
["Lc",3]
[{"$nulls":17},23]
["WING"]
["nsw",26,1,{"$nulls":14},18900]
["ntw",78,{"$nulls":15},3866]
["nbtw",0]
["NpwL",13]
[]
["TAIL"]
["nst",19,3]
["ntt",1]
["nbtt",4]
["NptL",8]
[]
["ENGINE"]
["ne",8]
[]
[]
[{"$nulls":9},"Estimation of customer needs"]
["Customer needs",{"$nulls":9},"Minimum","Maximum"]
["Np",222,{"$nulls":7},"Range of passengers",178,222]
["Ratio of Power",32,{"$nulls":7},"Speed","Slow"]
["Km of Travel",13000,{"$nulls":7},"Km of Travel","Transatlantic"]
["Lenght",27,{"$nulls":7},"Lenght",19,27]
["Ws",30,{"$nulls":7},"Wing Span",24,33]
["Cost",34400,{"$nulls":7},"Cost",34400,41280]
["Dtc",9646,{"$nulls":7},"Delivery time to customer",8681,10611]
[]
[]
[{"$nulls":9},"Estimation of customer needs with Chief Engineer"]
[{"$nulls":10},"Minimum","Maximum"]
[{"$nulls":9},"Range of passengers",200,222]
[{"$nulls":9},"Speed","Slow"]
[{"$nulls":9},"Km of Travel","Transatlantic"]
[{"$nulls":9},"Lenght",24,27]
[{"$nulls":9},"Wing Span",30,33]
[{"$nulls":9},"Cost",30960,34400]
[{"$nulls":9},"Delivery time to customer",8681,9646]

{"sheet":"Review","index":17,"n_rows":17,"n_cols":18,"rows_kept":17,"merged":[[5,0,7,24],[9,2,9,19],[9,27,9,44],[10,2,10,16],[10,17,10,19],[10,27,10,41],[10,42,10,44],[11,2,11,16],[11,17,11,19],[11,27,11,41],[11,42,11,44],[12,2,12,16],[12,17,12,19],[12,27,12,41],[12,42,12,44],[13,2,13,16],[13,17,13,19],[13,27,13,41],[13,42,13,44],[14,2,14,16],[14,17,14,19],[14,27,14,41],[14,42,14,44],[15,2,15,16],[15,17,15,19],[15,27,15,41],[15,42,15,44],[16,2,16,16],[16,17,16,19],[16,27,16,41],[16,42,16,44]]}
[]
[]
[]
[]
[]
["CHEK HOW GOOD IS YOUR DESIGN."]
[]
[]
[]
[null,null,"Design characteristics"]
[null,null,"Np",{"$nulls":14},116]
[null,null,"Ratio of Power",{"$nulls":14},32]
[null,null,"Km of Travel",{"$nulls":14},10800]
[null,null,"Lenght",{"$nulls":14},22]
[null,null,"Ws",{"$nulls":14},26]
[null,null,"Cost",{"$nulls":14},17480]
[null,null,"Dtc",{"$nulls":14},3422]

{"sheet":"FRONTLOADING","index":18,"n_rows":154,"n_cols":48,"rows_kept":154,"merged":[[1,36,1,39],[2,36,2,39],[2,47,10,69],[3,37,3,39],[4,32,5,33],[4,34,5,35],[4,37,4,39],[5,37,5,39],[6,32,7,33],[6,34,7,35],[6,37,6,39],[7,37,7,39],[8,37,8,39],[9,37,9,39],[13,37,14,49],[26,45,27,46],[32,36,32,39],[33,36,33,39],[34,37,34,39],[35,37,35,39],[36,37,36,39],[37,37,37,39],[38,37,38,39],[39,37,39,39],[40,37,40,39],[63,36,63,39],[64,36,64,39],[65,37,65,39],[66,37,66,39],[67,37,67,39],[68,37,68,39],[69,37,69,39],[70,37,70,39],[71,37,71,39],[94,36,94,39],[95,36,95,39],[96,37,96,39],[97,37,97,39],[98,37,98,39],[99,37,99,39],[100,37,100,39],[101,37,101,39],[102,37,102,39],[125,36,125,39],[126,36,126,39],[127,37,127,39],[128,37,128,39],[129,37,129,39],[130,37,130,39],[131,37,131,39],[132,37,132,39],[133,37,133,39]]}
[]
[{"$nulls":36},"Estimation of customer needs"]
[{"$nulls":47},"Don´t forget, you can COPY and PASTE the designs!!!!"]
[{"$nulls":36},"Range of passengers",116]
[{"$nulls":36},"Speed",32]
[{"$nulls":15},"btc","btc",{"$nulls":19},"Km of Travel",10800]
[{"$nulls":15},"sb","sb",{"$nulls":19},"Lenght",22]
[{"$nulls":15},"sb","sb",{"$nulls":19},"Wing Span",26]
[{"$nulls":15},"sb","sb",{"$nulls":19},"Cost",15480]
[{"$nulls":15},"sb","sb",{"$nulls":19},"Delivery time to customer",3422]
[{"$nulls":14},"btw","sb","sb","btw"]
[{"$nulls":12},"btw","sw","sw","sb","sb","sw","sw","btw"]
[{"$nulls":10},"btw","sw","sw","sw","sw","sb","sb","sw","sw","sw","sw","btw"]
[{"$nulls":8},"btw","sw","sw","sw","sw","sw","sw","sb","sb","sw","sw","sw","sw","sw","sw","btw"]
[{"$nulls":6},"btw","sw","sw","sw","sw","sw","sw","sw","sw","sb","sb","sw","sw","sw","sw","sw","sw","sw","sw","btw"]
[{"$nulls":4},"btw","sw","sw","sw","sw","sw","sw","sw","sw","sw","sw","sb","sb","sw","sw","sw","sw","sw","sw","sw","sw","sw","sw","btw"]
[{"$nulls":8},"e",{"$nulls":3},"e",null,null,"sb","sb",null,null,"e",{"$nulls":3},"e"]
[{"$nulls":15},"sb","sb"]
[{"$nulls":15},"sb","sb"]
[{"$nulls":15},"sb","sb"]
[{"$nulls":15},"sb","sb"]
[{"$nulls":15},"sb","sb"]
[{"$nulls":14},"btt","sb","sb","btt"]
[{"$nulls":12},"btt","st","st","sb","sb","st","st","btt"]
[{"$nulls":10},"btt","st","st","st","st","sb","sb","st","st","st","st","btt"]
[{"$nulls":15},"tb","tb"]
[]
[]
[]
[]
[]
[]
[{"$nulls":36},"Estimation of customer needs"]
[]
[{"$nulls":36},"Range of passengers",68]
[{"$nulls":36},"Speed",43]
[{"$nulls":36},"Km of Travel",6400]
[{"$nulls":36},"Lenght",14]
[{"$nulls":36},"Wing Span",18]
[{"$nulls":15},"btc","btc",{"$nulls":19},"Cost",7200]
[{"$nulls":15},"sb","sb",{"$nulls":19},"Delivery time to customer",1652]
[{"$nulls":15},"sb","sb"]
[{"$nulls":15},"sb","sb"]
[{"$nulls":14},"btw","sb","sb","btw"]
[{"$nulls":12},"btw","sw","sw","sb","sb","sw","sw","btw"]
[{"$nulls":10},"btw","sw","sw","sw","sw","sb","sb","sw","sw","sw","sw","btw"]
[{"$nulls":8},"btw","sw","sw","sw","sw","sw","sw","sb","sb","sw","sw","sw","sw","sw","sw","btw"]
[{"$nulls":12},"e",null,null,"sb","sb",null,null,"e"]
[{"$nulls":15},"sb","sb"]
[{"$nulls":14},"btt","sb","sb","btt"]
[{"$nulls":12},"btt","st","st","sb","sb","st","st","btt"]
[{"$nulls":15},"tb","tb"]
{"$rows_empty":11}
[{"$nulls":36},"Estimation of customer needs"]
[{"$nulls":15},"btc","btc"]
[{"$nulls":15},"sc","sc",{"$nulls":19},"Range of passengers",290]
[{"$nulls":14},"btc","sc","sc","btc",{"$nulls":18},"Speed",12]
[{"$nulls":14},"sb","sb","sb","sb",{"$nulls":18},"Km of Travel",9500]
[{"$nulls":14},"sb","sb","sb","sb",{"$nulls":18},"Lenght",29]
[{"$nulls":14},"sb","sb","sb","sb",{"$nulls":18},"Wing Span",28]
[{"$nulls":14},"sb","sb","sb","sb",{"$nulls":18},"Cost",27380]
[{"$nulls":14},"sb","sb","sb","sb",{"$nulls":18},"Delivery time to customer",5660]
[{"$nulls":13},"btw","sb","sb","sb","sb","btw"]
[{"$nulls":11},"btw","sw","sw","sb","sb","sb","sb","sw","sw","btw"]
[{"$nulls":9},"btw","sw","sw","sw","sw","sb","sb","sb","sb","sw","sw","sw","sw","btw"]
[{"$nulls":7},"btw","sw","sw","sw","sw","sw","sw","sb","sb","sb","sb","sw","sw","sw","sw","sw","sw","btw"]
[{"$nulls":5},"btw","sw","sw","sw","sw","sw","sw","sw","sw","sb","sb","sb","sb","sw","sw","sw","sw","sw","sw","sw","sw","btw"]
[{"$nulls":3},"btw","sw","sw","sw","sw","sw","sw","sw","sw","sw","sw","sb","sb","sb","sb","sw","sw","sw","sw","sw","sw","sw","sw","sw","sw","btw"]
[null,null,"tw","sw","sw","sw","sw","sw","sw","sw","sw","sw","sw","sw","sb","sb","sb","sb","sw","sw","sw","sw","sw","sw","sw","sw","sw","sw","sw","tw"]
[{"$nulls":4},"e",{"$nulls":3},"e",{"$nulls":3},"e",null,"sb","sb","sb","sb",null,"e",{"$nulls":3},"e",{"$nulls":3},"e"]
[{"$nulls":14},"sb","sb","sb","sb"]
[{"$nulls":14},"sb","sb","sb","sb"]
[{"$nulls":14},"sb","sb","sb","sb"]
[{"$nulls":14},"sb","sb","sb","sb"]
[{"$nulls":14},"sb","sb","sb","sb"]
[{"$nulls":14},"sb","sb","sb","sb"]
[{"$nulls":14},"sb","sb","sb","sb"]
[{"$nulls":13},"btt","sb","sb","sb","sb","btt"]
[{"$nulls":11},"btt","st","st","sb","sb","sb","sb","st","st","btt"]
[{"$nulls":9},"btt","st","st","st","st","sb","sb","sb","sb","st","st","st","st","btt"]
[{"$nulls":8},"tt","st","st","st","st","st","sb","sb","sb","sb","st","st","st","st","st","tt"]
[{"$nulls":15},"btb","btb"]
[]
[]
[{"$nulls":36},"Estimation of customer needs"]
[]
[{"$nulls":15},"btc","btc",{"$nulls":19},"Range of passengers",134]
[{"$nulls":15},"sb","sb",{"$nulls":19},"Speed",12]
[{"$nulls":15},"sb","sb",{"$nulls":19},"Km of Travel",14250]
[{"$nulls":15},"sb","sb",{"$nulls":19},"Lenght",25]
[{"$nulls":15},"sb","sb",{"$nulls":19},"Wing Span",26]
[{"$nulls":15},"sb","sb",{"$nulls":19},"Cost",18180]
[{"$nulls":14},"btw","sb","sb","btw",{"$nulls":18},"Delivery time to customer",3824]
[{"$nulls":12},"btw","sw","sw","sb","sb","sw","sw","btw"]
[{"$nulls":10},"btw","sw","sw","sw","sw","sb","sb","sw","sw","sw","sw","btw"]
[{"$nulls":8},"btw","sw","sw","sw","sw","sw","sw","sb","sb","sw","sw","sw","sw","sw","sw","btw"]
[{"$nulls":6},"btw","sw","sw","sw","sw","sw","sw","sw","sw","sb","sb","sw","sw","sw","sw","sw","sw","sw","sw","btw"]
[{"$nulls":4},"btw","sw","sw","sw","sw","sw","sw","sw","sw","sw","sw","sb","sb","sw","sw","sw","sw","sw","sw","sw","sw","sw","sw","btw"]
[{"$nulls":3},"tw","sw","sw","sw","sw","sw","sw","sw","sw","sw","sw","sw","sb","sb","sw","sw","sw","sw","sw","sw","sw","sw","sw","sw","sw","tw"]
[{"$nulls":6},"e",{"$nulls":4},"e",{"$nulls":3},"sb","sb",{"$nulls":3},"e",{"$nulls":4},"e"]
[{"$nulls":15},"sb","sb"]
[{"$nulls":15},"sb","sb"]
[{"$nulls":15},"sb","sb"]
[{"$nulls":15},"sb","sb"]
[{"$nulls":15},"sb","sb"]
[{"$nulls":15},"sb","sb"]
[{"$nulls":14},"btt","sb","sb","btt"]
[{"$nulls":12},"btt","st","st","sb","sb","st","st","btt"]
[{"$nulls":11},"tt","st","st","st","sb","sb","st","st","st","tt"]
[{"$nulls":15},"tb","tb"]
[]
[]
[]
[]
[]
[{"$nulls":36},"Estimation of customer needs"]
[{"$nulls":15},"btc","btc"]
[{"$nulls":15},"sb","sb",{"$nulls":19},"Range of passengers",158]
[{"$nulls":15},"sb","sb",{"$nulls":19},"Speed",21]
[{"$nulls":15},"sb","sb",{"$nulls":19},"Km of Travel",12000]
[{"$nulls":15},"sb","sb",{"$nulls":19},"Lenght",29]
[{"$nulls":15},"sb","sb",{"$nulls":19},"Wing Span",26]
[{"$nulls":15},"sb","sb",{"$nulls":19},"Cost",22820]
[{"$nulls":15},"sb","sb",{"$nulls":19},"Delivery time to customer",5048]
[{"$nulls":15},"sb","sb"]
[{"$nulls":15},"sb","sb"]
[{"$nulls":3},"sw","sw","sw","sw","sw","sw","sw","sw","sw","sw","sw","sw","sb","sb","sw","sw","sw","sw","sw","sw","sw","sw","sw","sw","sw","sw"]
[{"$nulls":3},"sw","sw","sw","sw","sw","sw","sw","sw","sw","sw","sw","sw","sb","sb","sw","sw","sw","sw","sw","sw","sw","sw","sw","sw","sw","sw"]
[{"$nulls":3},"sw","sw","sw","sw","sw","sw","sw","sw","sw","sw","sw","sw","sb","sb","sw","sw","sw","sw","sw","sw","sw","sw","sw","sw","sw","sw"]
[{"$nulls":3},"sw","sw","sw","sw","sw","sw","sw","sw","sw","sw","sw","sw","sb","sb","sw","sw","sw","sw","sw","sw","sw","sw","sw","sw","sw","sw"]
[{"$nulls":3},"sw","sw","sw","sw","sw","sw","sw","sw","sw","sw","sw","sw","sb","sb","sw","sw","sw","sw","sw","sw","sw","sw","sw","sw","sw","sw"]
[{"$nulls":4},"e",{"$nulls":3},"e",{"$nulls":3},"e",null,null,"sb","sb",null,null,"e",{"$nulls":3},"e",{"$nulls":3},"e"]
[{"$nulls":15},"sb","sb"]
[{"$nulls":15},"sb","sb"]
[{"$nulls":15},"sb","sb"]
[{"$nulls":15},"sb","sb"]
[{"$nulls":15},"sb","sb"]
[{"$nulls":15},"sb","sb"]
[{"$nulls":15},"sb","sb"]
[{"$nulls":15},"sb","sb"]
[{"$nulls":9},"st","st","st","st","st","st","sb","sb","st","st","st","st","st","st"]
[{"$nulls":9},"st","st","st","st","st","st","sb","sb","st","st","st","st","st","st"]
[{"$nulls":9},"st","st","st","st","st","st","sb","sb","st","st","st","st","st","st"]
[{"$nulls":15},"tb","tb"]

{"sheet":"Trade of Curves","index":19,"n_rows":1251,"n_cols":27,"rows_kept":1251,"merged":[[1,1,3,15]]}
["                    "]
[null,"   TRADE OF CURVES"]
{"$rows_empty":8}
["                       "]
{"$rows_empty":9}
["                       "]
{"$rows_empty":9}
["                       "]
{"$rows_empty":18}
["Weight","Ratioof Power","Free Power","Total Power (ne=2)",null,"Weight","Ratioof Power","Free Power","Total Power (ne=4)",null,"Weight","Ratioof Power","Free Power","Total Power (ne=6)",null,"Kmof Travel","Wing Surface","DistanceBlock (ne=2)",null,null,"Kmof Travel","Wing Surface","DistanceBlock (ne=4)",null,"Kmof Travel","Wing Surface","DistanceBlock (ne=2)"]
[{"$nulls":15},{"$f":"Q51*$R$51","v":200},1,200,null,null,{"$f":"V51*$W$51","v":150},1,150,null,{"$f":"Z51*$AA$51","v":100},1,100]
[1,{"$f":"ROUND(100*(C52/A52),0)","v":99900},{"$f":"D52-A52","v":999},1000,null,1,{"$f":"ROUND(100*(H52/F52),0)","v":199900},{"$f":"I52-F52","v":1999},2000,null,1,{"$f":"ROUND(100*(M52/K52),0)","v":299900},{"$f":"N52-K52","v":2999},3000,null,{"$f":"Q52*$R$51","v":400},2,{"$nulls":3},{"$f":"V52*$W$51","v":300},2,null,null,{"$f":"Z52*$AA$51","v":200},2]
[2,49900,998,1000,null,2,99900,1998,2000,null,2,149900,2998,3000,null,600,3,{"$nulls":3},450,3,null,null,300,3]
[3,33233,997,1000,null,3,66567,1997,2000,null,3,99900,2997,3000,null,800,4,{"$nulls":3},600,4,null,null,400,4]
[4,24900,996,1000,null,4,49900,1996,2000,null,4,74900,2996,3000,null,1000,5,{"$nulls":3},750,5,null,null,500,5]
[5,19900,995,1000,null,5,39900,1995,2000,null,5,59900,2995,3000,null,1200,6,{"$nulls":3},900,6,null,null,600,6]
[6,16567,994,1000,null,6,33233,1994,2000,null,6,49900,2994,3000,null,1400,7,{"$nulls":3},1050,7,null,null,700,7]
[7,14186,993,1000,null,7,28471,1993,2000,null,7,42757,2993,3000,null,1600,8,{"$nulls":3},1200,8,null,null,800,8]
[8,12400,992,1000,null,8,24900,1992,2000,null,8,37400,2992,3000,null,1800,9,{"$nulls":3},1350,9,null,null,900,9]
[9,11011,991,1000,null,9,22122,1991,2000,null,9,33233,2991,3000,null,2000,10,{"$nulls":3},1500,10,null,null,1000,10]
[10,9900,990,1000,null,10,19900,1990,2000,null,10,29900,2990,3000,null,2200,11,{"$nulls":3},1650,11,null,null,1100,11]
[11,8991,989,1000,null,11,18082,1989,2000,null,11,27173,2989,3000,null,2400,12,{"$nulls":3},1800,12,null,null,1200,12]
[12,8233,988,1000,null,12,16567,1988,2000,null,12,24900,2988,3000,null,2600,13,{"$nulls":3},1950,13,null,null,1300,13]
[13,7592,987,1000,null,13,15285,1987,2000,null,13,22977,2987,3000,null,2800,14,{"$nulls":3},2100,14,null,null,1400,14]
[14,7043,986,1000,null,14,14186,1986,2000,null,14,21329,2986,3000,null,3000,15,{"$nulls":3},2250,15,null,null,1500,15]
[15,6567,985,1000,null,15,13233,1985,2000,null,15,19900,2985,3000,null,3200,16,{"$nulls":3},2400,16,null,null,1600,16]
[16,6150,984,1000,null,16,12400,1984,2000,null,16,18650,2984,3000,null,3400,17,{"$nulls":3},2550,17,null,null,1700,17]
[17,5782,983,1000,null,17,11665,1983,2000,null,17,17547,2983,3000,null,3600,18,{"$nulls":3},2700,18,null,null,1800,18]
[18,5456,982,1000,null,18,11011,1982,2000,null,18,16567,2982,3000,null,3800,19,{"$nulls":3},2850,19,null,null,1900,19]
[19,5163,981,1000,null,19,10426,1981,2000,null,19,15689,2981,3000,null,4000,20,{"$nulls":3},3000,20,null,null,2000,20]
[20,4900,980,1000,null,20,9900,1980,2000,null,20,14900,2980,3000,null,4200,21,{"$nulls":3},3150,21,null,null,2100,21]
[21,4662,979,1000,null,21,9424,1979,2000,null,21,14186,2979,3000,null,4400,22,{"$nulls":3},3300,22,null,null,2200,22]
[22,4445,978,1000,null,22,8991,1978,2000,null,22,13536,2978,3000,null,4600,23,{"$nulls":3},3450,23,null,null,2300,23]
[23,4248,977,1000,null,23,8596,1977,2000,null,23,12943,2977,3000,null,4800,24,{"$nulls":3},3600,24,null,null,2400,24]
[24,4067,976,1000,null,24,8233,1976,2000,null,24,12400,2976,3000,null,5000,25,{"$nulls":3},3750,25,null,null,2500,25]
[25,3900,975,1000,null,25,7900,1975,2000,null,25,11900,2975,3000,null,5200,26,{"$nulls":3},3900,26,null,null,2600,26]
[26,3746,974,1000,null,26,7592,1974,2000,null,26,11438,2974,3000,null,5400,27,{"$nulls":3},4050,27,null,null,2700,27]
[27,3604,973,1000,null,27,7307,1973,2000,null,27,11011,2973,3000,null,5600,28,{"$nulls":3},4200,28,null,null,2800,28]
[28,3471,972,1000,null,28,7043,1972,2000,null,28,10614,2972,3000,null,5800,29,{"$nulls":3},4350,29,null,null,2900,29]
[29,3348,971,1000,null,29,6797,1971,2000,null,29,10245,2971,3000,null,6000,30,{"$nulls":3},4500,30,null,null,3000,30]
[30,3233,970,1000,null,30,6567,1970,2000,null,30,9900,2970,3000,null,6200,31,{"$nulls":3},4650,31,null,null,3100,31]
[31,3126,969,1000,null,31,6352,1969,2000,null,31,9577,2969,3000,null,6400,32,{"$nulls":3},4800,32,null,null,3200,32]
[32,3025,968,1000,null,32,6150,1968,2000,null,32,9275,2968,3000,null,6600,33,{"$nulls":3},4950,33,null,null,3300,33]
[33,2930,967,1000,null,33,5961,1967,2000,null,33,8991,2967,3000,null,6800,34,{"$nulls":3},5100,34,null,null,3400,34]
[34,2841,966,1000,null,34,5782,1966,2000,null,34,8724,2966,3000,null,7000,35,{"$nulls":3},5250,35,null,null,3500,35]
[35,2757,965,1000,null,35,5614,1965,2000,null,35,8471,2965,3000,null,7200,36,{"$nulls":3},5400,36,null,null,3600,36]
[36,2678,964,1000,null,36,5456,1964,2000,null,36,8233,2964,3000,null,7400,37,{"$nulls":3},5550,37,null,null,3700,37]
[37,2603,963,1000,null,37,5305,1963,2000,null,37,8008,2963,3000,null,7600,38,{"$nulls":3},5700,38,null,null,3800,38]
[38,2532,962,1000,null,38,5163,1962,2000,null,38,7795,2962,3000,null,7800,39,{"$nulls":3},5850,39,null,null,3900,39]
[39,2464,961,1000,null,39,5028,1961,2000,null,39,7592,2961,3000,null,8000,40,{"$nulls":3},6000,40,null,null,4000,40]
[40,2400,960,1000,null,40,4900,1960,2000,null,40,7400,2960,3000,null,8200,41,{"$nulls":3},6150,41,null,null,4100,41]
[41,2339,959,1000,null,41,4778,1959,2000,null,41,7217,2959,3000,null,8400,42,{"$nulls":3},6300,42,null,null,4200,42]
[42,2281,958,1000,null,42,4662,1958,2000,null,42,7043,2958,3000,null,8600,43,{"$nulls":3},6450,43,null,null,4300,43]
[43,2226,957,1000,null,43,4551,1957,2000,null,43,6877,2957,3000,null,8800,44,{"$nulls":3},6600,44,null,null,4400,44]
[44,2173,956,1000,null,44,4445,1956,2000,null,44,6718,2956,3000,null,9000,45,{"$nulls":3},6750,45,null,null,4500,45]
[45,2122,955,1000,null,45,4344,1955,2000,null,45,6567,2955,3000,null,9200,46,{"$nulls":3},6900,46,null,null,4600,46]
[46,2074,954,1000,null,46,4248,1954,2000,null,46,6422,2954,3000,null,9400,47,{"$nulls":3},7050,47,null,null,4700,47]
[47,2028,953,1000,null,47,4155,1953,2000,null,47,6283,2953,3000,null,9600,48,{"$nulls":3},7200,48,null,null,4800,48]
[48,1983,952,1000,null,48,4067,1952,2000,null,48,6150,2952,3000,null,9800,49,{"$nulls":3},7350,49,null,null,4900,49]
[49,1941,951,1000,null,49,3982,1951,2000,null,49,6022,2951,3000,null,10000,50,{"$nulls":3},7500,50,null,null,5000,50]
[50,1900,950,1000,null,50,3900,1950,2000,null,50,5900,2950,3000,null,10200,51,{"$nulls":3},7650,51,null,null,5100,51]
[51,1861,949,1000,null,51,3822,1949,2000,null,51,5782,2949,3000,null,10400,52,{"$nulls":3},7800,52,null,null,5200,52]
[52,1823,948,1000,null,52,3746,1948,2000,null,52,5669,2948,3000,null,10600,53,{"$nulls":3},7950,53,null,null,5300,53]
[53,1787,947,1000,null,53,3674,1947,2000,null,53,5560,2947,3000,null,10800,54,{"$nulls":3},8100,54,null,null,5400,54]
[54,1752,946,1000,null,54,3604,1946,2000,null,54,5456,2946,3000,null,11000,55,{"$nulls":3},8250,55,null,null,5500,55]
[55,1718,945,1000,null,55,3536,1945,2000,null,55,5355,2945,3000,null,11200,56,{"$nulls":3},8400,56,null,null,5600,56]
[56,1686,944,1000,null,56,3471,1944,2000,null,56,5257,2944,3000,null,11400,57,{"$nulls":3},8550,57,null,null,5700,57]
[57,1654,943,1000,null,57,3409,1943,2000,null,57,5163,2943,3000,null,11600,58,{"$nulls":3},8700,58,null,null,5800,58]
[58,1624,942,1000,null,58,3348,1942,2000,null,58,5072,2942,3000,null,11800,59,{"$nulls":3},8850,59,null,null,5900,59]
[59,1595,941,1000,null,59,3290,1941,2000,null,59,4985,2941,3000,null,12000,60,{"$nulls":3},9000,60,null,null,6000,60]
[60,1567,940,1000,null,60,3233,1940,2000,null,60,4900,2940,3000,null,12200,61,{"$nulls":3},9150,61,null,null,6100,61]
[61,1539,939,1000,null,61,3179,1939,2000,null,61,4818,2939,3000,null,12400,62,{"$nulls":3},9300,62,null,null,6200,62]
[62,1513,938,1000,null,62,3126,1938,2000,null,62,4739,2938,3000,null,12600,63,{"$nulls":3},9450,63,null,null,6300,63]
[63,1487,937,1000,null,63,3075,1937,2000,null,63,4662,2937,3000,null,12800,64,{"$nulls":3},9600,64,null,null,6400,64]
[64,1463,936,1000,null,64,3025,1936,2000,null,64,4588,2936,3000,null,13000,65,{"$nulls":3},9750,65,null,null,6500,65]
[65,{"$f":"ROUND(100*(C116/A116),0)","v":1438},{"$f":"D116-A116","v":935},1000,null,65,{"$f":"ROUND(100*(H116/F116),0)","v":2977},{"$f":"I116-F116","v":1935},2000,null,65,{"$f":"ROUND(100*(M116/K116),0)","v":4515},{"$f":"N116-K116","v":2935},3000,null,{"$f":"Q116*$R$51","v":13200},66,{"$nulls":3},{"$f":"V116*$W$51","v":9900},66,null,null,{"$f":"Z116*$AA$51","v":6600},66]
[66,1415,934,1000,null,66,2930,1934,2000,null,66,4445,2934,3000,null,13400,67,{"$nulls":3},10050,67,null,null,6700,67]
[67,1393,933,1000,null,67,2885,1933,2000,null,67,4378,2933,3000,null,13600,68,{"$nulls":3},10200,68,null,null,6800,68]
[68,1371,932,1000,null,68,2841,1932,2000,null,68,4312,2932,3000,null,13800,69,{"$nulls":3},10350,69,null,null,6900,69]
[69,1349,931,1000,null,69,2799,1931,2000,null,69,4248,2931,3000,null,14000,70,{"$nulls":3},10500,70,null,null,7000,70]
[70,1329,930,1000,null,70,2757,1930,2000,null,70,4186,2930,3000,null,14200,71,{"$nulls":3},10650,71,null,null,7100,71]
[71,1308,929,1000,null,71,2717,1929,2000,null,71,4125,2929,3000,null,14400,72,{"$nulls":3},10800,72,null,null,7200,72]
[72,1289,928,1000,null,72,2678,1928,2000,null,72,4067,2928,3000,null,14600,73,{"$nulls":3},10950,73,null,null,7300,73]
[73,1270,927,1000,null,73,2640,1927,2000,null,73,4010,2927,3000,null,14800,74,{"$nulls":3},11100,74,null,null,7400,74]
[74,1251,926,1000,null,74,2603,1926,2000,null,74,3954,2926,3000,null,15000,75,{"$nulls":3},11250,75,null,null,7500,75]
[75,1233,925,1000,null,75,2567,1925,2000,null,75,3900,2925,3000,null,15200,76,{"$nulls":3},11400,76,null,null,7600,76]
[76,1216,924,1000,null,76,2532,1924,2000,null,76,3847,2924,3000,null,15400,77,{"$nulls":3},11550,77,null,null,7700,77]
[77,1199,923,1000,null,77,2497,1923,2000,null,77,3796,2923,3000,null,15600,78,{"$nulls":3},11700,78,null,null,7800,78]
[78,1182,922,1000,null,78,2464,1922,2000,null,78,3746,2922,3000,null,15800,79,{"$nulls":3},11850,79,null,null,7900,79]
[79,1166,921,1000,null,79,2432,1921,2000,null,79,3697,2921,3000,null,16000,80,{"$nulls":3},12000,80,null,null,8000,80]
[80,1150,920,1000,null,80,2400,1920,2000,null,80,3650,2920,3000,null,16200,81,{"$nulls":3},12150,81,null,null,8100,81]
[81,1135,919,1000,null,81,2369,1919,2000,null,81,3604,2919,3000,null,16400,82,{"$nulls":3},12300,82,null,null,8200,82]
[82,1120,918,1000,null,82,2339,1918,2000,null,82,3559,2918,3000,null,16600,83,{"$nulls":3},12450,83,null,null,8300,83]
[83,1105,917,1000,null,83,2310,1917,2000,null,83,3514,2917,3000,null,16800,84,{"$nulls":3},12600,84,null,null,8400,84]
[84,1090,916,1000,null,84,2281,1916,2000,null,84,3471,2916,3000,null,17000,85,{"$nulls":3},12750,85,null,null,8500,85]
[85,1076,915,1000,null,85,2253,1915,2000,null,85,3429,2915,3000,null,17200,86,{"$nulls":3},12900,86,null,null,8600,86]
[86,1063,914,1000,null,86,2226,1914,2000,null,86,3388,2914,3000,null,17400,87,{"$nulls":3},13050,87,null,null,8700,87]
[87,1049,913,1000,null,87,2199,1913,2000,null,87,3348,2913,3000,null,17600,88,{"$nulls":3},13200,88,null,null,8800,88]
[88,1036,912,1000,null,88,2173,1912,2000,null,88,3309,2912,3000,null,17800,89,{"$nulls":3},13350,89,null,null,8900,89]
[89,1024,911,1000,null,89,2147,1911,2000,null,89,3271,2911,3000,null,18000,90,{"$nulls":3},13500,90,null,null,9000,90]
[90,1011,910,1000,null,90,2122,1910,2000,null,90,3233,2910,3000,null,18200,91,{"$nulls":3},13650,91,null,null,9100,91]
[91,999,909,1000,null,91,2098,1909,2000,null,91,3197,2909,3000,null,18400,92,{"$nulls":3},13800,92,null,null,9200,92]
[92,987,908,1000,null,92,2074,1908,2000,null,92,3161,2908,3000,null,18600,93,{"$nulls":3},13950,93,null,null,9300,93]
[93,975,907,1000,null,93,2051,1907,2000,null,93,3126,2907,3000,null,18800,94,{"$nulls":3},14100,94,null,null,9400,94]
[94,964,906,1000,null,94,2028,1906,2000,null,94,3091,2906,3000,null,19000,95,{"$nulls":3},14250,95,null,null,9500,95]
[95,953,905,1000,null,95,2005,1905,2000,null,95,3058,2905,3000,null,19200,96,{"$nulls":3},14400,96,null,null,9600,96]
[96,942,904,1000,null,96,1983,1904,2000,null,96,3025,2904,3000,null,19400,97,{"$nulls":3},14550,97,null,null,9700,97]
[97,931,903,1000,null,97,1962,1903,2000,null,97,2993,2903,3000,null,19600,98,{"$nulls":3},14700,98,null,null,9800,98]
[98,920,902,1000,null,98,1941,1902,2000,null,98,2961,2902,3000,null,19800,99,{"$nulls":3},14850,99,null,null,9900,99]
[99,910,901,1000,null,99,1920,1901,2000,null,99,2930,2901,3000,null,20000,100,{"$nulls":3},15000,100,null,null,10000,100]
[100,900,900,1000,null,100,1900,1900,2000,null,100,2900,2900,3000,null,20200,101,{"$nulls":3},15150,101,null,null,10100,101]
[101,890,899,1000,null,101,1880,1899,2000,null,101,2870,2899,3000,null,20400,102,{"$nulls":3},15300,102,null,null,10200,102]
[102,880,898,1000,null,102,1861,1898,2000,null,102,2841,2898,3000,null,20600,103,{"$nulls":3},15450,103,null,null,10300,103]
[103,871,897,1000,null,103,1842,1897,2000,null,103,2813,2897,3000,null,20800,104,{"$nulls":3},15600,104,null,null,10400,104]
[104,862,896,1000,null,104,1823,1896,2000,null,104,2785,2896,3000,null,21000,105,{"$nulls":3},15750,105,null,null,10500,105]
[105,852,895,1000,null,105,1805,1895,2000,null,105,2757,2895,3000,null,21200,106,{"$nulls":3},15900,106,null,null,10600,106]
[106,843,894,1000,null,106,1787,1894,2000,null,106,2730,2894,3000,null,21400,107,{"$nulls":3},16050,107,null,null,10700,107]
[107,835,893,1000,null,107,1769,1893,2000,null,107,2704,2893,3000,null,21600,108,{"$nulls":3},16200,108,null,null,10800,108]
[108,826,892,1000,null,108,1752,1892,2000,null,108,2678,2892,3000,null,21800,109,{"$nulls":3},16350,109,null,null,10900,109]
[109,817,891,1000,null,109,1735,1891,2000,null,109,2652,2891,3000,null,22000,110,{"$nulls":3},16500,110,null,null,11000,110]
[110,809,890,1000,null,110,1718,1890,2000,null,110,2627,2890,3000,null,22200,111,{"$nulls":3},16650,111,null,null,11100,111]
[111,801,889,1000,null,111,1702,1889,2000,null,111,2603,2889,3000,null,22400,112,{"$nulls":3},16800,112,null,null,11200,112]
[112,793,888,1000,null,112,1686,1888,2000,null,112,2579,2888,3000,null,22600,113,{"$nulls":3},16950,113,null,null,11300,113]
[113,785,887,1000,null,113,1670,1887,2000,null,113,2555,2887,3000,null,22800,114,{"$nulls":3},17100,114,null,null,11400,114]
[114,777,886,1000,null,114,1654,1886,2000,null,114,2532,2886,3000,null,23000,115,{"$nulls":3},17250,115,null,null,11500,115]
[115,770,885,1000,null,115,1639,1885,2000,null,115,2509,2885,3000,null,23200,116,{"$nulls":3},17400,116,null,null,11600,116]
[116,762,884,1000,null,116,1624,1884,2000,null,116,2486,2884,3000,null,23400,117,{"$nulls":3},17550,117,null,null,11700,117]
[117,755,883,1000,null,117,1609,1883,2000,null,117,2464,2883,3000,null,23600,118,{"$nulls":3},17700,118,null,null,11800,118]
[118,747,882,1000,null,118,1595,1882,2000,null,118,2442,2882,3000,null,23800,119,{"$nulls":3},17850,119,null,null,11900,119]
[119,740,881,1000,null,119,1581,1881,2000,null,119,2421,2881,3000,null,24000,120,{"$nulls":3},18000,120,null,null,12000,120]
[120,733,880,1000,null,120,1567,1880,2000,null,120,2400,2880,3000,null,24200,121,{"$nulls":3},18150,121,null,null,12100,121]
[121,726,879,1000,null,121,1553,1879,2000,null,121,2379,2879,3000,null,24400,122,{"$nulls":3},18300,122,null,null,12200,122]
[122,720,878,1000,null,122,1539,1878,2000,null,122,2359,2878,3000,null,24600,123,{"$nulls":3},18450,123,null,null,12300,123]
[123,713,877,1000,null,123,1526,1877,2000,null,123,2339,2877,3000,null,24800,124,{"$nulls":3},18600,124,null,null,12400,124]
[124,706,876,1000,null,124,1513,1876,2000,null,124,2319,2876,3000,null,25000,125,{"$nulls":3},18750,125,null,null,12500,125]
[125,700,875,1000,null,125,1500,1875,2000,null,125,2300,2875,3000,null,25200,126,{"$nulls":3},18900,126,null,null,12600,126]
[126,694,874,1000,null,126,1487,1874,2000,null,126,2281,2874,3000,null,25400,127,{"$nulls":3},19050,127,null,null,12700,127]
[127,687,873,1000,null,127,1475,1873,2000,null,127,2262,2873,3000,null,25600,128,{"$nulls":3},19200,128,null,null,12800,128]
[128,681,872,1000,null,128,1463,1872,2000,null,128,2244,2872,3000,null,25800,129,{"$nulls":3},19350,129,null,null,12900,129]
[129,{"$f":"ROUND(100*(C180/A180),0)","v":675},{"$f":"D180-A180","v":871},1000,null,129,{"$f":"ROUND(100*(H180/F180),0)","v":1450},{"$f":"I180-F180","v":1871},2000,null,129,{"$f":"ROUND(100*(M180/K180),0)","v":2226},{"$f":"N180-K180","v":2871},3000,null,{"$f":"Q180*$R$51","v":26000},130,{"$nulls":3},{"$f":"V180*$W$51","v":19500},130,null,null,{"$f":"Z180*$AA$51","v":13000},130]
[130,669,870,1000,null,130,1438,1870,2000,null,130,2208,2870,3000,null,26200,131,{"$nulls":3},19650,131,null,null,13100,131]
[131,663,869,1000,null,131,1427,1869,2000,null,131,2190,2869,3000,null,26400,132,{"$nulls":3},19800,132,null,null,13200,132]
[132,658,868,1000,null,132,1415,1868,2000,null,132,2173,2868,3000,null,26600,133,{"$nulls":3},19950,133,null,null,13300,133]
[133,652,867,1000,null,133,1404,1867,2000,null,133,2156,2867,3000,null,26800,134,{"$nulls":3},20100,134,null,null,13400,134]
[134,646,866,1000,null,134,1393,1866,2000,null,134,2139,2866,3000,null,27000,135,{"$nulls":3},20250,135,null,null,13500,135]
[135,641,865,1000,null,135,1381,1865,2000,null,135,2122,2865,3000,null,27200,136,{"$nulls":3},20400,136,null,null,13600,136]
[136,635,864,1000,null,136,1371,1864,2000,null,136,2106,2864,3000,null,27400,137,{"$nulls":3},20550,137,null,null,13700,137]
[137,630,863,1000,null,137,1360,1863,2000,null,137,2090,2863,3000,null,27600,138,{"$nulls":3},20700,138,null,null,13800,138]
[138,625,862,1000,null,138,1349,1862,2000,null,138,2074,2862,3000,null,27800,139,{"$nulls":3},20850,139,null,null,13900,139]
[139,619,861,1000,null,139,1339,1861,2000,null,139,2058,2861,3000,null,28000,140,{"$nulls":3},21000,140,null,null,14000,140]
[140,614,860,1000,null,140,1329,1860,2000,null,140,2043,2860,3000,null,28200,141,{"$nulls":3},21150,141,null,null,14100,141]
[141,609,859,1000,null,141,1318,1859,2000,null,141,2028,2859,3000,null,28400,142,{"$nulls":3},21300,142,null,null,14200,142]
[142,604,858,1000,null,142,1308,1858,2000,null,142,2013,2858,3000,null,28600,143,{"$nulls":3},21450,143,null,null,14300,143]
[143,599,857,1000,null,143,1299,1857,2000,null,143,1998,2857,3000,null,28800,144,{"$nulls":3},21600,144,null,null,14400,144]
[144,594,856,1000,null,144,1289,1856,2000,null,144,1983,2856,3000,null,29000,145,{"$nulls":3},21750,145,null,null,14500,145]
[145,590,855,1000,null,145,1279,1855,2000,null,145,1969,2855,3000,null,29200,146,{"$nulls":3},21900,146,null,null,14600,146]
[146,585,854,1000,null,146,1270,1854,2000,null,146,1955,2854,3000,null,29400,147,{"$nulls":3},22050,147,null,null,14700,147]
[147,580,853,1000,null,147,1261,1853,2000,null,147,1941,2853,3000,null,29600,148,{"$nulls":3},22200,148,null,null,14800,148]
[148,576,852,1000,null,148,1251,1852,2000,null,148,1927,2852,3000,null,29800,149,{"$nulls":3},22350,149,null,null,14900,149]
[149,571,851,1000,null,149,1242,1851,2000,null,149,1913,2851,3000,null,30000,150,{"$nulls":3},22500,150,null,null,15000,150]
[150,567,850,1000,null,150,1233,1850,2000,null,150,1900,2850,3000,null,30200,151,{"$nulls":3},22650,151,null,null,15100,151]
[151,562,849,1000,null,151,1225,1849,2000,null,151,1887,2849,3000,null,30400,152,{"$nulls":3},22800,152,null,null,15200,152]
[152,558,848,1000,null,152,1216,1848,2000,null,152,1874,2848,3000,null,30600,153,{"$nulls":3},22950,153,null,null,15300,153]
[153,554,847,1000,null,153,1207,1847,2000,null,153,1861,2847,3000,null,30800,154,{"$nulls":3},23100,154,null,null,15400,154]
[154,549,846,1000,null,154,1199,1846,2000,null,154,1848,2846,3000,null,31000,155,{"$nulls":3},23250,155,null,null,15500,155]
[155,545,845,1000,null,155,1190,1845,2000,null,155,1835,2845,3000,null,31200,156,{"$nulls":3},23400,156,null,null,15600,156]
[156,541,844,1000,null,156,1182,1844,2000,null,156,1823,2844,3000,null,31400,157,{"$nulls":3},23550,157,null,null,15700,157]
[157,537,843,1000,null,157,1174,1843,2000,null,157,1811,2843,3000,null,31600,158,{"$nulls":3},23700,158,null,null,15800,158]
[158,533,842,1000,null,158,1166,1842,2000,null,158,1799,2842,3000,null,31800,159,{"$nulls":3},23850,159,null,null,15900,159]
[159,529,841,1000,null,159,1158,1841,2000,null,159,1787,2841,3000,null,32000,160,{"$nulls":3},24000,160,null,null,16000,160]
[160,525,840,1000,null,160,1150,1840,2000,null,160,1775,2840,3000,null,32200,161,{"$nulls":3},24150,161,null,null,16100,161]
[161,521,839,1000,null,161,1142,1839,2000,null,161,1763,2839,3000,null,32400,162,{"$nulls":3},24300,162,null,null,16200,162]
[162,517,838,1000,null,162,1135,1838,2000,null,162,1752,2838,3000,null,32600,163,{"$nulls":3},24450,163,null,null,16300,163]
[163,513,837,1000,null,163,1127,1837,2000,null,163,1740,2837,3000,null,32800,164,{"$nulls":3},24600,164,null,null,16400,164]
[164,510,836,1000,null,164,1120,1836,2000,null,164,1729,2836,3000,null,33000,165,{"$nulls":3},24750,165,null,null,16500,165]
[165,506,835,1000,null,165,1112,1835,2000,null,165,1718,2835,3000,null,33200,166,{"$nulls":3},24900,166,null,null,16600,166]
[166,502,834,1000,null,166,1105,1834,2000,null,166,1707,2834,3000,null,33400,167,{"$nulls":3},25050,167,null,null,16700,167]
[167,499,833,1000,null,167,1098,1833,2000,null,167,1696,2833,3000,null,33600,168,{"$nulls":3},25200,168,null,null,16800,168]
[168,495,832,1000,null,168,1090,1832,2000,null,168,1686,2832,3000,null,33800,169,{"$nulls":3},25350,169,null,null,16900,169]
[169,492,831,1000,null,169,1083,1831,2000,null,169,1675,2831,3000,null,34000,170,{"$nulls":3},25500,170,null,null,17000,170]
[170,488,830,1000,null,170,1076,1830,2000,null,170,1665,2830,3000,null,34200,171,{"$nulls":3},25650,171,null,null,17100,171]
[171,485,829,1000,null,171,1070,1829,2000,null,171,1654,2829,3000,null,34400,172,{"$nulls":3},25800,172,null,null,17200,172]
[172,481,828,1000,null,172,1063,1828,2000,null,172,1644,2828,3000,null,34600,173,{"$nulls":3},25950,173,null,null,17300,173]
[173,478,827,1000,null,173,1056,1827,2000,null,173,1634,2827,3000,null,34800,174,{"$nulls":3},26100,174,null,null,17400,174]
[174,475,826,1000,null,174,1049,1826,2000,null,174,1624,2826,3000,null,35000,175,{"$nulls":3},26250,175,null,null,17500,175]
[175,471,825,1000,null,175,1043,1825,2000,null,175,1614,2825,3000,null,35200,176,{"$nulls":3},26400,176,null,null,17600,176]
[176,468,824,1000,null,176,1036,1824,2000,null,176,1605,2824,3000,null,35400,177,{"$nulls":3},26550,177,null,null,17700,177]
[177,465,823,1000,null,177,1030,1823,2000,null,177,1595,2823,3000,null,35600,178,{"$nulls":3},26700,178,null,null,17800,178]
[178,462,822,1000,null,178,1024,1822,2000,null,178,1585,2822,3000,null,35800,179,{"$nulls":3},26850,179,null,null,17900,179]
[179,459,821,1000,null,179,1017,1821,2000,null,179,1576,2821,3000,null,36000,180,{"$nulls":3},27000,180,null,null,18000,180]
[180,456,820,1000,null,180,1011,1820,2000,null,180,1567,2820,3000,null,36200,181,{"$nulls":3},27150,181,null,null,18100,181]
[181,452,819,1000,null,181,1005,1819,2000,null,181,1557,2819,3000,null,36400,182,{"$nulls":3},27300,182,null,null,18200,182]
[182,449,818,1000,null,182,999,1818,2000,null,182,1548,2818,3000,null,36600,183,{"$nulls":3},27450,183,null,null,18300,183]
[183,446,817,1000,null,183,993,1817,2000,null,183,1539,2817,3000,null,36800,184,{"$nulls":3},27600,184,null,null,18400,184]
[184,443,816,1000,null,184,987,1816,2000,null,184,1530,2816,3000,null,37000,185,{"$nulls":3},27750,185,null,null,18500,185]
[185,441,815,1000,null,185,981,1815,2000,null,185,1522,2815,3000,null,37200,186,{"$nulls":3},27900,186,null,null,18600,186]
[186,438,814,1000,null,186,975,1814,2000,null,186,1513,2814,3000,null,37400,187,{"$nulls":3},28050,187,null,null,18700,187]
[187,435,813,1000,null,187,970,1813,2000,null,187,1504,2813,3000,null,37600,188,{"$nulls":3},28200,188,null,null,18800,188]
[188,432,812,1000,null,188,964,1812,2000,null,188,1496,2812,3000,null,37800,189,{"$nulls":3},28350,189,null,null,18900,189]
[189,429,811,1000,null,189,958,1811,2000,null,189,1487,2811,3000,null,38000,190,{"$nulls":3},28500,190,null,null,19000,190]
[190,426,810,1000,null,190,953,1810,2000,null,190,1479,2810,3000,null,38200,191,{"$nulls":3},28650,191,null,null,19100,191]
[191,424,809,1000,null,191,947,1809,2000,null,191,1471,2809,3000,null,38400,192,{"$nulls":3},28800,192,null,null,19200,192]
[192,421,808,1000,null,192,942,1808,2000,null,192,1463,2808,3000,null,38600,193,{"$nulls":3},28950,193,null,null,19300,193]
[193,{"$f":"ROUND(100*(C244/A244),0)","v":418},{"$f":"D244-A244","v":807},1000,null,193,{"$f":"ROUND(100*(H244/F244),0)","v":936},{"$f":"I244-F244","v":1807},2000,null,193,{"$f":"ROUND(100*(M244/K244),0)","v":1454},{"$f":"N244-K244","v":2807},3000,null,{"$f":"Q244*$R$51","v":38800},194,{"$nulls":3},{"$f":"V244*$W$51","v":29100},194,null,null,{"$f":"Z244*$AA$51","v":19400},194]
[194,415,806,1000,null,194,931,1806,2000,null,194,1446,2806,3000,null,39000,195,{"$nulls":3},29250,195,null,null,19500,195]
[195,413,805,1000,null,195,926,1805,2000,null,195,1438,2805,3000,null,39200,196,{"$nulls":3},29400,196,null,null,19600,196]
[196,410,804,1000,null,196,920,1804,2000,null,196,1431,2804,3000,null,39400,197,{"$nulls":3},29550,197,null,null,19700,197]
[197,408,803,1000,null,197,915,1803,2000,null,197,1423,2803,3000,null,39600,198,{"$nulls":3},29700,198,null,null,19800,198]
[198,405,802,1000,null,198,910,1802,2000,null,198,1415,2802,3000,null,39800,199,{"$nulls":3},29850,199,null,null,19900,199]
[199,403,801,1000,null,199,905,1801,2000,null,199,1408,2801,3000,null,40000,200,{"$nulls":3},30000,200,null,null,20000,200]
[200,400,800,1000,null,200,900,1800,2000,null,200,1400,2800,3000,null,40200,201,{"$nulls":3},30150,201,null,null,20100,201]
[201,398,799,1000,null,201,895,1799,2000,null,201,1393,2799,3000,null,40400,202,{"$nulls":3},30300,202,null,null,20200,202]
[202,395,798,1000,null,202,890,1798,2000,null,202,1385,2798,3000,null,40600,203,{"$nulls":3},30450,203,null,null,20300,203]
[203,393,797,1000,null,203,885,1797,2000,null,203,1378,2797,3000,null,40800,204,{"$nulls":3},30600,204,null,null,20400,204]
[204,390,796,1000,null,204,880,1796,2000,null,204,1371,2796,3000,null,41000,205,{"$nulls":3},30750,205,null,null,20500,205]
[205,388,795,1000,null,205,876,1795,2000,null,205,1363,2795,3000,null,41200,206,{"$nulls":3},30900,206,null,null,20600,206]
[206,385,794,1000,null,206,871,1794,2000,null,206,1356,2794,3000,null,41400,207,{"$nulls":3},31050,207,null,null,20700,207]
[207,383,793,1000,null,207,866,1793,2000,null,207,1349,2793,3000,null,41600,208,{"$nulls":3},31200,208,null,null,20800,208]
[208,381,792,1000,null,208,862,1792,2000,null,208,1342,2792,3000,null,41800,209,{"$nulls":3},31350,209,null,null,20900,209]
[209,378,791,1000,null,209,857,1791,2000,null,209,1335,2791,3000,null,42000,210,{"$nulls":3},31500,210,null,null,21000,210]
[210,376,790,1000,null,210,852,1790,2000,null,210,1329,2790,3000,null,42200,211,{"$nulls":3},31650,211,null,null,21100,211]
[211,374,789,1000,null,211,848,1789,2000,null,211,1322,2789,3000,null,42400,212,{"$nulls":3},31800,212,null,null,21200,212]
[212,372,788,1000,null,212,843,1788,2000,null,212,1315,2788,3000,null,42600,213,{"$nulls":3},31950,213,null,null,21300,213]
[213,369,787,1000,null,213,839,1787,2000,null,213,1308,2787,3000,null,42800,214,{"$nulls":3},32100,214,null,null,21400,214]
[214,367,786,1000,null,214,835,1786,2000,null,214,1302,2786,3000,null,43000,215,{"$nulls":3},32250,215,null,null,21500,215]
[215,365,785,1000,null,215,830,1785,2000,null,215,1295,2785,3000,null,43200,216,{"$nulls":3},32400,216,null,null,21600,216]
[216,363,784,1000,null,216,826,1784,2000,null,216,1289,2784,3000,null,43400,217,{"$nulls":3},32550,217,null,null,21700,217]
[217,361,783,1000,null,217,822,1783,2000,null,217,1282,2783,3000,null,43600,218,{"$nulls":3},32700,218,null,null,21800,218]
[218,359,782,1000,null,218,817,1782,2000,null,218,1276,2782,3000,null,43800,219,{"$nulls":3},32850,219,null,null,21900,219]
[219,357,781,1000,null,219,813,1781,2000,null,219,1270,2781,3000,null,44000,220,{"$nulls":3},33000,220,null,null,22000,220]
[220,355,780,1000,null,220,809,1780,2000,null,220,1264,2780,3000,null,44200,221,{"$nulls":3},33150,221,null,null,22100,221]
[221,352,779,1000,null,221,805,1779,2000,null,221,1257,2779,3000,null,44400,222,{"$nulls":3},33300,222,null,null,22200,222]
[222,350,778,1000,null,222,801,1778,2000,null,222,1251,2778,3000,null,44600,223,{"$nulls":3},33450,223,null,null,22300,223]
[223,348,777,1000,null,223,797,1777,2000,null,223,1245,2777,3000,null,44800,224,{"$nulls":3},33600,224,null,null,22400,224]
[224,346,776,1000,null,224,793,1776,2000,null,224,1239,2776,3000,null,45000,225,{"$nulls":3},33750,225,null,null,22500,225]
[225,344,775,1000,null,225,789,1775,2000,null,225,1233,2775,3000,null,45200,226,{"$nulls":3},33900,226,null,null,22600,226]
[226,342,774,1000,null,226,785,1774,2000,null,226,1227,2774,3000,null,45400,227,{"$nulls":3},34050,227,null,null,22700,227]
[227,341,773,1000,null,227,781,1773,2000,null,227,1222,2773,3000,null,45600,228,{"$nulls":3},34200,228,null,null,22800,228]
[228,339,772,1000,null,228,777,1772,2000,null,228,1216,2772,3000,null,45800,229,{"$nulls":3},34350,229,null,null,22900,229]
[229,337,771,1000,null,229,773,1771,2000,null,229,1210,2771,3000,null,46000,230,{"$nulls":3},34500,230,null,null,23000,230]
[230,335,770,1000,null,230,770,1770,2000,null,230,1204,2770,3000,null,46200,231,{"$nulls":3},34650,231,null,null,23100,231]
[231,333,769,1000,null,231,766,1769,2000,null,231,1199,2769,3000,null,46400,232,{"$nulls":3},34800,232,null,null,23200,232]
[232,331,768,1000,null,232,762,1768,2000,null,232,1193,2768,3000,null,46600,233,{"$nulls":3},34950,233,null,null,23300,233]
[233,329,767,1000,null,233,758,1767,2000,null,233,1188,2767,3000,null,46800,234,{"$nulls":3},35100,234,null,null,23400,234]
[234,327,766,1000,null,234,755,1766,2000,null,234,1182,2766,3000,null,47000,235,{"$nulls":3},35250,235,null,null,23500,235]
[235,326,765,1000,null,235,751,1765,2000,null,235,1177,2765,3000,null,47200,236,{"$nulls":3},35400,236,null,null,23600,236]
[236,324,764,1000,null,236,747,1764,2000,null,236,1171,2764,3000,null,47400,237,{"$nulls":3},35550,237,null,null,23700,237]
[237,322,763,1000,null,237,744,1763,2000,null,237,1166,2763,3000,null,47600,238,{"$nulls":3},35700,238,null,null,23800,238]
[238,320,762,1000,null,238,740,1762,2000,null,238,1161,2762,3000,null,47800,239,{"$nulls":3},35850,239,null,null,23900,239]
[239,318,761,1000,null,239,737,1761,2000,null,239,1155,2761,3000,null,48000,240,{"$nulls":3},36000,240,null,null,24000,240]
[240,317,760,1000,null,240,733,1760,2000,null,240,1150,2760,3000,null,48200,241,{"$nulls":3},36150,241,null,null,24100,241]
[241,315,759,1000,null,241,730,1759,2000,null,241,1145,2759,3000,null,48400,242,{"$nulls":3},36300,242,null,null,24200,242]
[242,313,758,1000,null,242,726,1758,2000,null,242,1140,2758,3000,null,48600,243,{"$nulls":3},36450,243,null,null,24300,243]
[243,312,757,1000,null,243,723,1757,2000,null,243,1135,2757,3000,null,48800,244,{"$nulls":3},36600,244,null,null,24400,244]
[244,310,756,1000,null,244,720,1756,2000,null,244,1130,2756,3000,null,49000,245,{"$nulls":3},36750,245,null,null,24500,245]
[245,308,755,1000,null,245,716,1755,2000,null,245,1124,2755,3000,null,49200,246,{"$nulls":3},36900,246,null,null,24600,246]
[246,307,754,1000,null,246,713,1754,2000,null,246,1120,2754,3000,null,49400,247,{"$nulls":3},37050,247,null,null,24700,247]
[247,305,753,1000,null,247,710,1753,2000,null,247,1115,2753,3000,null,49600,248,{"$nulls":3},37200,248,null,null,24800,248]
[248,303,752,1000,null,248,706,1752,2000,null,248,1110,2752,3000,null,49800,249,{"$nulls":3},37350,249,null,null,24900,249]
[249,302,751,1000,null,249,703,1751,2000,null,249,1105,2751,3000,null,50000,250,{"$nulls":3},37500,250,null,null,25000,250]
[250,300,750,1000,null,250,700,1750,2000,null,250,1100,2750,3000,null,50200,251,{"$nulls":3},37650,251,null,null,25100,251]
[251,298,749,1000,null,251,697,1749,2000,null,251,1095,2749,3000,null,50400,252,{"$nulls":3},37800,252,null,null,25200,252]
[252,297,748,1000,null,252,694,1748,2000,null,252,1090,2748,3000,null,50600,253,{"$nulls":3},37950,253,null,null,25300,253]
[253,295,747,1000,null,253,691,1747,2000,null,253,1086,2747,3000,null,50800,254,{"$nulls":3},38100,254,null,null,25400,254]
[254,294,746,1000,null,254,687,1746,2000,null,254,1081,2746,3000,null,51000,255,{"$nulls":3},38250,255,null,null,25500,255]
[255,292,745,1000,null,255,684,1745,2000,null,255,1076,2745,3000,null,51200,256,{"$nulls":3},38400,256,null,null,25600,256]
[256,291,744,1000,null,256,681,1744,2000,null,256,1072,2744,3000,null,51400,257,{"$nulls":3},38550,257,null,null,25700,257]
[257,{"$f":"ROUND(100*(C308/A308),0)","v":289},{"$f":"D308-A308","v":743},1000,null,257,{"$f":"ROUND(100*(H308/F308),0)","v":678},{"$f":"I308-F308","v":1743},2000,null,257,{"$f":"ROUND(100*(M308/K308),0)","v":1067},{"$f":"N308-K308","v":2743},3000,null,{"$f":"Q308*$R$51","v":51600},258,{"$nulls":3},{"$f":"V308*$W$51","v":38700},258,null,null,{"$f":"Z308*$AA$51","v":25800},258]
[258,288,742,1000,null,258,675,1742,2000,null,258,1063,2742,3000,null,51800,259,{"$nulls":3},38850,259,null,null,25900,259]
[259,286,741,1000,null,259,672,1741,2000,null,259,1058,2741,3000,null,52000,260,{"$nulls":3},39000,260,null,null,26000,260]
[260,285,740,1000,null,260,669,1740,2000,null,260,1054,2740,3000,null,52200,261,{"$nulls":3},39150,261,null,null,26100,261]
[261,283,739,1000,null,261,666,1739,2000,null,261,1049,2739,3000,null,52400,262,{"$nulls":3},39300,262,null,null,26200,262]
[262,282,738,1000,null,262,663,1738,2000,null,262,1045,2738,3000,null,52600,263,{"$nulls":3},39450,263,null,null,26300,263]
[263,280,737,1000,null,263,660,1737,2000,null,263,1041,2737,3000,null,52800,264,{"$nulls":3},39600,264,null,null,26400,264]
[264,279,736,1000,null,264,658,1736,2000,null,264,1036,2736,3000,null,53000,265,{"$nulls":3},39750,265,null,null,26500,265]
[265,277,735,1000,null,265,655,1735,2000,null,265,1032,2735,3000,null,53200,266,{"$nulls":3},39900,266,null,null,26600,266]
[266,276,734,1000,null,266,652,1734,2000,null,266,1028,2734,3000,null,53400,267,{"$nulls":3},40050,267,null,null,26700,267]
[267,275,733,1000,null,267,649,1733,2000,null,267,1024,2733,3000,null,53600,268,{"$nulls":3},40200,268,null,null,26800,268]
[268,273,732,1000,null,268,646,1732,2000,null,268,1019,2732,3000,null,53800,269,{"$nulls":3},40350,269,null,null,26900,269]
[269,272,731,1000,null,269,643,1731,2000,null,269,1015,2731,3000,null,54000,270,{"$nulls":3},40500,270,null,null,27000,270]
[270,270,730,1000,null,270,641,1730,2000,null,270,1011,2730,3000,null,54200,271,{"$nulls":3},40650,271,null,null,27100,271]
[271,269,729,1000,null,271,638,1729,2000,null,271,1007,2729,3000,null,54400,272,{"$nulls":3},40800,272,null,null,27200,272]
[272,268,728,1000,null,272,635,1728,2000,null,272,1003,2728,3000,null,54600,273,{"$nulls":3},40950,273,null,null,27300,273]
[273,266,727,1000,null,273,633,1727,2000,null,273,999,2727,3000,null,54800,274,{"$nulls":3},41100,274,null,null,27400,274]
[274,265,726,1000,null,274,630,1726,2000,null,274,995,2726,3000,null,55000,275,{"$nulls":3},41250,275,null,null,27500,275]
[275,264,725,1000,null,275,627,1725,2000,null,275,991,2725,3000,null,55200,276,{"$nulls":3},41400,276,null,null,27600,276]
[276,262,724,1000,null,276,625,1724,2000,null,276,987,2724,3000,null,55400,277,{"$nulls":3},41550,277,null,null,27700,277]
[277,261,723,1000,null,277,622,1723,2000,null,277,983,2723,3000,null,55600,278,{"$nulls":3},41700,278,null,null,27800,278]
[278,260,722,1000,null,278,619,1722,2000,null,278,979,2722,3000,null,55800,279,{"$nulls":3},41850,279,null,null,27900,279]
[279,258,721,1000,null,279,617,1721,2000,null,279,975,2721,3000,null,56000,280,{"$nulls":3},42000,280,null,null,28000,280]
[280,257,720,1000,null,280,614,1720,2000,null,280,971,2720,3000,null,56200,281,{"$nulls":3},42150,281,null,null,28100,281]
[281,256,719,1000,null,281,612,1719,2000,null,281,968,2719,3000,null,56400,282,{"$nulls":3},42300,282,null,null,28200,282]
[282,255,718,1000,null,282,609,1718,2000,null,282,964,2718,3000,null,56600,283,{"$nulls":3},42450,283,null,null,28300,283]
[283,253,717,1000,null,283,607,1717,2000,null,283,960,2717,3000,null,56800,284,{"$nulls":3},42600,284,null,null,28400,284]
[284,252,716,1000,null,284,604,1716,2000,null,284,956,2716,3000,null,57000,285,{"$nulls":3},42750,285,null,null,28500,285]
[285,251,715,1000,null,285,602,1715,2000,null,285,953,2715,3000,null,57200,286,{"$nulls":3},42900,286,null,null,28600,286]
[286,250,714,1000,null,286,599,1714,2000,null,286,949,2714,3000,null,57400,287,{"$nulls":3},43050,287,null,null,28700,287]
[287,248,713,1000,null,287,597,1713,2000,null,287,945,2713,3000,null,57600,288,{"$nulls":3},43200,288,null,null,28800,288]
[288,247,712,1000,null,288,594,1712,2000,null,288,942,2712,3000,null,57800,289,{"$nulls":3},43350,289,null,null,28900,289]
[289,246,711,1000,null,289,592,1711,2000,null,289,938,2711,3000,null,58000,290,{"$nulls":3},43500,290,null,null,29000,290]
[290,245,710,1000,null,290,590,1710,2000,null,290,934,2710,3000,null,58200,291,{"$nulls":3},43650,291,null,null,29100,291]
[291,244,709,1000,null,291,587,1709,2000,null,291,931,2709,3000,null,58400,292,{"$nulls":3},43800,292,null,null,29200,292]
[292,242,708,1000,null,292,585,1708,2000,null,292,927,2708,3000,null,58600,293,{"$nulls":3},43950,293,null,null,29300,293]
[293,241,707,1000,null,293,583,1707,2000,null,293,924,2707,3000,null,58800,294,{"$nulls":3},44100,294,null,null,29400,294]
[294,240,706,1000,null,294,580,1706,2000,null,294,920,2706,3000,null,59000,295,{"$nulls":3},44250,295,null,null,29500,295]
[295,239,705,1000,null,295,578,1705,2000,null,295,917,2705,3000,null,59200,296,{"$nulls":3},44400,296,null,null,29600,296]
[296,238,704,1000,null,296,576,1704,2000,null,296,914,2704,3000,null,59400,297,{"$nulls":3},44550,297,null,null,29700,297]
[297,237,703,1000,null,297,573,1703,2000,null,297,910,2703,3000,null,59600,298,{"$nulls":3},44700,298,null,null,29800,298]
[298,236,702,1000,null,298,571,1702,2000,null,298,907,2702,3000,null,59800,299,{"$nulls":3},44850,299,null,null,29900,299]
[299,234,701,1000,null,299,569,1701,2000,null,299,903,2701,3000,null,60000,300,{"$nulls":3},45000,300,null,null,30000,300]
[300,233,700,1000,null,300,567,1700,2000,null,300,900,2700,3000,null,60200,301,{"$nulls":3},45150,301,null,null,30100,301]
[301,232,699,1000,null,301,564,1699,2000,null,301,897,2699,3000,null,60400,302,{"$nulls":3},45300,302,null,null,30200,302]
[302,231,698,1000,null,302,562,1698,2000,null,302,893,2698,3000,null,60600,303,{"$nulls":3},45450,303,null,null,30300,303]
[303,230,697,1000,null,303,560,1697,2000,null,303,890,2697,3000,null,60800,304,{"$nulls":3},45600,304,null,null,30400,304]
[304,229,696,1000,null,304,558,1696,2000,null,304,887,2696,3000,null,61000,305,{"$nulls":3},45750,305,null,null,30500,305]
[305,228,695,1000,null,305,556,1695,2000,null,305,884,2695,3000,null,61200,306,{"$nulls":3},45900,306,null,null,30600,306]
[306,227,694,1000,null,306,554,1694,2000,null,306,880,2694,3000,null,61400,307,{"$nulls":3},46050,307,null,null,30700,307]
[307,226,693,1000,null,307,551,1693,2000,null,307,877,2693,3000,null,61600,308,{"$nulls":3},46200,308,null,null,30800,308]
[308,225,692,1000,null,308,549,1692,2000,null,308,874,2692,3000,null,61800,309,{"$nulls":3},46350,309,null,null,30900,309]
[309,224,691,1000,null,309,547,1691,2000,null,309,871,2691,3000,null,62000,310,{"$nulls":3},46500,310,null,null,31000,310]
[310,223,690,1000,null,310,545,1690,2000,null,310,868,2690,3000,null,62200,311,{"$nulls":3},46650,311,null,null,31100,311]
[311,222,689,1000,null,311,543,1689,2000,null,311,865,2689,3000,null,62400,312,{"$nulls":3},46800,312,null,null,31200,312]
[312,221,688,1000,null,312,541,1688,2000,null,312,862,2688,3000,null,62600,313,{"$nulls":3},46950,313,null,null,31300,313]
[313,219,687,1000,null,313,539,1687,2000,null,313,858,2687,3000,null,62800,314,{"$nulls":3},47100,314,null,null,31400,314]
[314,218,686,1000,null,314,537,1686,2000,null,314,855,2686,3000,null,63000,315,{"$nulls":3},47250,315,null,null,31500,315]
[315,217,685,1000,null,315,535,1685,2000,null,315,852,2685,3000,null,63200,316,{"$nulls":3},47400,316,null,null,31600,316]
[316,216,684,1000,null,316,533,1684,2000,null,316,849,2684,3000,null,63400,317,{"$nulls":3},47550,317,null,null,31700,317]
[317,215,683,1000,null,317,531,1683,2000,null,317,846,2683,3000,null,63600,318,{"$nulls":3},47700,318,null,null,31800,318]
[318,214,682,1000,null,318,529,1682,2000,null,318,843,2682,3000,null,63800,319,{"$nulls":3},47850,319,null,null,31900,319]
[319,213,681,1000,null,319,527,1681,2000,null,319,840,2681,3000,null,64000,320,{"$nulls":3},48000,320,null,null,32000,320]
[320,213,680,1000,null,320,525,1680,2000,null,320,838,2680,3000,null,64200,321,{"$nulls":3},48150,321,null,null,32100,321]
[321,{"$f":"ROUND(100*(C372/A372),0)","v":212},{"$f":"D372-A372","v":679},1000,null,321,{"$f":"ROUND(100*(H372/F372),0)","v":523},{"$f":"I372-F372","v":1679},2000,null,321,{"$f":"ROUND(100*(M372/K372),0)","v":835},{"$f":"N372-K372","v":2679},3000,null,{"$f":"Q372*$R$51","v":64400},322,{"$nulls":3},{"$f":"V372*$W$51","v":48300},322,null,null,{"$f":"Z372*$AA$51","v":32200},322]
[322,211,678,1000,null,322,521,1678,2000,null,322,832,2678,3000,null,64600,323,{"$nulls":3},48450,323,null,null,32300,323]
[323,210,677,1000,null,323,519,1677,2000,null,323,829,2677,3000,null,64800,324,{"$nulls":3},48600,324,null,null,32400,324]
[324,209,676,1000,null,324,517,1676,2000,null,324,826,2676,3000,null,65000,325,{"$nulls":3},48750,325,null,null,32500,325]
[325,208,675,1000,null,325,515,1675,2000,null,325,823,2675,3000,null,65200,326,{"$nulls":3},48900,326,null,null,32600,326]
[326,207,674,1000,null,326,513,1674,2000,null,326,820,2674,3000,null,65400,327,{"$nulls":3},49050,327,null,null,32700,327]
[327,206,673,1000,null,327,512,1673,2000,null,327,817,2673,3000,null,65600,328,{"$nulls":3},49200,328,null,null,32800,328]
[328,205,672,1000,null,328,510,1672,2000,null,328,815,2672,3000,null,65800,329,{"$nulls":3},49350,329,null,null,32900,329]
[329,204,671,1000,null,329,508,1671,2000,null,329,812,2671,3000,null,66000,330,{"$nulls":3},49500,330,null,null,33000,330]
[330,203,670,1000,null,330,506,1670,2000,null,330,809,2670,3000,null,66200,331,{"$nulls":3},49650,331,null,null,33100,331]
[331,202,669,1000,null,331,504,1669,2000,null,331,806,2669,3000,null,66400,332,{"$nulls":3},49800,332,null,null,33200,332]
[332,201,668,1000,null,332,502,1668,2000,null,332,804,2668,3000,null,66600,333,{"$nulls":3},49950,333,null,null,33300,333]
[333,200,667,1000,null,333,501,1667,2000,null,333,801,2667,3000,null,66800,334,{"$nulls":3},50100,334,null,null,33400,334]
[334,199,666,1000,null,334,499,1666,2000,null,334,798,2666,3000,null,67000,335,{"$nulls":3},50250,335,null,null,33500,335]
[335,199,665,1000,null,335,497,1665,2000,null,335,796,2665,3000,null,67200,336,{"$nulls":3},50400,336,null,null,33600,336]
[336,198,664,1000,null,336,495,1664,2000,null,336,793,2664,3000,null,67400,337,{"$nulls":3},50550,337,null,null,33700,337]
[337,197,663,1000,null,337,493,1663,2000,null,337,790,2663,3000,null,67600,338,{"$nulls":3},50700,338,null,null,33800,338]
[338,196,662,1000,null,338,492,1662,2000,null,338,788,2662,3000,null,67800,339,{"$nulls":3},50850,339,null,null,33900,339]
[339,195,661,1000,null,339,490,1661,2000,null,339,785,2661,3000,null,68000,340,{"$nulls":3},51000,340,null,null,34000,340]
[340,194,660,1000,null,340,488,1660,2000,null,340,782,2660,3000,null,68200,341,{"$nulls":3},51150,341,null,null,34100,341]
[341,193,659,1000,null,341,487,1659,2000,null,341,780,2659,3000,null,68400,342,{"$nulls":3},51300,342,null,null,34200,342]
[342,192,658,1000,null,342,485,1658,2000,null,342,777,2658,3000,null,68600,343,{"$nulls":3},51450,343,null,null,34300,343]
[343,192,657,1000,null,343,483,1657,2000,null,343,775,2657,3000,null,68800,344,{"$nulls":3},51600,344,null,null,34400,344]
[344,191,656,1000,null,344,481,1656,2000,null,344,772,2656,3000,null,69000,345,{"$nulls":3},51750,345,null,null,34500,345]
[345,190,655,1000,null,345,480,1655,2000,null,345,770,2655,3000,null,69200,346,{"$nulls":3},51900,346,null,null,34600,346]
[346,189,654,1000,null,346,478,1654,2000,null,346,767,2654,3000,null,69400,347,{"$nulls":3},52050,347,null,null,34700,347]
[347,188,653,1000,null,347,476,1653,2000,null,347,765,2653,3000,null,69600,348,{"$nulls":3},52200,348,null,null,34800,348]
[348,187,652,1000,null,348,475,1652,2000,null,348,762,2652,3000,null,69800,349,{"$nulls":3},52350,349,null,null,34900,349]
[349,187,651,1000,null,349,473,1651,2000,null,349,760,2651,3000,null,70000,350,{"$nulls":3},52500,350,null,null,35000,350]
[350,186,650,1000,null,350,471,1650,2000,null,350,757,2650,3000,null,70200,351,{"$nulls":3},52650,351,null,null,35100,351]
[351,185,649,1000,null,351,470,1649,2000,null,351,755,2649,3000,null,70400,352,{"$nulls":3},52800,352,null,null,35200,352]
[352,184,648,1000,null,352,468,1648,2000,null,352,752,2648,3000,null,70600,353,{"$nulls":3},52950,353,null,null,35300,353]
[353,183,647,1000,null,353,467,1647,2000,null,353,750,2647,3000,null,70800,354,{"$nulls":3},53100,354,null,null,35400,354]
[354,182,646,1000,null,354,465,1646,2000,null,354,747,2646,3000,null,71000,355,{"$nulls":3},53250,355,null,null,35500,355]
[355,182,645,1000,null,355,463,1645,2000,null,355,745,2645,3000,null,71200,356,{"$nulls":3},53400,356,null,null,35600,356]
[356,181,644,1000,null,356,462,1644,2000,null,356,743,2644,3000,null,71400,357,{"$nulls":3},53550,357,null,null,35700,357]
[357,180,643,1000,null,357,460,1643,2000,null,357,740,2643,3000,null,71600,358,{"$nulls":3},53700,358,null,null,35800,358]
[358,179,642,1000,null,358,459,1642,2000,null,358,738,2642,3000,null,71800,359,{"$nulls":3},53850,359,null,null,35900,359]
[359,179,641,1000,null,359,457,1641,2000,null,359,736,2641,3000,null,72000,360,{"$nulls":3},54000,360,null,null,36000,360]
[360,178,640,1000,null,360,456,1640,2000,null,360,733,2640,3000,null,72200,361,{"$nulls":3},54150,361,null,null,36100,361]
[361,177,639,1000,null,361,454,1639,2000,null,361,731,2639,3000,null,72400,362,{"$nulls":3},54300,362,null,null,36200,362]
[362,176,638,1000,null,362,452,1638,2000,null,362,729,2638,3000,null,72600,363,{"$nulls":3},54450,363,null,null,36300,363]
[363,175,637,1000,null,363,451,1637,2000,null,363,726,2637,3000,null,72800,364,{"$nulls":3},54600,364,null,null,36400,364]
[364,175,636,1000,null,364,449,1636,2000,null,364,724,2636,3000,null,73000,365,{"$nulls":3},54750,365,null,null,36500,365]
[365,174,635,1000,null,365,448,1635,2000,null,365,722,2635,3000,null,73200,366,{"$nulls":3},54900,366,null,null,36600,366]
[366,173,634,1000,null,366,446,1634,2000,null,366,720,2634,3000,null,73400,367,{"$nulls":3},55050,367,null,null,36700,367]
[367,172,633,1000,null,367,445,1633,2000,null,367,717,2633,3000,null,73600,368,{"$nulls":3},55200,368,null,null,36800,368]
[368,172,632,1000,null,368,443,1632,2000,null,368,715,2632,3000,null,73800,369,{"$nulls":3},55350,369,null,null,36900,369]
[369,171,631,1000,null,369,442,1631,2000,null,369,713,2631,3000,null,74000,370,{"$nulls":3},55500,370,null,null,37000,370]
[370,170,630,1000,null,370,441,1630,2000,null,370,711,2630,3000,null,74200,371,{"$nulls":3},55650,371,null,null,37100,371]
[371,170,629,1000,null,371,439,1629,2000,null,371,709,2629,3000,null,74400,372,{"$nulls":3},55800,372,null,null,37200,372]
[372,169,628,1000,null,372,438,1628,2000,null,372,706,2628,3000,null,74600,373,{"$nulls":3},55950,373,null,null,37300,373]
[373,168,627,1000,null,373,436,1627,2000,null,373,704,2627,3000,null,74800,374,{"$nulls":3},56100,374,null,null,37400,374]
[374,167,626,1000,null,374,435,1626,2000,null,374,702,2626,3000,null,75000,375,{"$nulls":3},56250,375,null,null,37500,375]
[375,167,625,1000,null,375,433,1625,2000,null,375,700,2625,3000,null,75200,376,{"$nulls":3},56400,376,null,null,37600,376]
[376,166,624,1000,null,376,432,1624,2000,null,376,698,2624,3000,null,75400,377,{"$nulls":3},56550,377,null,null,37700,377]
[377,165,623,1000,null,377,431,1623,2000,null,377,696,2623,3000,null,75600,378,{"$nulls":3},56700,378,null,null,37800,378]
[378,165,622,1000,null,378,429,1622,2000,null,378,694,2622,3000,null,75800,379,{"$nulls":3},56850,379,null,null,37900,379]
[379,164,621,1000,null,379,428,1621,2000,null,379,692,2621,3000,null,76000,380,{"$nulls":3},57000,380,null,null,38000,380]
[380,163,620,1000,null,380,426,1620,2000,null,380,689,2620,3000,null,76200,381,{"$nulls":3},57150,381,null,null,38100,381]
[381,162,619,1000,null,381,425,1619,2000,null,381,687,2619,3000,null,76400,382,{"$nulls":3},57300,382,null,null,38200,382]
[382,162,618,1000,null,382,424,1618,2000,null,382,685,2618,3000,null,76600,383,{"$nulls":3},57450,383,null,null,38300,383]
[383,161,617,1000,null,383,422,1617,2000,null,383,683,2617,3000,null,76800,384,{"$nulls":3},57600,384,null,null,38400,384]
[384,160,616,1000,null,384,421,1616,2000,null,384,681,2616,3000,null,77000,385,{"$nulls":3},57750,385,null,null,38500,385]
[385,{"$f":"ROUND(100*(C436/A436),0)","v":160},{"$f":"D436-A436","v":615},1000,null,385,{"$f":"ROUND(100*(H436/F436),0)","v":419},{"$f":"I436-F436","v":1615},2000,null,385,{"$f":"ROUND(100*(M436/K436),0)","v":679},{"$f":"N436-K436","v":2615},3000,null,{"$f":"Q436*$R$51","v":77200},386,{"$nulls":3},{"$f":"V436*$W$51","v":57900},386,null,null,{"$f":"Z436*$AA$51","v":38600},386]
[386,159,614,1000,null,386,418,1614,2000,null,386,677,2614,3000,null,77400,387,{"$nulls":3},58050,387,null,null,38700,387]
[387,158,613,1000,null,387,417,1613,2000,null,387,675,2613,3000,null,77600,388,{"$nulls":3},58200,388,null,null,38800,388]
[388,158,612,1000,null,388,415,1612,2000,null,388,673,2612,3000,null,77800,389,{"$nulls":3},58350,389,null,null,38900,389]
[389,157,611,1000,null,389,414,1611,2000,null,389,671,2611,3000,null,78000,390,{"$nulls":3},58500,390,null,null,39000,390]
[390,156,610,1000,null,390,413,1610,2000,null,390,669,2610,3000,null,78200,391,{"$nulls":3},58650,391,null,null,39100,391]
[391,156,609,1000,null,391,412,1609,2000,null,391,667,2609,3000,null,78400,392,{"$nulls":3},58800,392,null,null,39200,392]
[392,155,608,1000,null,392,410,1608,2000,null,392,665,2608,3000,null,78600,393,{"$nulls":3},58950,393,null,null,39300,393]
[393,154,607,1000,null,393,409,1607,2000,null,393,663,2607,3000,null,78800,394,{"$nulls":3},59100,394,null,null,39400,394]
[394,154,606,1000,null,394,408,1606,2000,null,394,661,2606,3000,null,79000,395,{"$nulls":3},59250,395,null,null,39500,395]
[395,153,605,1000,null,395,406,1605,2000,null,395,659,2605,3000,null,79200,396,{"$nulls":3},59400,396,null,null,39600,396]
[396,153,604,1000,null,396,405,1604,2000,null,396,658,2604,3000,null,79400,397,{"$nulls":3},59550,397,null,null,39700,397]
[397,152,603,1000,null,397,404,1603,2000,null,397,656,2603,3000,null,79600,398,{"$nulls":3},59700,398,null,null,39800,398]
[398,151,602,1000,null,398,403,1602,2000,null,398,654,2602,3000,null,79800,399,{"$nulls":3},59850,399,null,null,39900,399]
[399,151,601,1000,null,399,401,1601,2000,null,399,652,2601,3000,null,80000,400,{"$nulls":3},60000,400,null,null,40000,400]
[400,150,600,1000,null,400,400,1600,2000,null,400,650,2600,3000,null,80200,401,{"$nulls":3},60150,401,null,null,40100,401]
[401,149,599,1000,null,401,399,1599,2000,null,401,648,2599,3000,null,80400,402,{"$nulls":3},60300,402,null,null,40200,402]
[402,149,598,1000,null,402,398,1598,2000,null,402,646,2598,3000,null,80600,403,{"$nulls":3},60450,403,null,null,40300,403]
[403,148,597,1000,null,403,396,1597,2000,null,403,644,2597,3000,null,80800,404,{"$nulls":3},60600,404,null,null,40400,404]
[404,148,596,1000,null,404,395,1596,2000,null,404,643,2596,3000,null,81000,405,{"$nulls":3},60750,405,null,null,40500,405]
[405,147,595,1000,null,405,394,1595,2000,null,405,641,2595,3000,null,81200,406,{"$nulls":3},60900,406,null,null,40600,406]
[406,146,594,1000,null,406,393,1594,2000,null,406,639,2594,3000,null,81400,407,{"$nulls":3},61050,407,null,null,40700,407]
[407,146,593,1000,null,407,391,1593,2000,null,407,637,2593,3000,null,81600,408,{"$nulls":3},61200,408,null,null,40800,408]
[408,145,592,1000,null,408,390,1592,2000,null,408,635,2592,3000,null,81800,409,{"$nulls":3},61350,409,null,null,40900,409]
[409,144,591,1000,null,409,389,1591,2000,null,409,633,2591,3000]
[410,144,590,1000,null,410,388,1590,2000,null,410,632,2590,3000]
[411,143,589,1000,null,411,387,1589,2000,null,411,630,2589,3000]
[412,143,588,1000,null,412,385,1588,2000,null,412,628,2588,3000]
[413,142,587,1000,null,413,384,1587,2000,null,413,626,2587,3000]
[414,142,586,1000,null,414,383,1586,2000,null,414,625,2586,3000]
[415,141,585,1000,null,415,382,1585,2000,null,415,623,2585,3000]
[416,140,584,1000,null,416,381,1584,2000,null,416,621,2584,3000]
[417,140,583,1000,null,417,380,1583,2000,null,417,619,2583,3000]
[418,139,582,1000,null,418,378,1582,2000,null,418,618,2582,3000]
[419,139,581,1000,null,419,377,1581,2000,null,419,616,2581,3000]
[420,138,580,1000,null,420,376,1580,2000,null,420,614,2580,3000]
[421,138,579,1000,null,421,375,1579,2000,null,421,613,2579,3000]
[422,137,578,1000,null,422,374,1578,2000,null,422,611,2578,3000]
[423,136,577,1000,null,423,373,1577,2000,null,423,609,2577,3000]
[424,136,576,1000,null,424,372,1576,2000,null,424,608,2576,3000]
[425,135,575,1000,null,425,371,1575,2000,null,425,606,2575,3000]
[426,135,574,1000,null,426,369,1574,2000,null,426,604,2574,3000]
[427,134,573,1000,null,427,368,1573,2000,null,427,603,2573,3000]
[428,134,572,1000,null,428,367,1572,2000,null,428,601,2572,3000]
[429,133,571,1000,null,429,366,1571,2000,null,429,599,2571,3000]
[430,133,570,1000,null,430,365,1570,2000,null,430,598,2570,3000]
[431,132,569,1000,null,431,364,1569,2000,null,431,596,2569,3000]
[432,131,568,1000,null,432,363,1568,2000,null,432,594,2568,3000]
[433,131,567,1000,null,433,362,1567,2000,null,433,593,2567,3000]
[434,130,566,1000,null,434,361,1566,2000,null,434,591,2566,3000]
[435,130,565,1000,null,435,360,1565,2000,null,435,590,2565,3000]
[436,129,564,1000,null,436,359,1564,2000,null,436,588,2564,3000]
[437,129,563,1000,null,437,358,1563,2000,null,437,586,2563,3000]
[438,128,562,1000,null,438,357,1562,2000,null,438,585,2562,3000]
[439,128,561,1000,null,439,356,1561,2000,null,439,583,2561,3000]
[440,127,560,1000,null,440,355,1560,2000,null,440,582,2560,3000]
[441,127,559,1000,null,441,354,1559,2000,null,441,580,2559,3000]
[442,126,558,1000,null,442,352,1558,2000,null,442,579,2558,3000]
[443,126,557,1000,null,443,351,1557,2000,null,443,577,2557,3000]
[444,125,556,1000,null,444,350,1556,2000,null,444,576,2556,3000]
[445,125,555,1000,null,445,349,1555,2000,null,445,574,2555,3000]
[446,124,554,1000,null,446,348,1554,2000,null,446,573,2554,3000]
[447,124,553,1000,null,447,347,1553,2000,null,447,571,2553,3000]
[448,123,552,1000,null,448,346,1552,2000,null,448,570,2552,3000]
[449,{"$f":"ROUND(100*(C500/A500),0)","v":123},{"$f":"D500-A500","v":551},1000,null,449,{"$f":"ROUND(100*(H500/F500),0)","v":345},{"$f":"I500-F500","v":1551},2000,null,449,{"$f":"ROUND(100*(M500/K500),0)","v":568},{"$f":"N500-K500","v":2551},3000]
[450,122,550,1000,null,450,344,1550,2000,null,450,567,2550,3000]
[451,122,549,1000,null,451,343,1549,2000,null,451,565,2549,3000]
[452,121,548,1000,null,452,342,1548,2000,null,452,564,2548,3000]
[453,121,547,1000,null,453,342,1547,2000,null,453,562,2547,3000]
[454,120,546,1000,null,454,341,1546,2000,null,454,561,2546,3000]
[455,120,545,1000,null,455,340,1545,2000,null,455,559,2545,3000]
[456,119,544,1000,null,456,339,1544,2000,null,456,558,2544,3000]
[457,119,543,1000,null,457,338,1543,2000,null,457,556,2543,3000]
[458,118,542,1000,null,458,337,1542,2000,null,458,555,2542,3000]
[459,118,541,1000,null,459,336,1541,2000,null,459,554,2541,3000]
[460,117,540,1000,null,460,335,1540,2000,null,460,552,2540,3000]
[461,117,539,1000,null,461,334,1539,2000,null,461,551,2539,3000]
[462,116,538,1000,null,462,333,1538,2000,null,462,549,2538,3000]
[463,116,537,1000,null,463,332,1537,2000,null,463,548,2537,3000]
[464,116,536,1000,null,464,331,1536,2000,null,464,547,2536,3000]
[465,115,535,1000,null,465,330,1535,2000,null,465,545,2535,3000]
[466,115,534,1000,null,466,329,1534,2000,null,466,544,2534,3000]
[467,114,533,1000,null,467,328,1533,2000,null,467,542,2533,3000]
[468,114,532,1000,null,468,327,1532,2000,null,468,541,2532,3000]
[469,113,531,1000,null,469,326,1531,2000,null,469,540,2531,3000]
[470,113,530,1000,null,470,326,1530,2000,null,470,538,2530,3000]
[471,112,529,1000,null,471,325,1529,2000,null,471,537,2529,3000]
[472,112,528,1000,null,472,324,1528,2000,null,472,536,2528,3000]
[473,111,527,1000,null,473,323,1527,2000,null,473,534,2527,3000]
[474,111,526,1000,null,474,322,1526,2000,null,474,533,2526,3000]
[475,111,525,1000,null,475,321,1525,2000,null,475,532,2525,3000]
[476,110,524,1000,null,476,320,1524,2000,null,476,530,2524,3000]
[477,110,523,1000,null,477,319,1523,2000,null,477,529,2523,3000]
[478,109,522,1000,null,478,318,1522,2000,null,478,528,2522,3000]
[479,109,521,1000,null,479,318,1521,2000,null,479,526,2521,3000]
[480,108,520,1000,null,480,317,1520,2000,null,480,525,2520,3000]
[481,108,519,1000,null,481,316,1519,2000,null,481,524,2519,3000]
[482,107,518,1000,null,482,315,1518,2000,null,482,522,2518,3000]
[483,107,517,1000,null,483,314,1517,2000,null,483,521,2517,3000]
[484,107,516,1000,null,484,313,1516,2000,null,484,520,2516,3000]
[485,106,515,1000,null,485,312,1515,2000,null,485,519,2515,3000]
[486,106,514,1000,null,486,312,1514,2000,null,486,517,2514,3000]
[487,105,513,1000,null,487,311,1513,2000,null,487,516,2513,3000]
[488,105,512,1000,null,488,310,1512,2000,null,488,515,2512,3000]
[489,104,511,1000,null,489,309,1511,2000,null,489,513,2511,3000]
[490,104,510,1000,null,490,308,1510,2000,null,490,512,2510,3000]
[491,104,509,1000,null,491,307,1509,2000,null,491,511,2509,3000]
[492,103,508,1000,null,492,307,1508,2000,null,492,510,2508,3000]
[493,103,507,1000,null,493,306,1507,2000,null,493,509,2507,3000]
[494,102,506,1000,null,494,305,1506,2000,null,494,507,2506,3000]
[495,102,505,1000,null,495,304,1505,2000,null,495,506,2505,3000]
[496,102,504,1000,null,496,303,1504,2000,null,496,505,2504,3000]
[497,101,503,1000,null,497,302,1503,2000,null,497,504,2503,3000]
[498,101,502,1000,null,498,302,1502,2000,null,498,502,2502,3000]
[499,100,501,1000,null,499,301,1501,2000,null,499,501,2501,3000]
[500,100,500,1000,null,500,300,1500,2000,null,500,500,2500,3000]
[501,100,499,1000,null,501,299,1499,2000,null,501,499,2499,3000]
[502,99,498,1000,null,502,298,1498,2000,null,502,498,2498,3000]
[503,99,497,1000,null,503,298,1497,2000,null,503,496,2497,3000]
[504,98,496,1000,null,504,297,1496,2000,null,504,495,2496,3000]
[505,98,495,1000,null,505,296,1495,2000,null,505,494,2495,3000]
[506,98,494,1000,null,506,295,1494,2000,null,506,493,2494,3000]
[507,97,493,1000,null,507,294,1493,2000,null,507,492,2493,3000]
[508,97,492,1000,null,508,294,1492,2000,null,508,491,2492,3000]
[509,96,491,1000,null,509,293,1491,2000,null,509,489,2491,3000]
[510,96,490,1000,null,510,292,1490,2000,null,510,488,2490,3000]
[511,96,489,1000,null,511,291,1489,2000,null,511,487,2489,3000]
[512,95,488,1000,null,512,291,1488,2000,null,512,486,2488,3000]
[513,{"$f":"ROUND(100*(C564/A564),0)","v":95},{"$f":"D564-A564","v":487},1000,null,513,{"$f":"ROUND(100*(H564/F564),0)","v":290},{"$f":"I564-F564","v":1487},2000,null,513,{"$f":"ROUND(100*(M564/K564),0)","v":485},{"$f":"N564-K564","v":2487},3000]
[514,95,486,1000,null,514,289,1486,2000,null,514,484,2486,3000]
[515,94,485,1000,null,515,288,1485,2000,null,515,483,2485,3000]
[516,94,484,1000,null,516,288,1484,2000,null,516,481,2484,3000]
[517,93,483,1000,null,517,287,1483,2000,null,517,480,2483,3000]
[518,93,482,1000,null,518,286,1482,2000,null,518,479,2482,3000]
[519,93,481,1000,null,519,285,1481,2000,null,519,478,2481,3000]
[520,92,480,1000,null,520,285,1480,2000,null,520,477,2480,3000]
[521,92,479,1000,null,521,284,1479,2000,null,521,476,2479,3000]
[522,92,478,1000,null,522,283,1478,2000,null,522,475,2478,3000]
[523,91,477,1000,null,523,282,1477,2000,null,523,474,2477,3000]
[524,91,476,1000,null,524,282,1476,2000,null,524,473,2476,3000]
[525,90,475,1000,null,525,281,1475,2000,null,525,471,2475,3000]
[526,90,474,1000,null,526,280,1474,2000,null,526,470,2474,3000]
[527,90,473,1000,null,527,280,1473,2000,null,527,469,2473,3000]
[528,89,472,1000,null,528,279,1472,2000,null,528,468,2472,3000]
[529,89,471,1000,null,529,278,1471,2000,null,529,467,2471,3000]
[530,89,470,1000,null,530,277,1470,2000,null,530,466,2470,3000]
[531,88,469,1000,null,531,277,1469,2000,null,531,465,2469,3000]
[532,88,468,1000,null,532,276,1468,2000,null,532,464,2468,3000]
[533,88,467,1000,null,533,275,1467,2000,null,533,463,2467,3000]
[534,87,466,1000,null,534,275,1466,2000,null,534,462,2466,3000]
[535,87,465,1000,null,535,274,1465,2000,null,535,461,2465,3000]
[536,87,464,1000,null,536,273,1464,2000,null,536,460,2464,3000]
[537,86,463,1000,null,537,272,1463,2000,null,537,459,2463,3000]
[538,86,462,1000,null,538,272,1462,2000,null,538,458,2462,3000]
[539,86,461,1000,null,539,271,1461,2000,null,539,457,2461,3000]
[540,85,460,1000,null,540,270,1460,2000,null,540,456,2460,3000]
[541,85,459,1000,null,541,270,1459,2000,null,541,455,2459,3000]
[542,85,458,1000,null,542,269,1458,2000,null,542,454,2458,3000]
[543,84,457,1000,null,543,268,1457,2000,null,543,452,2457,3000]
[544,84,456,1000,null,544,268,1456,2000,null,544,451,2456,3000]
[545,83,455,1000,null,545,267,1455,2000,null,545,450,2455,3000]
[546,83,454,1000,null,546,266,1454,2000,null,546,449,2454,3000]
[547,83,453,1000,null,547,266,1453,2000,null,547,448,2453,3000]
[548,82,452,1000,null,548,265,1452,2000,null,548,447,2452,3000]
[549,82,451,1000,null,549,264,1451,2000,null,549,446,2451,3000]
[550,82,450,1000,null,550,264,1450,2000,null,550,445,2450,3000]
[551,81,449,1000,null,551,263,1449,2000,null,551,444,2449,3000]
[552,81,448,1000,null,552,262,1448,2000,null,552,443,2448,3000]
[553,81,447,1000,null,553,262,1447,2000,null,553,442,2447,3000]
[554,81,446,1000,null,554,261,1446,2000,null,554,442,2446,3000]
[555,80,445,1000,null,555,260,1445,2000,null,555,441,2445,3000]
[556,80,444,1000,null,556,260,1444,2000,null,556,440,2444,3000]
[557,80,443,1000,null,557,259,1443,2000,null,557,439,2443,3000]
[558,79,442,1000,null,558,258,1442,2000,null,558,438,2442,3000]
[559,79,441,1000,null,559,258,1441,2000,null,559,437,2441,3000]
[560,79,440,1000,null,560,257,1440,2000,null,560,436,2440,3000]
[561,78,439,1000,null,561,257,1439,2000,null,561,435,2439,3000]
[562,78,438,1000,null,562,256,1438,2000,null,562,434,2438,3000]
[563,78,437,1000,null,563,255,1437,2000,null,563,433,2437,3000]
[564,77,436,1000,null,564,255,1436,2000,null,564,432,2436,3000]
[565,77,435,1000,null,565,254,1435,2000,null,565,431,2435,3000]
[566,77,434,1000,null,566,253,1434,2000,null,566,430,2434,3000]
[567,76,433,1000,null,567,253,1433,2000,null,567,429,2433,3000]
[568,76,432,1000,null,568,252,1432,2000,null,568,428,2432,3000]
[569,76,431,1000,null,569,251,1431,2000,null,569,427,2431,3000]
[570,75,430,1000,null,570,251,1430,2000,null,570,426,2430,3000]
[571,75,429,1000,null,571,250,1429,2000,null,571,425,2429,3000]
[572,75,428,1000,null,572,250,1428,2000,null,572,424,2428,3000]
[573,75,427,1000,null,573,249,1427,2000,null,573,424,2427,3000]
[574,74,426,1000,null,574,248,1426,2000,null,574,423,2426,3000]
[575,74,425,1000,null,575,248,1425,2000,null,575,422,2425,3000]
[576,74,424,1000,null,576,247,1424,2000,null,576,421,2424,3000]
[577,{"$f":"ROUND(100*(C628/A628),0)","v":73},{"$f":"D628-A628","v":423},1000,null,577,{"$f":"ROUND(100*(H628/F628),0)","v":247},{"$f":"I628-F628","v":1423},2000,null,577,{"$f":"ROUND(100*(M628/K628),0)","v":420},{"$f":"N628-K628","v":2423},3000]
[578,73,422,1000,null,578,246,1422,2000,null,578,419,2422,3000]
[579,73,421,1000,null,579,245,1421,2000,null,579,418,2421,3000]
[580,72,420,1000,null,580,245,1420,2000,null,580,417,2420,3000]
[581,72,419,1000,null,581,244,1419,2000,null,581,416,2419,3000]
[582,72,418,1000,null,582,244,1418,2000,null,582,415,2418,3000]
[583,72,417,1000,null,583,243,1417,2000,null,583,415,2417,3000]
[584,71,416,1000,null,584,242,1416,2000,null,584,414,2416,3000]
[585,71,415,1000,null,585,242,1415,2000,null,585,413,2415,3000]
[586,71,414,1000,null,586,241,1414,2000,null,586,412,2414,3000]
[587,70,413,1000,null,587,241,1413,2000,null,587,411,2413,3000]
[588,70,412,1000,null,588,240,1412,2000,null,588,410,2412,3000]
[589,70,411,1000,null,589,240,1411,2000,null,589,409,2411,3000]
[590,69,410,1000,null,590,239,1410,2000,null,590,408,2410,3000]
[591,69,409,1000,null,591,238,1409,2000,null,591,408,2409,3000]
[592,69,408,1000,null,592,238,1408,2000,null,592,407,2408,3000]
[593,69,407,1000,null,593,237,1407,2000,null,593,406,2407,3000]
[594,68,406,1000,null,594,237,1406,2000,null,594,405,2406,3000]
[595,68,405,1000,null,595,236,1405,2000,null,595,404,2405,3000]
[596,68,404,1000,null,596,236,1404,2000,null,596,403,2404,3000]
[597,68,403,1000,null,597,235,1403,2000,null,597,403,2403,3000]
[598,67,402,1000,null,598,234,1402,2000,null,598,402,2402,3000]
[599,67,401,1000,null,599,234,1401,2000,null,599,401,2401,3000]
[600,67,400,1000,null,600,233,1400,2000,null,600,400,2400,3000]
[601,66,399,1000,null,601,233,1399,2000,null,601,399,2399,3000]
[602,66,398,1000,null,602,232,1398,2000,null,602,398,2398,3000]
[603,66,397,1000,null,603,232,1397,2000,null,603,398,2397,3000]
[604,66,396,1000,null,604,231,1396,2000,null,604,397,2396,3000]
[605,65,395,1000,null,605,231,1395,2000,null,605,396,2395,3000]
[606,65,394,1000,null,606,230,1394,2000,null,606,395,2394,3000]
[607,65,393,1000,null,607,229,1393,2000,null,607,394,2393,3000]
[608,64,392,1000,null,608,229,1392,2000,null,608,393,2392,3000]
[609,64,391,1000,null,609,228,1391,2000,null,609,393,2391,3000]
[610,64,390,1000,null,610,228,1390,2000,null,610,392,2390,3000]
[611,64,389,1000,null,611,227,1389,2000,null,611,391,2389,3000]
[612,63,388,1000,null,612,227,1388,2000,null,612,390,2388,3000]
[613,63,387,1000,null,613,226,1387,2000,null,613,389,2387,3000]
[614,63,386,1000,null,614,226,1386,2000,null,614,389,2386,3000]
[615,63,385,1000,null,615,225,1385,2000,null,615,388,2385,3000]
[616,62,384,1000,null,616,225,1384,2000,null,616,387,2384,3000]
[617,62,383,1000,null,617,224,1383,2000,null,617,386,2383,3000]
[618,62,382,1000,null,618,224,1382,2000,null,618,385,2382,3000]
[619,62,381,1000,null,619,223,1381,2000,null,619,385,2381,3000]
[620,61,380,1000,null,620,223,1380,2000,null,620,384,2380,3000]
[621,61,379,1000,null,621,222,1379,2000,null,621,383,2379,3000]
[622,61,378,1000,null,622,222,1378,2000,null,622,382,2378,3000]
[623,61,377,1000,null,623,221,1377,2000,null,623,382,2377,3000]
[624,60,376,1000,null,624,221,1376,2000,null,624,381,2376,3000]
[625,60,375,1000,null,625,220,1375,2000,null,625,380,2375,3000]
[626,60,374,1000,null,626,219,1374,2000,null,626,379,2374,3000]
[627,59,373,1000,null,627,219,1373,2000,null,627,378,2373,3000]
[628,59,372,1000,null,628,218,1372,2000,null,628,378,2372,3000]
[629,59,371,1000,null,629,218,1371,2000,null,629,377,2371,3000]
[630,59,370,1000,null,630,217,1370,2000,null,630,376,2370,3000]
[631,58,369,1000,null,631,217,1369,2000,null,631,375,2369,3000]
[632,58,368,1000,null,632,216,1368,2000,null,632,375,2368,3000]
[633,58,367,1000,null,633,216,1367,2000,null,633,374,2367,3000]
[634,58,366,1000,null,634,215,1366,2000,null,634,373,2366,3000]
[635,57,365,1000,null,635,215,1365,2000,null,635,372,2365,3000]
[636,57,364,1000,null,636,214,1364,2000,null,636,372,2364,3000]
[637,57,363,1000,null,637,214,1363,2000,null,637,371,2363,3000]
[638,57,362,1000,null,638,213,1362,2000,null,638,370,2362,3000]
[639,56,361,1000,null,639,213,1361,2000,null,639,369,2361,3000]
[640,56,360,1000,null,640,213,1360,2000,null,640,369,2360,3000]
[641,{"$f":"ROUND(100*(C692/A692),0)","v":56},{"$f":"D692-A692","v":359},1000,null,641,{"$f":"ROUND(100*(H692/F692),0)","v":212},{"$f":"I692-F692","v":1359},2000,null,641,{"$f":"ROUND(100*(M692/K692),0)","v":368},{"$f":"N692-K692","v":2359},3000]
[642,56,358,1000,null,642,212,1358,2000,null,642,367,2358,3000]
[643,56,357,1000,null,643,211,1357,2000,null,643,367,2357,3000]
[644,55,356,1000,null,644,211,1356,2000,null,644,366,2356,3000]
[645,55,355,1000,null,645,210,1355,2000,null,645,365,2355,3000]
[646,55,354,1000,null,646,210,1354,2000,null,646,364,2354,3000]
[647,55,353,1000,null,647,209,1353,2000,null,647,364,2353,3000]
[648,54,352,1000,null,648,209,1352,2000,null,648,363,2352,3000]
[649,54,351,1000,null,649,208,1351,2000,null,649,362,2351,3000]
[650,54,350,1000,null,650,208,1350,2000,null,650,362,2350,3000]
[651,54,349,1000,null,651,207,1349,2000,null,651,361,2349,3000]
[652,53,348,1000,null,652,207,1348,2000,null,652,360,2348,3000]
[653,53,347,1000,null,653,206,1347,2000,null,653,359,2347,3000]
[654,53,346,1000,null,654,206,1346,2000,null,654,359,2346,3000]
[655,53,345,1000,null,655,205,1345,2000,null,655,358,2345,3000]
[656,52,344,1000,null,656,205,1344,2000,null,656,357,2344,3000]
[657,52,343,1000,null,657,204,1343,2000,null,657,357,2343,3000]
[658,52,342,1000,null,658,204,1342,2000,null,658,356,2342,3000]
[659,52,341,1000,null,659,203,1341,2000,null,659,355,2341,3000]
[660,52,340,1000,null,660,203,1340,2000,null,660,355,2340,3000]
[661,51,339,1000,null,661,203,1339,2000,null,661,354,2339,3000]
[662,51,338,1000,null,662,202,1338,2000,null,662,353,2338,3000]
[663,51,337,1000,null,663,202,1337,2000,null,663,352,2337,3000]
[664,51,336,1000,null,664,201,1336,2000,null,664,352,2336,3000]
[665,50,335,1000,null,665,201,1335,2000,null,665,351,2335,3000]
[666,50,334,1000,null,666,200,1334,2000,null,666,350,2334,3000]
[667,50,333,1000,null,667,200,1333,2000,null,667,350,2333,3000]
[668,50,332,1000,null,668,199,1332,2000,null,668,349,2332,3000]
[669,49,331,1000,null,669,199,1331,2000,null,669,348,2331,3000]
[670,49,330,1000,null,670,199,1330,2000,null,670,348,2330,3000]
[671,49,329,1000,null,671,198,1329,2000,null,671,347,2329,3000]
[672,49,328,1000,null,672,198,1328,2000,null,672,346,2328,3000]
[673,49,327,1000,null,673,197,1327,2000,null,673,346,2327,3000]
[674,48,326,1000,null,674,197,1326,2000,null,674,345,2326,3000]
[675,48,325,1000,null,675,196,1325,2000,null,675,344,2325,3000]
[676,48,324,1000,null,676,196,1324,2000,null,676,344,2324,3000]
[677,48,323,1000,null,677,195,1323,2000,null,677,343,2323,3000]
[678,47,322,1000,null,678,195,1322,2000,null,678,342,2322,3000]
[679,47,321,1000,null,679,195,1321,2000,null,679,342,2321,3000]
[680,47,320,1000,null,680,194,1320,2000,null,680,341,2320,3000]
[681,47,319,1000,null,681,194,1319,2000,null,681,341,2319,3000]
[682,47,318,1000,null,682,193,1318,2000,null,682,340,2318,3000]
[683,46,317,1000,null,683,193,1317,2000,null,683,339,2317,3000]
[684,46,316,1000,null,684,192,1316,2000,null,684,339,2316,3000]
[685,46,315,1000,null,685,192,1315,2000,null,685,338,2315,3000]
[686,46,314,1000,null,686,192,1314,2000,null,686,337,2314,3000]
[687,46,313,1000,null,687,191,1313,2000,null,687,337,2313,3000]
[688,45,312,1000,null,688,191,1312,2000,null,688,336,2312,3000]
[689,45,311,1000,null,689,190,1311,2000,null,689,335,2311,3000]
[690,45,310,1000,null,690,190,1310,2000,null,690,335,2310,3000]
[691,45,309,1000,null,691,189,1309,2000,null,691,334,2309,3000]
[692,45,308,1000,null,692,189,1308,2000,null,692,334,2308,3000]
[693,44,307,1000,null,693,189,1307,2000,null,693,333,2307,3000]
[694,44,306,1000,null,694,188,1306,2000,null,694,332,2306,3000]
[695,44,305,1000,null,695,188,1305,2000,null,695,332,2305,3000]
[696,44,304,1000,null,696,187,1304,2000,null,696,331,2304,3000]
[697,43,303,1000,null,697,187,1303,2000,null,697,330,2303,3000]
[698,43,302,1000,null,698,187,1302,2000,null,698,330,2302,3000]
[699,43,301,1000,null,699,186,1301,2000,null,699,329,2301,3000]
[700,43,300,1000,null,700,186,1300,2000,null,700,329,2300,3000]
[701,43,299,1000,null,701,185,1299,2000,null,701,328,2299,3000]
[702,42,298,1000,null,702,185,1298,2000,null,702,327,2298,3000]
[703,42,297,1000,null,703,184,1297,2000,null,703,327,2297,3000]
[704,42,296,1000,null,704,184,1296,2000,null,704,326,2296,3000]
[705,{"$f":"ROUND(100*(C756/A756),0)","v":42},{"$f":"D756-A756","v":295},1000,null,705,{"$f":"ROUND(100*(H756/F756),0)","v":184},{"$f":"I756-F756","v":1295},2000,null,705,{"$f":"ROUND(100*(M756/K756),0)","v":326},{"$f":"N756-K756","v":2295},3000]
[706,42,294,1000,null,706,183,1294,2000,null,706,325,2294,3000]
[707,41,293,1000,null,707,183,1293,2000,null,707,324,2293,3000]
[708,41,292,1000,null,708,182,1292,2000,null,708,324,2292,3000]
[709,41,291,1000,null,709,182,1291,2000,null,709,323,2291,3000]
[710,41,290,1000,null,710,182,1290,2000,null,710,323,2290,3000]
[711,41,289,1000,null,711,181,1289,2000,null,711,322,2289,3000]
[712,40,288,1000,null,712,181,1288,2000,null,712,321,2288,3000]
[713,40,287,1000,null,713,181,1287,2000,null,713,321,2287,3000]
[714,40,286,1000,null,714,180,1286,2000,null,714,320,2286,3000]
[715,40,285,1000,null,715,180,1285,2000,null,715,320,2285,3000]
[716,40,284,1000,null,716,179,1284,2000,null,716,319,2284,3000]
[717,39,283,1000,null,717,179,1283,2000,null,717,318,2283,3000]
[718,39,282,1000,null,718,179,1282,2000,null,718,318,2282,3000]
[719,39,281,1000,null,719,178,1281,2000,null,719,317,2281,3000]
[720,39,280,1000,null,720,178,1280,2000,null,720,317,2280,3000]
[721,39,279,1000,null,721,177,1279,2000,null,721,316,2279,3000]
[722,39,278,1000,null,722,177,1278,2000,null,722,316,2278,3000]
[723,38,277,1000,null,723,177,1277,2000,null,723,315,2277,3000]
[724,38,276,1000,null,724,176,1276,2000,null,724,314,2276,3000]
[725,38,275,1000,null,725,176,1275,2000,null,725,314,2275,3000]
[726,38,274,1000,null,726,175,1274,2000,null,726,313,2274,3000]
[727,38,273,1000,null,727,175,1273,2000,null,727,313,2273,3000]
[728,37,272,1000,null,728,175,1272,2000,null,728,312,2272,3000]
[729,37,271,1000,null,729,174,1271,2000,null,729,312,2271,3000]
[730,37,270,1000,null,730,174,1270,2000,null,730,311,2270,3000]
[731,37,269,1000,null,731,174,1269,2000,null,731,310,2269,3000]
[732,37,268,1000,null,732,173,1268,2000,null,732,310,2268,3000]
[733,36,267,1000,null,733,173,1267,2000,null,733,309,2267,3000]
[734,36,266,1000,null,734,172,1266,2000,null,734,309,2266,3000]
[735,36,265,1000,null,735,172,1265,2000,null,735,308,2265,3000]
[736,36,264,1000,null,736,172,1264,2000,null,736,308,2264,3000]
[737,36,263,1000,null,737,171,1263,2000,null,737,307,2263,3000]
[738,36,262,1000,null,738,171,1262,2000,null,738,307,2262,3000]
[739,35,261,1000,null,739,171,1261,2000,null,739,306,2261,3000]
[740,35,260,1000,null,740,170,1260,2000,null,740,305,2260,3000]
[741,35,259,1000,null,741,170,1259,2000,null,741,305,2259,3000]
[742,35,258,1000,null,742,170,1258,2000,null,742,304,2258,3000]
[743,35,257,1000,null,743,169,1257,2000,null,743,304,2257,3000]
[744,34,256,1000,null,744,169,1256,2000,null,744,303,2256,3000]
[745,34,255,1000,null,745,168,1255,2000,null,745,303,2255,3000]
[746,34,254,1000,null,746,168,1254,2000,null,746,302,2254,3000]
[747,34,253,1000,null,747,168,1253,2000,null,747,302,2253,3000]
[748,34,252,1000,null,748,167,1252,2000,null,748,301,2252,3000]
[749,34,251,1000,null,749,167,1251,2000,null,749,301,2251,3000]
[750,33,250,1000,null,750,167,1250,2000,null,750,300,2250,3000]
[751,33,249,1000,null,751,166,1249,2000,null,751,299,2249,3000]
[752,33,248,1000,null,752,166,1248,2000,null,752,299,2248,3000]
[753,33,247,1000,null,753,166,1247,2000,null,753,298,2247,3000]
[754,33,246,1000,null,754,165,1246,2000,null,754,298,2246,3000]
[755,32,245,1000,null,755,165,1245,2000,null,755,297,2245,3000]
[756,32,244,1000,null,756,165,1244,2000,null,756,297,2244,3000]
[757,32,243,1000,null,757,164,1243,2000,null,757,296,2243,3000]
[758,32,242,1000,null,758,164,1242,2000,null,758,296,2242,3000]
[759,32,241,1000,null,759,164,1241,2000,null,759,295,2241,3000]
[760,32,240,1000,null,760,163,1240,2000,null,760,295,2240,3000]
[761,31,239,1000,null,761,163,1239,2000,null,761,294,2239,3000]
[762,31,238,1000,null,762,162,1238,2000,null,762,294,2238,3000]
[763,31,237,1000,null,763,162,1237,2000,null,763,293,2237,3000]
[764,31,236,1000,null,764,162,1236,2000,null,764,293,2236,3000]
[765,31,235,1000,null,765,161,1235,2000,null,765,292,2235,3000]
[766,31,234,1000,null,766,161,1234,2000,null,766,292,2234,3000]
[767,30,233,1000,null,767,161,1233,2000,null,767,291,2233,3000]
[768,30,232,1000,null,768,160,1232,2000,null,768,291,2232,3000]
[769,{"$f":"ROUND(100*(C820/A820),0)","v":30},{"$f":"D820-A820","v":231},1000,null,769,{"$f":"ROUND(100*(H820/F820),0)","v":160},{"$f":"I820-F820","v":1231},2000,null,769,{"$f":"ROUND(100*(M820/K820),0)","v":290},{"$f":"N820-K820","v":2231},3000]
[770,30,230,1000,null,770,160,1230,2000,null,770,290,2230,3000]
[771,30,229,1000,null,771,159,1229,2000,null,771,289,2229,3000]
[772,30,228,1000,null,772,159,1228,2000,null,772,289,2228,3000]
[773,29,227,1000,null,773,159,1227,2000,null,773,288,2227,3000]
[774,29,226,1000,null,774,158,1226,2000,null,774,288,2226,3000]
[775,29,225,1000,null,775,158,1225,2000,null,775,287,2225,3000]
[776,29,224,1000,null,776,158,1224,2000,null,776,287,2224,3000]
[777,29,223,1000,null,777,157,1223,2000,null,777,286,2223,3000]
[778,29,222,1000,null,778,157,1222,2000,null,778,286,2222,3000]
[779,28,221,1000,null,779,157,1221,2000,null,779,285,2221,3000]
[780,28,220,1000,null,780,156,1220,2000,null,780,285,2220,3000]
[781,28,219,1000,null,781,156,1219,2000,null,781,284,2219,3000]
[782,28,218,1000,null,782,156,1218,2000,null,782,284,2218,3000]
[783,28,217,1000,null,783,155,1217,2000,null,783,283,2217,3000]
[784,28,216,1000,null,784,155,1216,2000,null,784,283,2216,3000]
[785,27,215,1000,null,785,155,1215,2000,null,785,282,2215,3000]
[786,27,214,1000,null,786,154,1214,2000,null,786,282,2214,3000]
[787,27,213,1000,null,787,154,1213,2000,null,787,281,2213,3000]
[788,27,212,1000,null,788,154,1212,2000,null,788,281,2212,3000]
[789,27,211,1000,null,789,153,1211,2000,null,789,280,2211,3000]
[790,27,210,1000,null,790,153,1210,2000,null,790,280,2210,3000]
[791,26,209,1000,null,791,153,1209,2000,null,791,279,2209,3000]
[792,26,208,1000,null,792,153,1208,2000,null,792,279,2208,3000]
[793,26,207,1000,null,793,152,1207,2000,null,793,278,2207,3000]
[794,26,206,1000,null,794,152,1206,2000,null,794,278,2206,3000]
[795,26,205,1000,null,795,152,1205,2000,null,795,277,2205,3000]
[796,26,204,1000,null,796,151,1204,2000,null,796,277,2204,3000]
[797,25,203,1000,null,797,151,1203,2000,null,797,276,2203,3000]
[798,25,202,1000,null,798,151,1202,2000,null,798,276,2202,3000]
[799,25,201,1000,null,799,150,1201,2000,null,799,275,2201,3000]
[800,25,200,1000,null,800,150,1200,2000,null,800,275,2200,3000]
[801,25,199,1000,null,801,150,1199,2000,null,801,275,2199,3000]
[802,25,198,1000,null,802,149,1198,2000,null,802,274,2198,3000]
[803,25,197,1000,null,803,149,1197,2000,null,803,274,2197,3000]
[804,24,196,1000,null,804,149,1196,2000,null,804,273,2196,3000]
[805,24,195,1000,null,805,148,1195,2000,null,805,273,2195,3000]
[806,24,194,1000,null,806,148,1194,2000,null,806,272,2194,3000]
[807,24,193,1000,null,807,148,1193,2000,null,807,272,2193,3000]
[808,24,192,1000,null,808,148,1192,2000,null,808,271,2192,3000]
[809,24,191,1000,null,809,147,1191,2000,null,809,271,2191,3000]
[810,23,190,1000,null,810,147,1190,2000,null,810,270,2190,3000]
[811,23,189,1000,null,811,147,1189,2000,null,811,270,2189,3000]
[812,23,188,1000,null,812,146,1188,2000,null,812,269,2188,3000]
[813,23,187,1000,null,813,146,1187,2000,null,813,269,2187,3000]
[814,23,186,1000,null,814,146,1186,2000,null,814,269,2186,3000]
[815,23,185,1000,null,815,145,1185,2000,null,815,268,2185,3000]
[816,23,184,1000,null,816,145,1184,2000,null,816,268,2184,3000]
[817,22,183,1000,null,817,145,1183,2000,null,817,267,2183,3000]
[818,22,182,1000,null,818,144,1182,2000,null,818,267,2182,3000]
[819,22,181,1000,null,819,144,1181,2000,null,819,266,2181,3000]
[820,22,180,1000,null,820,144,1180,2000,null,820,266,2180,3000]
[821,22,179,1000,null,821,144,1179,2000,null,821,265,2179,3000]
[822,22,178,1000,null,822,143,1178,2000,null,822,265,2178,3000]
[823,22,177,1000,null,823,143,1177,2000,null,823,265,2177,3000]
[824,21,176,1000,null,824,143,1176,2000,null,824,264,2176,3000]
[825,21,175,1000,null,825,142,1175,2000,null,825,264,2175,3000]
[826,21,174,1000,null,826,142,1174,2000,null,826,263,2174,3000]
[827,21,173,1000,null,827,142,1173,2000,null,827,263,2173,3000]
[828,21,172,1000,null,828,142,1172,2000,null,828,262,2172,3000]
[829,21,171,1000,null,829,141,1171,2000,null,829,262,2171,3000]
[830,20,170,1000,null,830,141,1170,2000,null,830,261,2170,3000]
[831,20,169,1000,null,831,141,1169,2000,null,831,261,2169,3000]
[832,20,168,1000,null,832,140,1168,2000,null,832,261,2168,3000]
[833,{"$f":"ROUND(100*(C884/A884),0)","v":20},{"$f":"D884-A884","v":167},1000,null,833,{"$f":"ROUND(100*(H884/F884),0)","v":140},{"$f":"I884-F884","v":1167},2000,null,833,{"$f":"ROUND(100*(M884/K884),0)","v":260},{"$f":"N884-K884","v":2167},3000]
[834,20,166,1000,null,834,140,1166,2000,null,834,260,2166,3000]
[835,20,165,1000,null,835,140,1165,2000,null,835,259,2165,3000]
[836,20,164,1000,null,836,139,1164,2000,null,836,259,2164,3000]
[837,19,163,1000,null,837,139,1163,2000,null,837,258,2163,3000]
[838,19,162,1000,null,838,139,1162,2000,null,838,258,2162,3000]
[839,19,161,1000,null,839,138,1161,2000,null,839,258,2161,3000]
[840,19,160,1000,null,840,138,1160,2000,null,840,257,2160,3000]
[841,19,159,1000,null,841,138,1159,2000,null,841,257,2159,3000]
[842,19,158,1000,null,842,138,1158,2000,null,842,256,2158,3000]
[843,19,157,1000,null,843,137,1157,2000,null,843,256,2157,3000]
[844,18,156,1000,null,844,137,1156,2000,null,844,255,2156,3000]
[845,18,155,1000,null,845,137,1155,2000,null,845,255,2155,3000]
[846,18,154,1000,null,846,136,1154,2000,null,846,255,2154,3000]
[847,18,153,1000,null,847,136,1153,2000,null,847,254,2153,3000]
[848,18,152,1000,null,848,136,1152,2000,null,848,254,2152,3000]
[849,18,151,1000,null,849,136,1151,2000,null,849,253,2151,3000]
[850,18,150,1000,null,850,135,1150,2000,null,850,253,2150,3000]
[851,18,149,1000,null,851,135,1149,2000,null,851,253,2149,3000]
[852,17,148,1000,null,852,135,1148,2000,null,852,252,2148,3000]
[853,17,147,1000,null,853,134,1147,2000,null,853,252,2147,3000]
[854,17,146,1000,null,854,134,1146,2000,null,854,251,2146,3000]
[855,17,145,1000,null,855,134,1145,2000,null,855,251,2145,3000]
[856,17,144,1000,null,856,134,1144,2000,null,856,250,2144,3000]
[857,17,143,1000,null,857,133,1143,2000,null,857,250,2143,3000]
[858,17,142,1000,null,858,133,1142,2000,null,858,250,2142,3000]
[859,16,141,1000,null,859,133,1141,2000,null,859,249,2141,3000]
[860,16,140,1000,null,860,133,1140,2000,null,860,249,2140,3000]
[861,16,139,1000,null,861,132,1139,2000,null,861,248,2139,3000]
[862,16,138,1000,null,862,132,1138,2000,null,862,248,2138,3000]
[863,16,137,1000,null,863,132,1137,2000,null,863,248,2137,3000]
[864,16,136,1000,null,864,131,1136,2000,null,864,247,2136,3000]
[865,16,135,1000,null,865,131,1135,2000,null,865,247,2135,3000]
[866,15,134,1000,null,866,131,1134,2000,null,866,246,2134,3000]
[867,15,133,1000,null,867,131,1133,2000,null,867,246,2133,3000]
[868,15,132,1000,null,868,130,1132,2000,null,868,246,2132,3000]
[869,15,131,1000,null,869,130,1131,2000,null,869,245,2131,3000]
[870,15,130,1000,null,870,130,1130,2000,null,870,245,2130,3000]
[871,15,129,1000,null,871,130,1129,2000,null,871,244,2129,3000]
[872,15,128,1000,null,872,129,1128,2000,null,872,244,2128,3000]
[873,15,127,1000,null,873,129,1127,2000,null,873,244,2127,3000]
[874,14,126,1000,null,874,129,1126,2000,null,874,243,2126,3000]
[875,14,125,1000,null,875,129,1125,2000,null,875,243,2125,3000]
[876,14,124,1000,null,876,128,1124,2000,null,876,242,2124,3000]
[877,14,123,1000,null,877,128,1123,2000,null,877,242,2123,3000]
[878,14,122,1000,null,878,128,1122,2000,null,878,242,2122,3000]
[879,14,121,1000,null,879,128,1121,2000,null,879,241,2121,3000]
[880,14,120,1000,null,880,127,1120,2000,null,880,241,2120,3000]
[881,14,119,1000,null,881,127,1119,2000,null,881,241,2119,3000]
[882,13,118,1000,null,882,127,1118,2000,null,882,240,2118,3000]
[883,13,117,1000,null,883,127,1117,2000,null,883,240,2117,3000]
[884,13,116,1000,null,884,126,1116,2000,null,884,239,2116,3000]
[885,13,115,1000,null,885,126,1115,2000,null,885,239,2115,3000]
[886,13,114,1000,null,886,126,1114,2000,null,886,239,2114,3000]
[887,13,113,1000,null,887,125,1113,2000,null,887,238,2113,3000]
[888,13,112,1000,null,888,125,1112,2000,null,888,238,2112,3000]
[889,12,111,1000,null,889,125,1111,2000,null,889,237,2111,3000]
[890,12,110,1000,null,890,125,1110,2000,null,890,237,2110,3000]
[891,12,109,1000,null,891,124,1109,2000,null,891,237,2109,3000]
[892,12,108,1000,null,892,124,1108,2000,null,892,236,2108,3000]
[893,12,107,1000,null,893,124,1107,2000,null,893,236,2107,3000]
[894,12,106,1000,null,894,124,1106,2000,null,894,236,2106,3000]
[895,12,105,1000,null,895,123,1105,2000,null,895,235,2105,3000]
[896,12,104,1000,null,896,123,1104,2000,null,896,235,2104,3000]
[897,{"$f":"ROUND(100*(C948/A948),0)","v":11},{"$f":"D948-A948","v":103},1000,null,897,{"$f":"ROUND(100*(H948/F948),0)","v":123},{"$f":"I948-F948","v":1103},2000,null,897,{"$f":"ROUND(100*(M948/K948),0)","v":234},{"$f":"N948-K948","v":2103},3000]
[898,11,102,1000,null,898,123,1102,2000,null,898,234,2102,3000]
[899,11,101,1000,null,899,122,1101,2000,null,899,234,2101,3000]
[900,11,100,1000,null,900,122,1100,2000,null,900,233,2100,3000]
[901,11,99,1000,null,901,122,1099,2000,null,901,233,2099,3000]
[902,11,98,1000,null,902,122,1098,2000,null,902,233,2098,3000]
[903,11,97,1000,null,903,121,1097,2000,null,903,232,2097,3000]
[904,11,96,1000,null,904,121,1096,2000,null,904,232,2096,3000]
[905,10,95,1000,null,905,121,1095,2000,null,905,231,2095,3000]
[906,10,94,1000,null,906,121,1094,2000,null,906,231,2094,3000]
[907,10,93,1000,null,907,121,1093,2000,null,907,231,2093,3000]
[908,10,92,1000,null,908,120,1092,2000,null,908,230,2092,3000]
[909,10,91,1000,null,909,120,1091,2000,null,909,230,2091,3000]
[910,10,90,1000,null,910,120,1090,2000,null,910,230,2090,3000]
[911,10,89,1000,null,911,120,1089,2000,null,911,229,2089,3000]
[912,10,88,1000,null,912,119,1088,2000,null,912,229,2088,3000]
[913,10,87,1000,null,913,119,1087,2000,null,913,229,2087,3000]
[914,9,86,1000,null,914,119,1086,2000,null,914,228,2086,3000]
[915,9,85,1000,null,915,119,1085,2000,null,915,228,2085,3000]
[916,9,84,1000,null,916,118,1084,2000,null,916,228,2084,3000]
[917,9,83,1000,null,917,118,1083,2000,null,917,227,2083,3000]
[918,9,82,1000,null,918,118,1082,2000,null,918,227,2082,3000]
[919,9,81,1000,null,919,118,1081,2000,null,919,226,2081,3000]
[920,9,80,1000,null,920,117,1080,2000,null,920,226,2080,3000]
[921,9,79,1000,null,921,117,1079,2000,null,921,226,2079,3000]
[922,8,78,1000,null,922,117,1078,2000,null,922,225,2078,3000]
[923,8,77,1000,null,923,117,1077,2000,null,923,225,2077,3000]
[924,8,76,1000,null,924,116,1076,2000,null,924,225,2076,3000]
[925,8,75,1000,null,925,116,1075,2000,null,925,224,2075,3000]
[926,8,74,1000,null,926,116,1074,2000,null,926,224,2074,3000]
[927,8,73,1000,null,927,116,1073,2000,null,927,224,2073,3000]
[928,8,72,1000,null,928,116,1072,2000,null,928,223,2072,3000]
[929,8,71,1000,null,929,115,1071,2000,null,929,223,2071,3000]
[930,8,70,1000,null,930,115,1070,2000,null,930,223,2070,3000]
[931,7,69,1000,null,931,115,1069,2000,null,931,222,2069,3000]
[932,7,68,1000,null,932,115,1068,2000,null,932,222,2068,3000]
[933,7,67,1000,null,933,114,1067,2000,null,933,222,2067,3000]
[934,7,66,1000,null,934,114,1066,2000,null,934,221,2066,3000]
[935,7,65,1000,null,935,114,1065,2000,null,935,221,2065,3000]
[936,7,64,1000,null,936,114,1064,2000,null,936,221,2064,3000]
[937,7,63,1000,null,937,113,1063,2000,null,937,220,2063,3000]
[938,7,62,1000,null,938,113,1062,2000,null,938,220,2062,3000]
[939,6,61,1000,null,939,113,1061,2000,null,939,219,2061,3000]
[940,6,60,1000,null,940,113,1060,2000,null,940,219,2060,3000]
[941,6,59,1000,null,941,113,1059,2000,null,941,219,2059,3000]
[942,6,58,1000,null,942,112,1058,2000,null,942,218,2058,3000]
[943,6,57,1000,null,943,112,1057,2000,null,943,218,2057,3000]
[944,6,56,1000,null,944,112,1056,2000,null,944,218,2056,3000]
[945,6,55,1000,null,945,112,1055,2000,null,945,217,2055,3000]
[946,6,54,1000,null,946,111,1054,2000,null,946,217,2054,3000]
[947,6,53,1000,null,947,111,1053,2000,null,947,217,2053,3000]
[948,5,52,1000,null,948,111,1052,2000,null,948,216,2052,3000]
[949,5,51,1000,null,949,111,1051,2000,null,949,216,2051,3000]
[950,5,50,1000,null,950,111,1050,2000,null,950,216,2050,3000]
[951,5,49,1000,null,951,110,1049,2000,null,951,215,2049,3000]
[952,5,48,1000,null,952,110,1048,2000,null,952,215,2048,3000]
[953,5,47,1000,null,953,110,1047,2000,null,953,215,2047,3000]
[954,5,46,1000,null,954,110,1046,2000,null,954,214,2046,3000]
[955,5,45,1000,null,955,109,1045,2000,null,955,214,2045,3000]
[956,5,44,1000,null,956,109,1044,2000,null,956,214,2044,3000]
[957,4,43,1000,null,957,109,1043,2000,null,957,213,2043,3000]
[958,4,42,1000,null,958,109,1042,2000,null,958,213,2042,3000]
[959,4,41,1000,null,959,109,1041,2000,null,959,213,2041,3000]
[960,4,40,1000,null,960,108,1040,2000,null,960,213,2040,3000]
[961,{"$f":"ROUND(100*(C1012/A1012),0)","v":4},{"$f":"D1012-A1012","v":39},1000,null,961,{"$f":"ROUND(100*(H1012/F1012),0)","v":108},{"$f":"I1012-F1012","v":1039},2000,null,961,{"$f":"ROUND(100*(M1012/K1012),0)","v":212},{"$f":"N1012-K1012","v":2039},3000]
[962,4,38,1000,null,962,108,1038,2000,null,962,212,2038,3000]
[963,4,37,1000,null,963,108,1037,2000,null,963,212,2037,3000]
[964,4,36,1000,null,964,107,1036,2000,null,964,211,2036,3000]
[965,4,35,1000,null,965,107,1035,2000,null,965,211,2035,3000]
[966,4,34,1000,null,966,107,1034,2000,null,966,211,2034,3000]
[967,3,33,1000,null,967,107,1033,2000,null,967,210,2033,3000]
[968,3,32,1000,null,968,107,1032,2000,null,968,210,2032,3000]
[969,3,31,1000,null,969,106,1031,2000,null,969,210,2031,3000]
[970,3,30,1000,null,970,106,1030,2000,null,970,209,2030,3000]
[971,3,29,1000,null,971,106,1029,2000,null,971,209,2029,3000]
[972,3,28,1000,null,972,106,1028,2000,null,972,209,2028,3000]
[973,3,27,1000,null,973,106,1027,2000,null,973,208,2027,3000]
[974,3,26,1000,null,974,105,1026,2000,null,974,208,2026,3000]
[975,3,25,1000,null,975,105,1025,2000,null,975,208,2025,3000]
[976,2,24,1000,null,976,105,1024,2000,null,976,207,2024,3000]
[977,2,23,1000,null,977,105,1023,2000,null,977,207,2023,3000]
[978,2,22,1000,null,978,104,1022,2000,null,978,207,2022,3000]
[979,2,21,1000,null,979,104,1021,2000,null,979,206,2021,3000]
[980,2,20,1000,null,980,104,1020,2000,null,980,206,2020,3000]
[981,2,19,1000,null,981,104,1019,2000,null,981,206,2019,3000]
[982,2,18,1000,null,982,104,1018,2000,null,982,205,2018,3000]
[983,2,17,1000,null,983,103,1017,2000,null,983,205,2017,3000]
[984,2,16,1000,null,984,103,1016,2000,null,984,205,2016,3000]
[985,2,15,1000,null,985,103,1015,2000,null,985,205,2015,3000]
[986,1,14,1000,null,986,103,1014,2000,null,986,204,2014,3000]
[987,1,13,1000,null,987,103,1013,2000,null,987,204,2013,3000]
[988,1,12,1000,null,988,102,1012,2000,null,988,204,2012,3000]
[989,1,11,1000,null,989,102,1011,2000,null,989,203,2011,3000]
[990,1,10,1000,null,990,102,1010,2000,null,990,203,2010,3000]
[991,1,9,1000,null,991,102,1009,2000,null,991,203,2009,3000]
[992,1,8,1000,null,992,102,1008,2000,null,992,202,2008,3000]
[993,1,7,1000,null,993,101,1007,2000,null,993,202,2007,3000]
[994,1,6,1000,null,994,101,1006,2000,null,994,202,2006,3000]
[995,1,5,1000,null,995,101,1005,2000,null,995,202,2005,3000]
[996,0,4,1000,null,996,101,1004,2000,null,996,201,2004,3000]
[997,0,3,1000,null,997,101,1003,2000,null,997,201,2003,3000]
[998,0,2,1000,null,998,100,1002,2000,null,998,201,2002,3000]
[999,0,1,1000,null,999,100,1001,2000,null,999,200,2001,3000]
[1000,0,0,1000,null,1000,100,1000,2000,null,1000,200,2000,3000]
[1001,0,-1,1000,null,1001,100,999,2000,null,1001,200,1999,3000]
[1002,0,-2,1000,null,1002,100,998,2000,null,1002,199,1998,3000]
[1003,0,-3,1000,null,1003,99,997,2000,null,1003,199,1997,3000]
[1004,0,-4,1000,null,1004,99,996,2000,null,1004,199,1996,3000]
[1005,0,-5,1000,null,1005,99,995,2000,null,1005,199,1995,3000]
[1006,-1,-6,1000,null,1006,99,994,2000,null,1006,198,1994,3000]
[1007,-1,-7,1000,null,1007,99,993,2000,null,1007,198,1993,3000]
[1008,-1,-8,1000,null,1008,98,992,2000,null,1008,198,1992,3000]
[1009,-1,-9,1000,null,1009,98,991,2000,null,1009,197,1991,3000]
[1010,-1,-10,1000,null,1010,98,990,2000,null,1010,197,1990,3000]
[1011,-1,-11,1000,null,1011,98,989,2000,null,1011,197,1989,3000]
[1012,-1,-12,1000,null,1012,98,988,2000,null,1012,196,1988,3000]
[1013,-1,-13,1000,null,1013,97,987,2000,null,1013,196,1987,3000]
[1014,-1,-14,1000,null,1014,97,986,2000,null,1014,196,1986,3000]
[1015,-1,-15,1000,null,1015,97,985,2000,null,1015,196,1985,3000]
[1016,-2,-16,1000,null,1016,97,984,2000,null,1016,195,1984,3000]
[1017,-2,-17,1000,null,1017,97,983,2000,null,1017,195,1983,3000]
[1018,-2,-18,1000,null,1018,96,982,2000,null,1018,195,1982,3000]
[1019,-2,-19,1000,null,1019,96,981,2000,null,1019,194,1981,3000]
[1020,-2,-20,1000,null,1020,96,980,2000,null,1020,194,1980,3000]
[1021,-2,-21,1000,null,1021,96,979,2000,null,1021,194,1979,3000]
[1022,-2,-22,1000,null,1022,96,978,2000,null,1022,194,1978,3000]
[1023,-2,-23,1000,null,1023,96,977,2000,null,1023,193,1977,3000]
[1024,-2,-24,1000,null,1024,95,976,2000,null,1024,193,1976,3000]
[1025,{"$f":"ROUND(100*(C1076/A1076),0)","v":-2},{"$f":"D1076-A1076","v":-25},1000,null,1025,{"$f":"ROUND(100*(H1076/F1076),0)","v":95},{"$f":"I1076-F1076","v":975},2000,null,1025,{"$f":"ROUND(100*(M1076/K1076),0)","v":193},{"$f":"N1076-K1076","v":1975},3000]
[1026,-3,-26,1000,null,1026,95,974,2000,null,1026,192,1974,3000]
[1027,-3,-27,1000,null,1027,95,973,2000,null,1027,192,1973,3000]
[1028,-3,-28,1000,null,1028,95,972,2000,null,1028,192,1972,3000]
[1029,-3,-29,1000,null,1029,94,971,2000,null,1029,192,1971,3000]
[1030,-3,-30,1000,null,1030,94,970,2000,null,1030,191,1970,3000]
[1031,-3,-31,1000,null,1031,94,969,2000,null,1031,191,1969,3000]
[1032,-3,-32,1000,null,1032,94,968,2000,null,1032,191,1968,3000]
[1033,-3,-33,1000,null,1033,94,967,2000,null,1033,190,1967,3000]
[1034,-3,-34,1000,null,1034,93,966,2000,null,1034,190,1966,3000]
[1035,-3,-35,1000,null,1035,93,965,2000,null,1035,190,1965,3000]
[1036,-3,-36,1000,null,1036,93,964,2000,null,1036,190,1964,3000]
[1037,-4,-37,1000,null,1037,93,963,2000,null,1037,189,1963,3000]
[1038,-4,-38,1000,null,1038,93,962,2000,null,1038,189,1962,3000]
[1039,-4,-39,1000,null,1039,92,961,2000,null,1039,189,1961,3000]
[1040,-4,-40,1000,null,1040,92,960,2000,null,1040,188,1960,3000]
[1041,-4,-41,1000,null,1041,92,959,2000,null,1041,188,1959,3000]
[1042,-4,-42,1000,null,1042,92,958,2000,null,1042,188,1958,3000]
[1043,-4,-43,1000,null,1043,92,957,2000,null,1043,188,1957,3000]
[1044,-4,-44,1000,null,1044,92,956,2000,null,1044,187,1956,3000]
[1045,-4,-45,1000,null,1045,91,955,2000,null,1045,187,1955,3000]
[1046,-4,-46,1000,null,1046,91,954,2000,null,1046,187,1954,3000]
[1047,-4,-47,1000,null,1047,91,953,2000,null,1047,187,1953,3000]
[1048,-5,-48,1000,null,1048,91,952,2000,null,1048,186,1952,3000]
[1049,-5,-49,1000,null,1049,91,951,2000,null,1049,186,1951,3000]
[1050,-5,-50,1000,null,1050,90,950,2000,null,1050,186,1950,3000]
[1051,-5,-51,1000,null,1051,90,949,2000,null,1051,185,1949,3000]
[1052,-5,-52,1000,null,1052,90,948,2000,null,1052,185,1948,3000]
[1053,-5,-53,1000,null,1053,90,947,2000,null,1053,185,1947,3000]
[1054,-5,-54,1000,null,1054,90,946,2000,null,1054,185,1946,3000]
[1055,-5,-55,1000,null,1055,90,945,2000,null,1055,184,1945,3000]
[1056,-5,-56,1000,null,1056,89,944,2000,null,1056,184,1944,3000]
[1057,-5,-57,1000,null,1057,89,943,2000,null,1057,184,1943,3000]
[1058,-5,-58,1000,null,1058,89,942,2000,null,1058,184,1942,3000]
[1059,-6,-59,1000,null,1059,89,941,2000,null,1059,183,1941,3000]
[1060,-6,-60,1000,null,1060,89,940,2000,null,1060,183,1940,3000]
[1061,-6,-61,1000,null,1061,89,939,2000,null,1061,183,1939,3000]
[1062,-6,-62,1000,null,1062,88,938,2000,null,1062,182,1938,3000]
[1063,-6,-63,1000,null,1063,88,937,2000,null,1063,182,1937,3000]
[1064,-6,-64,1000,null,1064,88,936,2000,null,1064,182,1936,3000]
[1065,-6,-65,1000,null,1065,88,935,2000,null,1065,182,1935,3000]
[1066,-6,-66,1000,null,1066,88,934,2000,null,1066,181,1934,3000]
[1067,-6,-67,1000,null,1067,87,933,2000,null,1067,181,1933,3000]
[1068,-6,-68,1000,null,1068,87,932,2000,null,1068,181,1932,3000]
[1069,-6,-69,1000,null,1069,87,931,2000,null,1069,181,1931,3000]
[1070,-7,-70,1000,null,1070,87,930,2000,null,1070,180,1930,3000]
[1071,-7,-71,1000,null,1071,87,929,2000,null,1071,180,1929,3000]
[1072,-7,-72,1000,null,1072,87,928,2000,null,1072,180,1928,3000]
[1073,-7,-73,1000,null,1073,86,927,2000,null,1073,180,1927,3000]
[1074,-7,-74,1000,null,1074,86,926,2000,null,1074,179,1926,3000]
[1075,-7,-75,1000,null,1075,86,925,2000,null,1075,179,1925,3000]
[1076,-7,-76,1000,null,1076,86,924,2000,null,1076,179,1924,3000]
[1077,-7,-77,1000,null,1077,86,923,2000,null,1077,179,1923,3000]
[1078,-7,-78,1000,null,1078,86,922,2000,null,1078,178,1922,3000]
[1079,-7,-79,1000,null,1079,85,921,2000,null,1079,178,1921,3000]
[1080,-7,-80,1000,null,1080,85,920,2000,null,1080,178,1920,3000]
[1081,-7,-81,1000,null,1081,85,919,2000,null,1081,178,1919,3000]
[1082,-8,-82,1000,null,1082,85,918,2000,null,1082,177,1918,3000]
[1083,-8,-83,1000,null,1083,85,917,2000,null,1083,177,1917,3000]
[1084,-8,-84,1000,null,1084,85,916,2000,null,1084,177,1916,3000]
[1085,-8,-85,1000,null,1085,84,915,2000,null,1085,176,1915,3000]
[1086,-8,-86,1000,null,1086,84,914,2000,null,1086,176,1914,3000]
[1087,-8,-87,1000,null,1087,84,913,2000,null,1087,176,1913,3000]
[1088,-8,-88,1000,null,1088,84,912,2000,null,1088,176,1912,3000]
[1089,{"$f":"ROUND(100*(C1140/A1140),0)","v":-8},{"$f":"D1140-A1140","v":-89},1000,null,1089,{"$f":"ROUND(100*(H1140/F1140),0)","v":84},{"$f":"I1140-F1140","v":911},2000,null,1089,{"$f":"ROUND(100*(M1140/K1140),0)","v":175},{"$f":"N1140-K1140","v":1911},3000]
[1090,-8,-90,1000,null,1090,83,910,2000,null,1090,175,1910,3000]
[1091,-8,-91,1000,null,1091,83,909,2000,null,1091,175,1909,3000]
[1092,-8,-92,1000,null,1092,83,908,2000,null,1092,175,1908,3000]
[1093,-9,-93,1000,null,1093,83,907,2000,null,1093,174,1907,3000]
[1094,-9,-94,1000,null,1094,83,906,2000,null,1094,174,1906,3000]
[1095,-9,-95,1000,null,1095,83,905,2000,null,1095,174,1905,3000]
[1096,-9,-96,1000,null,1096,82,904,2000,null,1096,174,1904,3000]
[1097,-9,-97,1000,null,1097,82,903,2000,null,1097,173,1903,3000]
[1098,-9,-98,1000,null,1098,82,902,2000,null,1098,173,1902,3000]
[1099,-9,-99,1000,null,1099,82,901,2000,null,1099,173,1901,3000]
[1100,-9,-100,1000,null,1100,82,900,2000,null,1100,173,1900,3000]
[1101,-9,-101,1000,null,1101,82,899,2000,null,1101,172,1899,3000]
[1102,-9,-102,1000,null,1102,81,898,2000,null,1102,172,1898,3000]
[1103,-9,-103,1000,null,1103,81,897,2000,null,1103,172,1897,3000]
[1104,-9,-104,1000,null,1104,81,896,2000,null,1104,172,1896,3000]
[1105,-10,-105,1000,null,1105,81,895,2000,null,1105,171,1895,3000]
[1106,-10,-106,1000,null,1106,81,894,2000,null,1106,171,1894,3000]
[1107,-10,-107,1000,null,1107,81,893,2000,null,1107,171,1893,3000]
[1108,-10,-108,1000,null,1108,81,892,2000,null,1108,171,1892,3000]
[1109,-10,-109,1000,null,1109,80,891,2000,null,1109,171,1891,3000]
[1110,-10,-110,1000,null,1110,80,890,2000,null,1110,170,1890,3000]
[1111,-10,-111,1000,null,1111,80,889,2000,null,1111,170,1889,3000]
[1112,-10,-112,1000,null,1112,80,888,2000,null,1112,170,1888,3000]
[1113,-10,-113,1000,null,1113,80,887,2000,null,1113,170,1887,3000]
[1114,-10,-114,1000,null,1114,80,886,2000,null,1114,169,1886,3000]
[1115,-10,-115,1000,null,1115,79,885,2000,null,1115,169,1885,3000]
[1116,-10,-116,1000,null,1116,79,884,2000,null,1116,169,1884,3000]
[1117,-10,-117,1000,null,1117,79,883,2000,null,1117,169,1883,3000]
[1118,-11,-118,1000,null,1118,79,882,2000,null,1118,168,1882,3000]
[1119,-11,-119,1000,null,1119,79,881,2000,null,1119,168,1881,3000]
[1120,-11,-120,1000,null,1120,79,880,2000,null,1120,168,1880,3000]
[1121,-11,-121,1000,null,1121,78,879,2000,null,1121,168,1879,3000]
[1122,-11,-122,1000,null,1122,78,878,2000,null,1122,167,1878,3000]
[1123,-11,-123,1000,null,1123,78,877,2000,null,1123,167,1877,3000]
[1124,-11,-124,1000,null,1124,78,876,2000,null,1124,167,1876,3000]
[1125,-11,-125,1000,null,1125,78,875,2000,null,1125,167,1875,3000]
[1126,-11,-126,1000,null,1126,78,874,2000,null,1126,166,1874,3000]
[1127,-11,-127,1000,null,1127,77,873,2000,null,1127,166,1873,3000]
[1128,-11,-128,1000,null,1128,77,872,2000,null,1128,166,1872,3000]
[1129,-11,-129,1000,null,1129,77,871,2000,null,1129,166,1871,3000]
[1130,-12,-130,1000,null,1130,77,870,2000,null,1130,165,1870,3000]
[1131,-12,-131,1000,null,1131,77,869,2000,null,1131,165,1869,3000]
[1132,-12,-132,1000,null,1132,77,868,2000,null,1132,165,1868,3000]
[1133,-12,-133,1000,null,1133,77,867,2000,null,1133,165,1867,3000]
[1134,-12,-134,1000,null,1134,76,866,2000,null,1134,165,1866,3000]
[1135,-12,-135,1000,null,1135,76,865,2000,null,1135,164,1865,3000]
[1136,-12,-136,1000,null,1136,76,864,2000,null,1136,164,1864,3000]
[1137,-12,-137,1000,null,1137,76,863,2000,null,1137,164,1863,3000]
[1138,-12,-138,1000,null,1138,76,862,2000,null,1138,164,1862,3000]
[1139,-12,-139,1000,null,1139,76,861,2000,null,1139,163,1861,3000]
[1140,-12,-140,1000,null,1140,75,860,2000,null,1140,163,1860,3000]
[1141,-12,-141,1000,null,1141,75,859,2000,null,1141,163,1859,3000]
[1142,-12,-142,1000,null,1142,75,858,2000,null,1142,163,1858,3000]
[1143,-13,-143,1000,null,1143,75,857,2000,null,1143,162,1857,3000]
[1144,-13,-144,1000,null,1144,75,856,2000,null,1144,162,1856,3000]
[1145,-13,-145,1000,null,1145,75,855,2000,null,1145,162,1855,3000]
[1146,-13,-146,1000,null,1146,75,854,2000,null,1146,162,1854,3000]
[1147,-13,-147,1000,null,1147,74,853,2000,null,1147,162,1853,3000]
[1148,-13,-148,1000,null,1148,74,852,2000,null,1148,161,1852,3000]
[1149,-13,-149,1000,null,1149,74,851,2000,null,1149,161,1851,3000]
[1150,-13,-150,1000,null,1150,74,850,2000,null,1150,161,1850,3000]
[1151,-13,-151,1000,null,1151,74,849,2000,null,1151,161,1849,3000]
[1152,-13,-152,1000,null,1152,74,848,2000,null,1152,160,1848,3000]
[1153,{"$f":"ROUND(100*(C1204/A1204),0)","v":-13},{"$f":"D1204-A1204","v":-153},1000,null,1153,{"$f":"ROUND(100*(H1204/F1204),0)","v":73},{"$f":"I1204-F1204","v":847},2000,null,1153,{"$f":"ROUND(100*(M1204/K1204),0)","v":160},{"$f":"N1204-K1204","v":1847},3000]
[1154,-13,-154,1000,null,1154,73,846,2000,null,1154,160,1846,3000]
[1155,-13,-155,1000,null,1155,73,845,2000,null,1155,160,1845,3000]
[1156,-13,-156,1000,null,1156,73,844,2000,null,1156,160,1844,3000]
[1157,-14,-157,1000,null,1157,73,843,2000,null,1157,159,1843,3000]
[1158,-14,-158,1000,null,1158,73,842,2000,null,1158,159,1842,3000]
[1159,-14,-159,1000,null,1159,73,841,2000,null,1159,159,1841,3000]
[1160,-14,-160,1000,null,1160,72,840,2000,null,1160,159,1840,3000]
[1161,-14,-161,1000,null,1161,72,839,2000,null,1161,158,1839,3000]
[1162,-14,-162,1000,null,1162,72,838,2000,null,1162,158,1838,3000]
[1163,-14,-163,1000,null,1163,72,837,2000,null,1163,158,1837,3000]
[1164,-14,-164,1000,null,1164,72,836,2000,null,1164,158,1836,3000]
[1165,-14,-165,1000,null,1165,72,835,2000,null,1165,158,1835,3000]
[1166,-14,-166,1000,null,1166,72,834,2000,null,1166,157,1834,3000]
[1167,-14,-167,1000,null,1167,71,833,2000,null,1167,157,1833,3000]
[1168,-14,-168,1000,null,1168,71,832,2000,null,1168,157,1832,3000]
[1169,-14,-169,1000,null,1169,71,831,2000,null,1169,157,1831,3000]
[1170,-15,-170,1000,null,1170,71,830,2000,null,1170,156,1830,3000]
[1171,-15,-171,1000,null,1171,71,829,2000,null,1171,156,1829,3000]
[1172,-15,-172,1000,null,1172,71,828,2000,null,1172,156,1828,3000]
[1173,-15,-173,1000,null,1173,71,827,2000,null,1173,156,1827,3000]
[1174,-15,-174,1000,null,1174,70,826,2000,null,1174,156,1826,3000]
[1175,-15,-175,1000,null,1175,70,825,2000,null,1175,155,1825,3000]
[1176,-15,-176,1000,null,1176,70,824,2000,null,1176,155,1824,3000]
[1177,-15,-177,1000,null,1177,70,823,2000,null,1177,155,1823,3000]
[1178,-15,-178,1000,null,1178,70,822,2000,null,1178,155,1822,3000]
[1179,-15,-179,1000,null,1179,70,821,2000,null,1179,154,1821,3000]
[1180,-15,-180,1000,null,1180,69,820,2000,null,1180,154,1820,3000]
[1181,-15,-181,1000,null,1181,69,819,2000,null,1181,154,1819,3000]
[1182,-15,-182,1000,null,1182,69,818,2000,null,1182,154,1818,3000]
[1183,-15,-183,1000,null,1183,69,817,2000,null,1183,154,1817,3000]
[1184,-16,-184,1000,null,1184,69,816,2000,null,1184,153,1816,3000]
[1185,-16,-185,1000,null,1185,69,815,2000,null,1185,153,1815,3000]
[1186,-16,-186,1000,null,1186,69,814,2000,null,1186,153,1814,3000]
[1187,-16,-187,1000,null,1187,68,813,2000,null,1187,153,1813,3000]
[1188,-16,-188,1000,null,1188,68,812,2000,null,1188,153,1812,3000]
[1189,-16,-189,1000,null,1189,68,811,2000,null,1189,152,1811,3000]
[1190,-16,-190,1000,null,1190,68,810,2000,null,1190,152,1810,3000]
[1191,-16,-191,1000,null,1191,68,809,2000,null,1191,152,1809,3000]
[1192,-16,-192,1000,null,1192,68,808,2000,null,1192,152,1808,3000]
[1193,-16,-193,1000,null,1193,68,807,2000,null,1193,151,1807,3000]
[1194,-16,-194,1000,null,1194,68,806,2000,null,1194,151,1806,3000]
[1195,-16,-195,1000,null,1195,67,805,2000,null,1195,151,1805,3000]
[1196,-16,-196,1000,null,1196,67,804,2000,null,1196,151,1804,3000]
[1197,-16,-197,1000,null,1197,67,803,2000,null,1197,151,1803,3000]
[1198,-17,-198,1000,null,1198,67,802,2000,null,1198,150,1802,3000]
[1199,-17,-199,1000,null,1199,67,801,2000,null,1199,150,1801,3000]
[1200,-17,-200,1000,null,1200,67,800,2000,null,1200,150,1800,3000]

{"sheet":"Calculate Wight Body2","index":20,"n_rows":30,"n_cols":2,"rows_kept":30,"merged":[[17,1,17,3],[18,1,18,3]]}
[{"$f":"COUNTIF(GAMEstage2!B2:AE2,\"btb\")+COUNTIF(GAMEstage2!B2:AE2,\"sb\")+COUNTIF(GAMEstage2!B2:AE2,\"tb\")","v":0}]
[{"$f":"COUNTIF(GAMEstage2!B3:AE3,\"btb\")+COUNTIF(GAMEstage2!B3:AE3,\"sb\")+COUNTIF(GAMEstage2!B3:AE3,\"tb\")","v":0}]
[{"$f":"COUNTIF(GAMEstage2!B4:AE4,\"btb\")+COUNTIF(GAMEstage2!B4:AE4,\"sb\")+COUNTIF(GAMEstage2!B4:AE4,\"tb\")","v":0}]
[{"$f":"COUNTIF(GAMEstage2!B5:AE5,\"btb\")+COUNTIF(GAMEstage2!B5:AE5,\"sb\")+COUNTIF(GAMEstage2!B5:AE5,\"tb\")","v":0}]
[{"$f":"COUNTIF(GAMEstage2!B6:AE6,\"btb\")+COUNTIF(GAMEstage2!B6:AE6,\"sb\")+COUNTIF(GAMEstage2!B6:AE6,\"tb\")","v":0}]
[{"$f":"COUNTIF(GAMEstage2!B7:AE7,\"btb\")+COUNTIF(GAMEstage2!B7:AE7,\"sb\")+COUNTIF(GAMEstage2!B7:AE7,\"tb\")","v":0}]
[{"$f":"COUNTIF(GAMEstage2!B8:AE8,\"btb\")+COUNTIF(GAMEstage2!B8:AE8,\"sb\")+COUNTIF(GAMEstage2!B8:AE8,\"tb\")","v":0}]
[{"$f":"COUNTIF(GAMEstage2!B9:AE9,\"btb\")+COUNTIF(GAMEstage2!B9:AE9,\"sb\")+COUNTIF(GAMEstage2!B9:AE9,\"tb\")","v":0}]
[{"$f":"COUNTIF(GAMEstage2!B10:AE10,\"btb\")+COUNTIF(GAMEstage2!B10:AE10,\"sb\")+COUNTIF(GAMEstage2!B10:AE10,\"tb\")","v":0}]
[{"$f":"COUNTIF(GAMEstage2!B11:AE11,\"btb\")+COUNTIF(GAMEstage2!B11:AE11,\"sb\")+COUNTIF(GAMEstage2!B11:AE11,\"tb\")","v":0}]
[{"$f":"COUNTIF(GAMEstage2!B12:AE12,\"btb\")+COUNTIF(GAMEstage2!B12:AE12,\"sb\")+COUNTIF(GAMEstage2!B12:AE12,\"tb\")","v":0}]
[{"$f":"COUNTIF(GAMEstage2!B13:AE13,\"btb\")+COUNTIF(GAMEstage2!B13:AE13,\"sb\")+COUNTIF(GAMEstage2!B13:AE13,\"tb\")","v":0}]
[{"$f":"COUNTIF(GAMEstage2!B14:AE14,\"btb\")+COUNTIF(GAMEstage2!B14:AE14,\"sb\")+COUNTIF(GAMEstage2!B14:AE14,\"tb\")","v":0}]
[{"$f":"COUNTIF(GAMEstage2!B15:AE15,\"btb\")+COUNTIF(GAMEstage2!B15:AE15,\"sb\")+COUNTIF(GAMEstage2!B15:AE15,\"tb\")","v":0}]
[{"$f":"COUNTIF(GAMEstage2!B16:AE16,\"btb\")+COUNTIF(GAMEstage2!B16:AE16,\"sb\")+COUNTIF(GAMEstage2!B16:AE16,\"tb\")","v":0}]
[{"$f":"COUNTIF(GAMEstage2!B17:AE17,\"btb\")+COUNTIF(GAMEstage2!B17:AE17,\"sb\")+COUNTIF(GAMEstage2!B17:AE17,\"tb\")","v":0}]
[{"$f":"COUNTIF(GAMEstage2!B18:AE18,\"btb\")+COUNTIF(GAMEstage2!B18:AE18,\"sb\")+COUNTIF(GAMEstage2!B18:AE18,\"tb\")","v":0}]
[{"$f":"COUNTIF(GAMEstage2!B19:AE19,\"btb\")+COUNTIF(GAMEstage2!B19:AE19,\"sb\")+COUNTIF(GAMEstage2!B19:AE19,\"tb\")","v":0},"Wight of the body"]
[{"$f":"COUNTIF(GAMEstage2!B20:AE20,\"btb\")+COUNTIF(GAMEstage2!B20:AE20,\"sb\")+COUNTIF(GAMEstage2!B20:AE20,\"tb\")","v":0},{"$f":"MAX(A1:A30)","v":0}]
[{"$f":"COUNTIF(GAMEstage2!B21:AE21,\"btb\")+COUNTIF(GAMEstage2!B21:AE21,\"sb\")+COUNTIF(GAMEstage2!B21:AE21,\"tb\")","v":0}]
[{"$f":"COUNTIF(GAMEstage2!B22:AE22,\"btb\")+COUNTIF(GAMEstage2!B22:AE22,\"sb\")+COUNTIF(GAMEstage2!B22:AE22,\"tb\")","v":0}]
[{"$f":"COUNTIF(GAMEstage2!B23:AE23,\"btb\")+COUNTIF(GAMEstage2!B23:AE23,\"sb\")+COUNTIF(GAMEstage2!B23:AE23,\"tb\")","v":0}]
[{"$f":"COUNTIF(GAMEstage2!B24:AE24,\"btb\")+COUNTIF(GAMEstage2!B24:AE24,\"sb\")+COUNTIF(GAMEstage2!B24:AE24,\"tb\")","v":0}]
[{"$f":"COUNTIF(GAMEstage2!B25:AE25,\"btb\")+COUNTIF(GAMEstage2!B25:AE25,\"sb\")+COUNTIF(GAMEstage2!B25:AE25,\"tb\")","v":0}]
[{"$f":"COUNTIF(GAMEstage2!B26:AE26,\"btb\")+COUNTIF(GAMEstage2!B26:AE26,\"sb\")+COUNTIF(GAMEstage2!B26:AE26,\"tb\")","v":0}]
[{"$f":"COUNTIF(GAMEstage2!B27:AE27,\"btb\")+COUNTIF(GAMEstage2!B27:AE27,\"sb\")+COUNTIF(GAMEstage2!B27:AE27,\"tb\")","v":0}]
[{"$f":"COUNTIF(GAMEstage2!B28:AE28,\"btb\")+COUNTIF(GAMEstage2!B28:AE28,\"sb\")+COUNTIF(GAMEstage2!B28:AE28,\"tb\")","v":0}]
[{"$f":"COUNTIF(GAMEstage2!B29:AE29,\"btb\")+COUNTIF(GAMEstage2!B29:AE29,\"sb\")+COUNTIF(GAMEstage2!B29:AE29,\"tb\")","v":0}]
[{"$f":"COUNTIF(GAMEstage2!B30:AE30,\"btb\")+COUNTIF(GAMEstage2!B30:AE30,\"sb\")+COUNTIF(GAMEstage2!B30:AE30,\"tb\")","v":0}]
[{"$f":"COUNTIF(GAMEstage2!B31:AE31,\"btb\")+COUNTIF(GAMEstage2!B31:AE31,\"sb\")+COUNTIF(GAMEstage2!B31:AE31,\"tb\")","v":0}]

{"sheet":"Standardization","index":21,"n_rows":61,"n_cols":38,"rows_kept":61,"merged":[[1,1,2,30],[1,31,3,36],[1,37,8,55],[1,65,1,66],[1,67,1,68],[4,32,5,33],[4,34,5,35],[4,65,4,66],[4,67,4,68],[4,74,4,76],[5,67,5,68],[6,32,7,33],[6,34,7,35],[6,65,6,66],[6,67,6,68],[6,74,6,77],[6,80,6,81],[7,56,7,58],[7,67,7,68],[8,65,8,66],[8,67,8,68],[8,74,8,77],[8,80,8,81],[10,57,10,58],[10,74,10,77],[10,80,10,81],[11,57,11,58],[12,74,12,76],[13,65,13,66],[13,67,13,68],[14,67,14,68],[14,74,14,77],[14,80,14,81],[15,65,15,66],[15,67,15,68],[16,67,16,68],[16,74,16,77],[16,80,16,81],[17,65,17,66],[17,67,17,68],[18,74,18,77],[18,80,18,81],[21,37,22,49],[22,1,23,30],[22,65,22,66],[22,67,22,68],[22,74,22,77],[22,80,22,81],[23,65,23,66],[23,67,23,68],[24,65,24,66],[24,67,24,68],[29,55,30,60],[30,37,31,49],[32,1,32,7],[32,8,32,9],[32,12,32,16],[32,17,32,19],[32,22,32,27],[32,28,32,30],[33,1,34,30],[33,56,33,58],[34,57,34,58],[35,57,35,58],[36,57,36,58],[37,57,37,58],[38,57,38,58],[39,37,40,49],[39,57,39,58],[40,57,40,58],[41,57,41,58]]}
[]
[null,"COCKPIT",{"$nulls":35},"Here you have some designs that work good. You can use the shape to design your airplane in a faster way."]
[]
[]
[]
[]
[{"$nulls":5},"btc","btc",{"$nulls":7},"tc","tc"]
[{"$nulls":5},"sc","sc",{"$nulls":7},"sc","sc",{"$nulls":8},"tc","tc"]
[{"$nulls":4},"btc","sc","sc","btc",{"$nulls":5},"btc","sc","sc","btc",{"$nulls":6},"tc","sc","sc","tc"]
[]
[]
[]
[]
[]
[{"$nulls":5},"btc","btc",{"$nulls":7},"btc","btc",{"$nulls":8},"tc","tc"]
{"$rows_empty":7}
[null,"TAIL"]
[]
[]
[]
[null,null,"btt",{"$nulls":9},"st","st","st","st","st","st",{"$nulls":6},"btt"]
[null,null,"st","st","btt",{"$nulls":7},"st","st","st","st","st","st",{"$nulls":6},"st","st","btt"]
[null,null,"st","st","st","st","btt",{"$nulls":5},"st","st","st","st","st","st",{"$nulls":6},"st","st","st","tt"]
[]
[]
[]
[]
[null,"WING"]
[]
[]
[]
[{"$nulls":8},"btw"]
[{"$nulls":8},"sw","sw","btw"]
[{"$nulls":8},"sw","sw","sw","sw","btw"]
[{"$nulls":8},"sw","sw","sw","sw","sw","sw","btw"]
[{"$nulls":8},"sw","sw","sw","sw","sw","sw","sw","sw","btw"]
[{"$nulls":8},"sw","sw","sw","sw","sw","sw","sw","sw","sw","sw","btw"]
[]
[]
[]
[{"$nulls":8},"sw","sw","sw","sw","sw","sw","sw","sw","sw","sw","sw","sw"]
[{"$nulls":8},"sw","sw","sw","sw","sw","sw","sw","sw","sw","sw","sw","sw"]
[{"$nulls":8},"sw","sw","sw","sw","sw","sw","sw","sw","sw","sw","sw","sw"]
[{"$nulls":8},"sw","sw","sw","sw","sw","sw","sw","sw","sw","sw","sw","sw"]
[{"$nulls":8},"sw","sw","sw","sw","sw","sw","sw","sw","sw","sw","sw","sw"]
[{"$nulls":8},"sw","sw","sw","sw","sw","sw","sw","sw","sw","sw","sw","sw"]
[]
[]
[]
[{"$nulls":8},"btw"]
[{"$nulls":8},"sw","sw","btw"]
[{"$nulls":8},"sw","sw","sw","sw","btw"]
[{"$nulls":8},"sw","sw","sw","sw","sw","sw","btw"]
[{"$nulls":8},"sw","sw","sw","sw","sw","sw","sw","sw","btw"]
[{"$nulls":8},"sw","sw","sw","sw","sw","sw","sw","sw","sw","tw"]

{"sheet":"Geometry cockpit","index":22,"n_rows":58,"n_cols":17,"rows_kept":58,"merged":[[0,0,0,5],[3,4,3,6],[4,4,4,6],[4,10,4,16],[5,4,5,6],[16,4,16,6],[17,4,17,6],[18,4,18,6],[25,4,25,6],[26,4,26,6],[27,4,27,6],[34,4,34,6],[35,4,35,6],[36,4,36,6],[40,4,40,6],[41,4,41,6],[42,4,42,6],[52,4,52,6],[53,4,53,6],[54,4,54,6]]}
["COCKPIT"]
[]
["Type 1:"]
[{"$nulls":4},"nsc=number of squares in the cockpit =",null,null,4]
[{"$nulls":4},"ntc=number of triangle in the cockpit=",null,null,0,null,null,"Type"]
[{"$nulls":4},"nbtc= number of big triangle in the cockpit",null,null,4,{"$nulls":3},1,2,3,4,5,6]
[{"$nulls":10},"nsc",4,4,2,0,0,0]
[{"$nulls":4},"Lc=4",{"$nulls":5},"ntc",0,2,4,0,0,2]
[{"$nulls":10},"nbtc",4,2,0,2,2,0]
[{"$nulls":10},"Lc",4,3,2,1,2,1]
[]
[]
[]
[]
[]
["Type 2:"]
[{"$nulls":4},"nsc=number of squares in the cockpit =",null,null,4]
[{"$nulls":4},"ntc=number of triangle in the cockpit=",null,null,2]
[{"$nulls":4},"nbtc= number of big triangle in the cockpit",null,null,2]
[]
[{"$nulls":4},"Lc=3"]
[]
[]
[]
["Type 3:"]
[{"$nulls":4},"nsc=number of squares in the cockpit =",null,null,2]
[{"$nulls":4},"ntc=number of triangle in the cockpit=",null,null,4]
[{"$nulls":4},"nbtc= number of big triangle in the cockpit",null,null,0]
[]
[]
[{"$nulls":4},"Lc=2"]
[]
[]
["Type 4:"]
[{"$nulls":4},"nsc=number of squares in the cockpit =",null,null,0]
[{"$nulls":4},"ntc=number of triangle in the cockpit=",null,null,0]
[{"$nulls":4},"nbtc= number of big triangle in the cockpit",null,null,2]
[]
[{"$nulls":4},"Lc=1"]
["Type 5:"]
[{"$nulls":4},"nsc=number of squares in the cockpit =",null,null,0]
[{"$nulls":4},"ntc=number of triangle in the cockpit=",null,null,0]
[{"$nulls":4},"nbtc= number of big triangle in the cockpit",null,null,2]
[]
[]
[{"$nulls":4},"Lc=2"]
[]
[]
[]
[]
[]
["Type 6:"]
[{"$nulls":4},"nsc=number of squares in the cockpit =",null,null,0]
[{"$nulls":4},"ntc=number of triangle in the cockpit=",null,null,2]
[{"$nulls":4},"nbtc= number of big triangle in the cockpit",null,null,0]
[]
[]
[{"$nulls":4},"Lc=1"]

{"sheet":"Geometry tail","index":23,"n_rows":74,"n_cols":15,"rows_kept":74,"merged":[[0,0,0,6],[4,9,4,11],[4,14,4,15],[5,14,5,15],[9,9,9,11],[20,9,20,11],[29,9,29,11],[40,12,40,13],[57,9,57,11],[68,0,68,3]]}
["tail",{"$nulls":8},"NpbL",{"$f":"'Geometry wing '!K2","v":24}]
[]
["Type 1:","Rectangle"]
[{"$nulls":9},"In function of the body:  "]
[{"$nulls":9},"Number of blocks ",null,null,"Npt=NptL*NptW/2",{"$f":"M7*M8","v":8}]
[]
[{"$nulls":11},"NptW",{"$f":" ROUND(0.1*K1,0)","v":2}]
["y  ",{"$nulls":10},"NptL",{"$f":" 2*M7","v":4}]
[]
[{"$nulls":9},"nbtt= number of big triangle in the tail=",null,null,{"$f":"N5","v":8},"All the tail is with big triangles"]
[]
[]
[]
[null,null,"x"]
[]
[]
[]
[]
[]
[{"$nulls":9},"In function of the body: "]
[{"$nulls":9},"Number of blocks ",null,null,"Npt=NptL*NptW",{"$f":"(M23-1)*M24/2+M24","v":24}]
[]
[{"$nulls":11},"NptW",{"$f":" ROUNDUP(0.2*K1,0)","v":5}]
[{"$nulls":11},"NptL",{"$f":"2*(M23-1)","v":8}]
[]
["Type 2:","Triangle",{"$nulls":7},"nbtt= number of big triangle in the tail=",null,null,{"$f":"M23-1","v":4}]
[]
[{"$nulls":9},"ntt= number of triangle in the tail=",null,null,1]
[]
[{"$nulls":9},"nst= number of square in the tail=",null,null,{"$f":"M24-1+((M23-1)*M24)/2-M26","v":19}]
[{"$nulls":13},{"$f":"ROUNDDOWN(2*M31/10*N21,0)","v":0}]
[]
[]
[]
[]
[]
[{"$nulls":14},{"$f":"M37+M32/2+M28","v":1}]
{"$rows_empty":10}
[{"$nulls":9},"In function of the body: "]
[{"$nulls":9},"Number of blocks ",null,null,"Npt",{"$f":"M51*M52/2","v":25}]
["Type 3:","Triangle2"]
[{"$nulls":11},"NptW",{"$f":" ROUND(0.2*K1,0)","v":5}]
[{"$nulls":11},"NptL",{"$f":" 2*(M51)","v":10}]
[]
[{"$nulls":9},"nbtt= number of big triangle in the tail=",null,null,{"$f":"M51","v":5}]
[]
[{"$nulls":9},"ntt= number of triangle in the tail=",null,null,0]
[]
[{"$nulls":9},"nst= number of square in the tail=",null,null,{"$f":"M52*M51/2-M54","v":20}]
{"$rows_empty":10}
["Type"]
[null,1,2,3]
["nst",0,{"$f":"$M$58","v":20},{"$f":"M30","v":19}]
["ntt",0,{"$f":"$M$56","v":0},{"$f":"M28","v":1}]
["nbtt",{"$f":"$M$10","v":8},{"$f":"$M$54","v":5},{"$f":"M26","v":4}]
["NptL",{"$f":"$M$8","v":4},{"$f":"$M$52","v":10},{"$f":"$M$24","v":8}]

{"sheet":"Calculate wingSpam2","index":24,"n_rows":30,"n_cols":3,"rows_kept":30,"merged":[[13,2,13,4],[14,2,14,4],[17,2,17,4],[18,2,18,4]]}
[{"$f":"COUNTIF(GAMEstage2!B2:AE2,\"sb\")+COUNTIF(GAMEstage2!B2:AE2,\"bt\")+COUNTIF(GAMEstage2!B2:AE2,\"btb\")+COUNTIF(GAMEstage2!B2:AE2,\"btw\")+COUNTIF(GAMEstage2!B2:AE2,\"sw\")+COUNTIF(GAMEstage2!B2:AE2,\"tw\")","v":0},{"$f":"IF(A1=0,100,A1)","v":100}]
[{"$f":"COUNTIF(GAMEstage2!B3:AE3,\"sb\")+COUNTIF(GAMEstage2!B3:AE3,\"bt\")+COUNTIF(GAMEstage2!B3:AE3,\"btb\")+COUNTIF(GAMEstage2!B3:AE3,\"btw\")+COUNTIF(GAMEstage2!B3:AE3,\"sw\")+COUNTIF(GAMEstage2!B3:AE3,\"tw\")","v":0},{"$f":"IF(A2=0,100,A2)","v":100}]
[{"$f":"COUNTIF(GAMEstage2!B4:AE4,\"sb\")+COUNTIF(GAMEstage2!B4:AE4,\"bt\")+COUNTIF(GAMEstage2!B4:AE4,\"btb\")+COUNTIF(GAMEstage2!B4:AE4,\"btw\")+COUNTIF(GAMEstage2!B4:AE4,\"sw\")+COUNTIF(GAMEstage2!B4:AE4,\"tw\")","v":0},100]
[{"$f":"COUNTIF(GAMEstage2!B5:AE5,\"sb\")+COUNTIF(GAMEstage2!B5:AE5,\"bt\")+COUNTIF(GAMEstage2!B5:AE5,\"btb\")+COUNTIF(GAMEstage2!B5:AE5,\"btw\")+COUNTIF(GAMEstage2!B5:AE5,\"sw\")+COUNTIF(GAMEstage2!B5:AE5,\"tw\")","v":0},100]
[{"$f":"COUNTIF(GAMEstage2!B6:AE6,\"sb\")+COUNTIF(GAMEstage2!B6:AE6,\"bt\")+COUNTIF(GAMEstage2!B6:AE6,\"btb\")+COUNTIF(GAMEstage2!B6:AE6,\"btw\")+COUNTIF(GAMEstage2!B6:AE6,\"sw\")+COUNTIF(GAMEstage2!B6:AE6,\"tw\")","v":0},100]
[{"$f":"COUNTIF(GAMEstage2!B7:AE7,\"sb\")+COUNTIF(GAMEstage2!B7:AE7,\"bt\")+COUNTIF(GAMEstage2!B7:AE7,\"btb\")+COUNTIF(GAMEstage2!B7:AE7,\"btw\")+COUNTIF(GAMEstage2!B7:AE7,\"sw\")+COUNTIF(GAMEstage2!B7:AE7,\"tw\")","v":0},100]
[{"$f":"COUNTIF(GAMEstage2!B8:AE8,\"sb\")+COUNTIF(GAMEstage2!B8:AE8,\"bt\")+COUNTIF(GAMEstage2!B8:AE8,\"btb\")+COUNTIF(GAMEstage2!B8:AE8,\"btw\")+COUNTIF(GAMEstage2!B8:AE8,\"sw\")+COUNTIF(GAMEstage2!B8:AE8,\"tw\")","v":0},100]
[{"$f":"COUNTIF(GAMEstage2!B9:AE9,\"sb\")+COUNTIF(GAMEstage2!B9:AE9,\"bt\")+COUNTIF(GAMEstage2!B9:AE9,\"btb\")+COUNTIF(GAMEstage2!B9:AE9,\"btw\")+COUNTIF(GAMEstage2!B9:AE9,\"sw\")+COUNTIF(GAMEstage2!B9:AE9,\"tw\")","v":0},100]
[{"$f":"COUNTIF(GAMEstage2!B10:AE10,\"sb\")+COUNTIF(GAMEstage2!B10:AE10,\"bt\")+COUNTIF(GAMEstage2!B10:AE10,\"btb\")+COUNTIF(GAMEstage2!B10:AE10,\"btw\")+COUNTIF(GAMEstage2!B10:AE10,\"sw\")+COUNTIF(GAMEstage2!B10:AE10,\"tw\")","v":0},100]
[{"$f":"COUNTIF(GAMEstage2!B11:AE11,\"sb\")+COUNTIF(GAMEstage2!B11:AE11,\"bt\")+COUNTIF(GAMEstage2!B11:AE11,\"btb\")+COUNTIF(GAMEstage2!B11:AE11,\"btw\")+COUNTIF(GAMEstage2!B11:AE11,\"sw\")+COUNTIF(GAMEstage2!B11:AE11,\"tw\")","v":0},100]
[{"$f":"COUNTIF(GAMEstage2!B12:AE12,\"sb\")+COUNTIF(GAMEstage2!B12:AE12,\"bt\")+COUNTIF(GAMEstage2!B12:AE12,\"btb\")+COUNTIF(GAMEstage2!B12:AE12,\"btw\")+COUNTIF(GAMEstage2!B12:AE12,\"sw\")+COUNTIF(GAMEstage2!B12:AE12,\"tw\")","v":0},100]
[{"$f":"COUNTIF(GAMEstage2!B13:AE13,\"sb\")+COUNTIF(GAMEstage2!B13:AE13,\"bt\")+COUNTIF(GAMEstage2!B13:AE13,\"btb\")+COUNTIF(GAMEstage2!B13:AE13,\"btw\")+COUNTIF(GAMEstage2!B13:AE13,\"sw\")+COUNTIF(GAMEstage2!B13:AE13,\"tw\")","v":0},100]
[{"$f":"COUNTIF(GAMEstage2!B14:AE14,\"sb\")+COUNTIF(GAMEstage2!B14:AE14,\"bt\")+COUNTIF(GAMEstage2!B14:AE14,\"btb\")+COUNTIF(GAMEstage2!B14:AE14,\"btw\")+COUNTIF(GAMEstage2!B14:AE14,\"sw\")+COUNTIF(GAMEstage2!B14:AE14,\"tw\")","v":0},100]
[{"$f":"COUNTIF(GAMEstage2!B15:AE15,\"sb\")+COUNTIF(GAMEstage2!B15:AE15,\"bt\")+COUNTIF(GAMEstage2!B15:AE15,\"btb\")+COUNTIF(GAMEstage2!B15:AE15,\"btw\")+COUNTIF(GAMEstage2!B15:AE15,\"sw\")+COUNTIF(GAMEstage2!B15:AE15,\"tw\")","v":0},100,"Wing Span"]
[{"$f":"COUNTIF(GAMEstage2!B16:AE16,\"sb\")+COUNTIF(GAMEstage2!B16:AE16,\"bt\")+COUNTIF(GAMEstage2!B16:AE16,\"btb\")+COUNTIF(GAMEstage2!B16:AE16,\"btw\")+COUNTIF(GAMEstage2!B16:AE16,\"sw\")+COUNTIF(GAMEstage2!B16:AE16,\"tw\")","v":0},100,{"$f":"MAX(A1:A30)+2","v":2}]
[{"$f":"COUNTIF(GAMEstage2!B17:AE17,\"sb\")+COUNTIF(GAMEstage2!B17:AE17,\"bt\")+COUNTIF(GAMEstage2!B17:AE17,\"btb\")+COUNTIF(GAMEstage2!B17:AE17,\"btw\")+COUNTIF(GAMEstage2!B17:AE17,\"sw\")+COUNTIF(GAMEstage2!B17:AE17,\"tw\")","v":0},100]
[{"$f":"COUNTIF(GAMEstage2!B18:AE18,\"sb\")+COUNTIF(GAMEstage2!B18:AE18,\"bt\")+COUNTIF(GAMEstage2!B18:AE18,\"btb\")+COUNTIF(GAMEstage2!B18:AE18,\"btw\")+COUNTIF(GAMEstage2!B18:AE18,\"sw\")+COUNTIF(GAMEstage2!B18:AE18,\"tw\")","v":0},100]
[{"$f":"COUNTIF(GAMEstage2!B19:AE19,\"sb\")+COUNTIF(GAMEstage2!B19:AE19,\"bt\")+COUNTIF(GAMEstage2!B19:AE19,\"btb\")+COUNTIF(GAMEstage2!B19:AE19,\"btw\")+COUNTIF(GAMEstage2!B19:AE19,\"sw\")+COUNTIF(GAMEstage2!B19:AE19,\"tw\")","v":0},100,"Wight of the body"]
[{"$f":"COUNTIF(GAMEstage2!B20:AE20,\"sb\")+COUNTIF(GAMEstage2!B20:AE20,\"bt\")+COUNTIF(GAMEstage2!B20:AE20,\"btb\")+COUNTIF(GAMEstage2!B20:AE20,\"btw\")+COUNTIF(GAMEstage2!B20:AE20,\"sw\")+COUNTIF(GAMEstage2!B20:AE20,\"tw\")","v":0},100,{"$f":"MIN(B1:B30)","v":100}]
[{"$f":"COUNTIF(GAMEstage2!B21:AE21,\"sb\")+COUNTIF(GAMEstage2!B21:AE21,\"bt\")+COUNTIF(GAMEstage2!B21:AE21,\"btb\")+COUNTIF(GAMEstage2!B21:AE21,\"btw\")+COUNTIF(GAMEstage2!B21:AE21,\"sw\")+COUNTIF(GAMEstage2!B21:AE21,\"tw\")","v":0},100]
[{"$f":"COUNTIF(GAMEstage2!B22:AE22,\"sb\")+COUNTIF(GAMEstage2!B22:AE22,\"bt\")+COUNTIF(GAMEstage2!B22:AE22,\"btb\")+COUNTIF(GAMEstage2!B22:AE22,\"btw\")+COUNTIF(GAMEstage2!B22:AE22,\"sw\")+COUNTIF(GAMEstage2!B22:AE22,\"tw\")","v":0},100]
[{"$f":"COUNTIF(GAMEstage2!B23:AE23,\"sb\")+COUNTIF(GAMEstage2!B23:AE23,\"bt\")+COUNTIF(GAMEstage2!B23:AE23,\"btb\")+COUNTIF(GAMEstage2!B23:AE23,\"btw\")+COUNTIF(GAMEstage2!B23:AE23,\"sw\")+COUNTIF(GAMEstage2!B23:AE23,\"tw\")","v":0},100]
[{"$f":"COUNTIF(GAMEstage2!B24:AE24,\"sb\")+COUNTIF(GAMEstage2!B24:AE24,\"bt\")+COUNTIF(GAMEstage2!B24:AE24,\"btb\")+COUNTIF(GAMEstage2!B24:AE24,\"btw\")+COUNTIF(GAMEstage2!B24:AE24,\"sw\")+COUNTIF(GAMEstage2!B24:AE24,\"tw\")","v":0},100]
[{"$f":"COUNTIF(GAMEstage2!B25:AE25,\"sb\")+COUNTIF(GAMEstage2!B25:AE25,\"bt\")+COUNTIF(GAMEstage2!B25:AE25,\"btb\")+COUNTIF(GAMEstage2!B25:AE25,\"btw\")+COUNTIF(GAMEstage2!B25:AE25,\"sw\")+COUNTIF(GAMEstage2!B25:AE25,\"tw\")","v":0},100]
[{"$f":"COUNTIF(GAMEstage2!B26:AE26,\"sb\")+COUNTIF(GAMEstage2!B26:AE26,\"bt\")+COUNTIF(GAMEstage2!B26:AE26,\"btb\")+COUNTIF(GAMEstage2!B26:AE26,\"btw\")+COUNTIF(GAMEstage2!B26:AE26,\"sw\")+COUNTIF(GAMEstage2!B26:AE26,\"tw\")","v":0},100]
[{"$f":"COUNTIF(GAMEstage2!B27:AE27,\"sb\")+COUNTIF(GAMEstage2!B27:AE27,\"bt\")+COUNTIF(GAMEstage2!B27:AE27,\"btb\")+COUNTIF(GAMEstage2!B27:AE27,\"btw\")+COUNTIF(GAMEstage2!B27:AE27,\"sw\")+COUNTIF(GAMEstage2!B27:AE27,\"tw\")","v":0},100]
[{"$f":"COUNTIF(GAMEstage2!B28:AE28,\"sb\")+COUNTIF(GAMEstage2!B28:AE28,\"bt\")+COUNTIF(GAMEstage2!B28:AE28,\"btb\")+COUNTIF(GAMEstage2!B28:AE28,\"btw\")+COUNTIF(GAMEstage2!B28:AE28,\"sw\")+COUNTIF(GAMEstage2!B28:AE28,\"tw\")","v":0},100]
[{"$f":"COUNTIF(GAMEstage2!B29:AE29,\"sb\")+COUNTIF(GAMEstage2!B29:AE29,\"bt\")+COUNTIF(GAMEstage2!B29:AE29,\"btb\")+COUNTIF(GAMEstage2!B29:AE29,\"btw\")+COUNTIF(GAMEstage2!B29:AE29,\"sw\")+COUNTIF(GAMEstage2!B29:AE29,\"tw\")","v":0},100]
[{"$f":"COUNTIF(GAMEstage2!B30:AE30,\"sb\")+COUNTIF(GAMEstage2!B30:AE30,\"bt\")+COUNTIF(GAMEstage2!B30:AE30,\"btb\")+COUNTIF(GAMEstage2!B30:AE30,\"btw\")+COUNTIF(GAMEstage2!B30:AE30,\"sw\")+COUNTIF(GAMEstage2!B30:AE30,\"tw\")","v":0},100]
[{"$f":"COUNTIF(GAMEstage2!B31:AE31,\"sb\")+COUNTIF(GAMEstage2!B31:AE31,\"bt\")+COUNTIF(GAMEstage2!B31:AE31,\"btb\")+COUNTIF(GAMEstage2!B31:AE31,\"btw\")+COUNTIF(GAMEstage2!B31:AE31,\"sw\")+COUNTIF(GAMEstage2!B31:AE31,\"tw\")","v":0},100]

{"sheet":"Calculate wingSpam of the t 2","index":25,"n_rows":30,"n_cols":4,"rows_kept":30,"merged":[[13,2,13,4],[14,2,14,4]]}
[{"$f":"COUNTIF(GAMEstage1!B2:AE2,\"sb\")+COUNTIF(GAMEstage1!B2:AE2,\"bt\")+COUNTIF(GAMEstage1!B2:AE2,\"btb\")+COUNTIF(GAMEstage1!B2:AE2,\"btw\")+COUNTIF(GAMEstage1!B2:AE2,\"sw\")+COUNTIF(GAMEstage1!B2:AE2,\"tw\")","v":0}]
[{"$f":"COUNTIF(GAMEstage1!B3:AE3,\"sb\")+COUNTIF(GAMEstage1!B3:AE3,\"bt\")+COUNTIF(GAMEstage1!B3:AE3,\"btb\")+COUNTIF(GAMEstage1!B3:AE3,\"btw\")+COUNTIF(GAMEstage1!B3:AE3,\"sw\")+COUNTIF(GAMEstage1!B3:AE3,\"tw\")","v":0}]
[{"$f":"COUNTIF(GAMEstage1!B4:AE4,\"sb\")+COUNTIF(GAMEstage1!B4:AE4,\"bt\")+COUNTIF(GAMEstage1!B4:AE4,\"btb\")+COUNTIF(GAMEstage1!B4:AE4,\"btw\")+COUNTIF(GAMEstage1!B4:AE4,\"sw\")+COUNTIF(GAMEstage1!B4:AE4,\"tw\")","v":0}]
{"$rows_empty":10}
[null,null,"Wing Span of the tail"]
[null,null,{"$f":"((MAX(A16:A30)+2)-2)/2","v":0}]
[{"$f":"COUNTIF(GAMEstage2!B17:AE17,\"sb\")+COUNTIF(GAMEstage2!B17:AE17,\"bt\")+COUNTIF(GAMEstage2!B17:AE17,\"btb\")+COUNTIF(GAMEstage2!B17:AE17,\"btt\")+COUNTIF(GAMEstage2!B17:AE17,\"st\")+COUNTIF(GAMEstage2!B17:AE17,\"tt\")","v":0}]
[{"$f":"COUNTIF(GAMEstage2!B18:AE18,\"sb\")+COUNTIF(GAMEstage2!B18:AE18,\"bt\")+COUNTIF(GAMEstage2!B18:AE18,\"btb\")+COUNTIF(GAMEstage2!B18:AE18,\"btt\")+COUNTIF(GAMEstage2!B18:AE18,\"st\")+COUNTIF(GAMEstage2!B18:AE18,\"tt\")","v":0}]
[{"$f":"COUNTIF(GAMEstage2!B19:AE19,\"sb\")+COUNTIF(GAMEstage2!B19:AE19,\"bt\")+COUNTIF(GAMEstage2!B19:AE19,\"btb\")+COUNTIF(GAMEstage2!B19:AE19,\"btt\")+COUNTIF(GAMEstage2!B19:AE19,\"st\")+COUNTIF(GAMEstage2!B19:AE19,\"tt\")","v":0},null,null,{"$f":"$C$15","v":0}]
[{"$f":"COUNTIF(GAMEstage2!B20:AE20,\"sb\")+COUNTIF(GAMEstage2!B20:AE20,\"bt\")+COUNTIF(GAMEstage2!B20:AE20,\"btb\")+COUNTIF(GAMEstage2!B20:AE20,\"btt\")+COUNTIF(GAMEstage2!B20:AE20,\"st\")+COUNTIF(GAMEstage2!B20:AE20,\"tt\")","v":0}]
[{"$f":"COUNTIF(GAMEstage2!B21:AE21,\"sb\")+COUNTIF(GAMEstage2!B21:AE21,\"bt\")+COUNTIF(GAMEstage2!B21:AE21,\"btb\")+COUNTIF(GAMEstage2!B21:AE21,\"btt\")+COUNTIF(GAMEstage2!B21:AE21,\"st\")+COUNTIF(GAMEstage2!B21:AE21,\"tt\")","v":0}]
[{"$f":"COUNTIF(GAMEstage2!B22:AE22,\"sb\")+COUNTIF(GAMEstage2!B22:AE22,\"bt\")+COUNTIF(GAMEstage2!B22:AE22,\"btb\")+COUNTIF(GAMEstage2!B22:AE22,\"btt\")+COUNTIF(GAMEstage2!B22:AE22,\"st\")+COUNTIF(GAMEstage2!B22:AE22,\"tt\")","v":0}]
[{"$f":"COUNTIF(GAMEstage2!B23:AE23,\"sb\")+COUNTIF(GAMEstage2!B23:AE23,\"bt\")+COUNTIF(GAMEstage2!B23:AE23,\"btb\")+COUNTIF(GAMEstage2!B23:AE23,\"btt\")+COUNTIF(GAMEstage2!B23:AE23,\"st\")+COUNTIF(GAMEstage2!B23:AE23,\"tt\")","v":0}]
[{"$f":"COUNTIF(GAMEstage2!B24:AE24,\"sb\")+COUNTIF(GAMEstage2!B24:AE24,\"bt\")+COUNTIF(GAMEstage2!B24:AE24,\"btb\")+COUNTIF(GAMEstage2!B24:AE24,\"btt\")+COUNTIF(GAMEstage2!B24:AE24,\"st\")+COUNTIF(GAMEstage2!B24:AE24,\"tt\")","v":0}]
[{"$f":"COUNTIF(GAMEstage2!B25:AE25,\"sb\")+COUNTIF(GAMEstage2!B25:AE25,\"bt\")+COUNTIF(GAMEstage2!B25:AE25,\"btb\")+COUNTIF(GAMEstage2!B25:AE25,\"btt\")+COUNTIF(GAMEstage2!B25:AE25,\"st\")+COUNTIF(GAMEstage2!B25:AE25,\"tt\")","v":0}]
[{"$f":"COUNTIF(GAMEstage2!B26:AE26,\"sb\")+COUNTIF(GAMEstage2!B26:AE26,\"bt\")+COUNTIF(GAMEstage2!B26:AE26,\"btb\")+COUNTIF(GAMEstage2!B26:AE26,\"btt\")+COUNTIF(GAMEstage2!B26:AE26,\"st\")+COUNTIF(GAMEstage2!B26:AE26,\"tt\")","v":0}]
[{"$f":"COUNTIF(GAMEstage2!B27:AE27,\"sb\")+COUNTIF(GAMEstage2!B27:AE27,\"bt\")+COUNTIF(GAMEstage2!B27:AE27,\"btb\")+COUNTIF(GAMEstage2!B27:AE27,\"btt\")+COUNTIF(GAMEstage2!B27:AE27,\"st\")+COUNTIF(GAMEstage2!B27:AE27,\"tt\")","v":0}]
[{"$f":"COUNTIF(GAMEstage2!B28:AE28,\"sb\")+COUNTIF(GAMEstage2!B28:AE28,\"bt\")+COUNTIF(GAMEstage2!B28:AE28,\"btb\")+COUNTIF(GAMEstage2!B28:AE28,\"btt\")+COUNTIF(GAMEstage2!B28:AE28,\"st\")+COUNTIF(GAMEstage2!B28:AE28,\"tt\")","v":0}]
[{"$f":"COUNTIF(GAMEstage2!B29:AE29,\"sb\")+COUNTIF(GAMEstage2!B29:AE29,\"bt\")+COUNTIF(GAMEstage2!B29:AE29,\"btb\")+COUNTIF(GAMEstage2!B29:AE29,\"btt\")+COUNTIF(GAMEstage2!B29:AE29,\"st\")+COUNTIF(GAMEstage2!B29:AE29,\"tt\")","v":0}]
[{"$f":"COUNTIF(GAMEstage2!B30:AE30,\"sb\")+COUNTIF(GAMEstage2!B30:AE30,\"bt\")+COUNTIF(GAMEstage2!B30:AE30,\"btb\")+COUNTIF(GAMEstage2!B30:AE30,\"btt\")+COUNTIF(GAMEstage2!B30:AE30,\"st\")+COUNTIF(GAMEstage2!B30:AE30,\"tt\")","v":0}]
[{"$f":"COUNTIF(GAMEstage2!B31:AE31,\"sb\")+COUNTIF(GAMEstage2!B31:AE31,\"bt\")+COUNTIF(GAMEstage2!B31:AE31,\"btb\")+COUNTIF(GAMEstage2!B31:AE31,\"btt\")+COUNTIF(GAMEstage2!B31:AE31,\"st\")+COUNTIF(GAMEstage2!B31:AE31,\"tt\")","v":0}]

{"sheet":"Graphic of Power","index":26,"n_rows":102,"n_cols":6,"rows_kept":102,"merged":[[2,5,4,9]]}
["Ratio of power","Coeficient of lift",null,32]
[0,{"$f":"40/65*A2","v":0},null,{"$f":"MATCH(D1,A2:A102,0)","v":33}]
[1,{"$f":"40/65*A3","v":0.6153846153846154},{"$nulls":3},"We have supposed a lineal function between the power and the aceleration"]
[2,1.2307692307692308]
[3,1.8461538461538463]
[4,2.4615384615384617]
[5,3.076923076923077]
[6,3.6923076923076925]
[7,4.307692307692308]
[8,4.923076923076923]
[9,5.538461538461538]
[10,6.153846153846154]
[11,6.76923076923077]
[12,7.384615384615385]
[13,8]
[14,8.615384615384617]
[15,9.230769230769232]
[16,9.846153846153847]
[17,10.461538461538462]
[18,11.076923076923077]
[19,11.692307692307693]
[20,12.307692307692308]
[21,12.923076923076923]
[22,13.53846153846154]
[23,14.153846153846155]
[24,14.76923076923077]
[25,15.384615384615385]
[26,16]
[27,16.615384615384617]
[28,17.230769230769234]
[29,17.846153846153847]
[30,18.461538461538463]
[31,19.076923076923077]
[32,19.692307692307693]
[33,20.30769230769231]
[34,20.923076923076923]
[35,21.53846153846154]
[36,22.153846153846153]
[37,22.76923076923077]
[38,23.384615384615387]
[39,24]
[40,24.615384615384617]
[41,25.230769230769234]
[42,25.846153846153847]
[43,26.461538461538463]
[44,27.07692307692308]
[45,27.692307692307693]
[46,28.30769230769231]
[47,28.923076923076923]
[48,29.53846153846154]
[49,30.153846153846157]
[50,30.76923076923077]
[51,31.384615384615387]
[52,32]
[53,32.61538461538462]
[54,33.23076923076923]
[55,33.84615384615385]
[56,34.46153846153847]
[57,35.07692307692308]
[58,35.69230769230769]
[59,36.30769230769231]
[60,36.92307692307693]
[61,37.53846153846154]
[62,38.15384615384615]
[63,38.769230769230774]
[64,39.38461538461539]
[65,{"$f":"40/65*A67","v":40}]
[66,40.61538461538462]
[67,41.23076923076923]
[68,41.84615384615385]
[69,42.46153846153847]
[70,43.07692307692308]
[71,43.69230769230769]
[72,44.30769230769231]
[73,44.92307692307693]
[74,45.53846153846154]
[75,46.15384615384615]
[76,46.769230769230774]
[77,47.38461538461539]
[78,48]
[79,48.61538461538462]
[80,49.23076923076923]
[81,49.84615384615385]
[82,50.46153846153847]
[83,51.07692307692308]
[84,51.69230769230769]
[85,52.307692307692314]
[86,52.92307692307693]
[87,53.53846153846154]
[88,54.15384615384616]
[89,54.769230769230774]
[90,55.38461538461539]
[91,56]
[92,56.61538461538462]
[93,57.23076923076923]
[94,57.84615384615385]
[95,58.46153846153847]
[96,59.07692307692308]
[97,59.69230769230769]
[98,60.307692307692314]
[99,60.92307692307693]
[100,61.53846153846154]

{"sheet":"Geometry wing ","index":27,"n_rows":75,"n_cols":15,"rows_kept":75,"merged":[[0,0,0,6],[6,9,6,11],[6,14,6,15],[7,14,7,15],[11,9,11,11],[15,9,15,11],[17,12,17,13],[20,9,20,11],[27,9,27,11],[32,9,32,11],[36,9,36,11],[38,12,38,13],[42,9,42,11],[50,9,50,11],[55,9,55,11],[59,9,59,11],[60,12,60,13],[64,9,64,11]]}
["WING"]
[{"$nulls":9},"NpbL",{"$f":"'Customer needs'!B2","v":24}]
[]
[]
["Type 1:","Rectangle"]
[{"$nulls":9},"In function of the body:  the width is going to be 0,2*NpbL"]
[{"$nulls":9},"Number of blocks ",null,null,"Npw=NpwL*NpwW",{"$f":"ROUND(M9*M10,0)","v":65}]
[]
[{"$nulls":11},"NpwW",{"$f":"ROUND(0.2*$K$2,0)","v":5}]
["y  ",{"$nulls":6},"x=2,5*y",{"$nulls":3},"NpwL",{"$f":" ROUND( (2.5*M9),0)","v":13}]
[]
[{"$nulls":9},"nsw=number of squares in the wing="]
[{"$nulls":11},"aw",{"$f":"RANDBETWEEN(0,10)","v":9}]
[{"$nulls":11},"nsw",{"$f":"ROUNDDOWN(M13*N7/10,0)","v":58}]
[{"$nulls":11},"aw",{"$f":"(M14/N7)*10","v":8.923076923076923}]
[null,null,3,{"$nulls":6},"ntw=number of triangle in the wing="]
[{"$nulls":12},"bw",{"$f":"IF(M15>=10,0,RANDBETWEEN(0,10-M15))","v":1}]
[]
[{"$nulls":11},"ntw",{"$f":"EVEN(2*N17*N7/10)","v":14}]
[{"$nulls":11},"bw",{"$f":"(M19/(N7*2))*10","v":1.076923076923077}]
[{"$nulls":9},"nbtw= number of big triangle in the wing="]
[{"$nulls":11},"cw",{"$f":"10-M15-M20","v":0},null,{"$f":"M13+M20+M22","v":10.076923076923077}]
[{"$nulls":11},"nbtw",{"$f":"EVEN(M22*N7/10)","v":0},null,{"$f":"M14+M19/2+M23","v":65}]
[]
[]
["Type 2:","Triangle"]
[{"$nulls":9},"In function of the body:  the width is going to be 0,3*NpbL"]
[{"$nulls":9},"Number of blocks ",null,null,"Npw=NpwL*NpwW/2",{"$f":"M30*M31/2","v":49}]
[]
[{"$nulls":11},"NpwW",{"$f":"ROUND(0.3*$K$2,0)","v":7}]
[{"$nulls":11},"NpwL",{"$f":" ROUND( (2*M30),0)","v":14}]
[{"$nulls":7},"x=2y"]
[{"$nulls":9},"nbtw= number of big triangle in the wing="]
[{"$nulls":11},"aw",{"$f":"RANDBETWEEN(0,10)","v":3}]
[{"$nulls":11},"nbtw",{"$f":"EVEN(M30 +(M34/10)*(N28-M30))","v":20}]
[{"$nulls":11},"aw",{"$f":"M35/N28*10","v":4.081632653061225}]
[{"$nulls":9},"ntw=number of triangle in the wing="]
[{"$nulls":11},"bw",{"$f":"IF(M36>=10,0,RANDBETWEEN(0,10-M36))","v":0}]
[]
[{"$nulls":11},"ntw",{"$f":"EVEN(2*M38*N28/10)","v":0}]
[{"$nulls":11},"bw",{"$f":"M40/(N28*2)*10","v":0}]
[]
[{"$nulls":9},"nsw=number of squares in the wing="]
[{"$nulls":11},"cw",{"$f":"10-M36-M41","v":5.918367346938775},null,{"$f":"M36+M41+M44","v":10}]
[{"$nulls":11},"nsw",{"$f":"ROUNDDOWN(M44*N28/10,0)","v":29},null,{"$f":"M35+(M40/2)+M45","v":49}]
[]
[]
[]
["Type 3:","Triangle2"]
[{"$nulls":9},"In function of the body:  the width is going to be 0,3*NpbL"]
[{"$nulls":9},"Number of blocks ",null,null,"Npw",{"$f":"(M53-1)*M54/2+M54","v":48}]
[]
[{"$nulls":11},"NpwW",{"$f":" ROUND(0.3*K2,0)","v":7}]
[{"$nulls":11},"NpwL",{"$f":" 2*(M53-1)","v":12}]
[{"$nulls":7},"x=2(y-1)"]
[{"$nulls":9},"nbtw= number of big triangle in the wing="]
[{"$nulls":11},"aw"]
[{"$nulls":11},"nbtw",{"$f":"M53-1","v":6}]
[{"$nulls":11},"aw"]
[{"$nulls":9},"ntw=number of triangle in the wing="]
[{"$nulls":11},"bw"]
[{"$nulls":11},"ntw",{"$f":"1","v":1}]
[{"$nulls":11},"bw"]
[]
[{"$nulls":9},"nsw=number of squares in the wing="]
[{"$nulls":11},"cw",null,null,{"$f":"M57+M61+M66","v":0}]
[null,"t",{"$nulls":9},"nsw",{"$f":"((M53-1)*M54/2)-M58+M54-1","v":41},null,{"$f":"M58+M62/2+M67","v":47.5}]
[2,3]
[]
["Type",1,2,3]
[]
["nsw",{"$f":"$M$14","v":58},{"$f":"$M$45","v":29},{"$f":"$M$67","v":41}]
["ntw",{"$f":"$M$19","v":14},{"$f":"$M$40","v":0},{"$f":"$M$62","v":1}]
["nbtw",{"$f":"$M$23","v":0},{"$f":"$M$35","v":20},{"$f":"$M$58","v":6}]
["NpwL",{"$f":"$M$10","v":13},{"$f":"$M$31","v":14},{"$f":"$M$54","v":12}]

{"sheet":"Review information","index":28,"n_rows":150,"n_cols":17,"rows_kept":150,"merged":[[7,0,7,7],[8,0,8,2],[8,3,8,5],[8,6,8,8],[8,9,8,14],[8,16,12,17],[9,0,9,2],[9,3,9,5],[9,6,9,8],[9,9,9,14],[10,0,10,2],[10,3,10,5],[10,6,10,8],[10,9,10,14],[15,1,15,5],[15,7,15,8],[15,13,15,14],[16,2,16,5],[17,2,17,5],[17,13,17,14],[19,1,19,5],[20,2,20,5],[21,3,21,6],[22,3,22,6],[23,3,23,6],[24,3,24,6],[25,3,25,6],[26,13,26,14],[27,2,27,5],[27,14,27,15],[28,2,28,5],[29,2,29,5],[29,6,29,7],[29,13,29,14],[30,2,30,5],[30,7,30,8],[30,14,30,15],[31,3,31,6],[31,7,31,8],[32,3,32,5],[32,13,32,14],[33,3,34,5],[33,14,33,15],[35,1,35,5],[36,2,37,8],[38,4,38,5],[38,6,38,7],[39,2,39,3],[39,4,39,5],[39,6,39,7],[40,4,40,5],[40,6,40,7],[42,2,42,7],[46,1,46,5],[47,1,47,5],[48,2,48,5],[48,13,48,15],[49,2,49,5],[49,13,49,15],[50,2,50,5],[51,2,51,5],[52,1,52,5],[53,2,53,5],[54,3,54,6],[55,3,55,6],[55,13,55,15],[56,3,56,6],[57,3,57,6],[58,3,58,6],[59,2,59,5],[61,1,61,5],[62,2,62,7],[64,1,64,5],[65,2,65,7],[66,3,66,12],[66,13,66,15],[67,3,67,12],[68,3,69,8],[70,3,70,11],[71,2,71,5],[73,0,73,17],[75,1,75,5],[76,2,76,8],[78,3,78,4],[80,3,80,4],[82,3,82,4],[85,1,85,4],[86,7,86,8],[87,7,87,8],[89,1,89,2],[90,7,90,8],[91,7,91,8],[92,7,92,8],[94,1,94,2],[94,7,94,8],[96,1,96,2],[96,7,96,8],[97,7,97,8],[98,1,98,4],[99,2,99,4],[102,1,102,4],[103,7,103,8],[104,7,104,8],[106,1,106,2],[107,7,107,8],[108,7,108,8],[110,1,110,2],[110,7,110,8],[112,1,112,2],[112,7,112,8],[113,7,113,8],[114,1,114,4],[116,1,116,5],[119,1,119,3],[119,7,119,8],[120,7,120,8],[122,1,122,3],[122,7,122,8],[123,7,123,8],[125,0,125,4],[126,0,126,4],[128,0,128,3],[128,4,130,13],[131,4,131,6],[139,0,139,3],[142,1,143,10]]}
{"$rows_empty":7}
["CUSTOMER CONSTRAINS"]
["nsb=number of squares in the body",null,null,"nsc=number of squares in the cockpit",null,null,"nsw=number of squares in the wing",null,null,"nst=number of squares in the tail",{"$nulls":6},"To measure all these variable, the player will introduce the pieces in order: body, tail, wing, cockpit"]
["ntb=number of triangle in the body",null,null,"ntc=number of triangle in the cockpit",null,null,"ntw=number of triangle in the wing",null,null,"ntt=number of triangle in the tail"]
["nbtb= number of big triangle in the body",null,null,"nbtc= number of big triangle in the cockpit",null,null,"nbtw= number of big triangle in the wing",null,null,"nbtt= number of big triangle in the tail"]
["ne= number of engines"]
[]
[]
[]
[null,"Capacity (Number pass), just in the body",{"$nulls":5},"INTERNAL CONSTRAINS",{"$nulls":5},"CUSTOMER CONSTRAINS"]
[null,null,"NP= number total of pass = nbs*3 + ntb + nbtb"]
[null,null,"NPC= number of pass. required by the customer",{"$nulls":10},"NP>= NPC"]
[]
[null,"Fast/Slow"]
[null,null,"Weight= Wb +Wt+Ww+We +Wc"]
[{"$nulls":3},"Wb= weight body= nsb*11,5 + ntb * 6 +nbtb * 8"]
[{"$nulls":3},"Wt= weight tail= nst*10 + ntt* 5 +nbtt * 7"]
[{"$nulls":3},"Ww= weight wing= nsw*10 + ntw * 5 +nbtw * 7"]
[{"$nulls":3},"We= weight engine= ne*50"]
[{"$nulls":3},"Wc= weight cockpit= nsc*11,5 + ntc * 6 +nbtc * 8"]
[{"$nulls":13},"FAST --> "]
[null,null,"Total Power =ne*500",{"$nulls":11},"Ratio of Power>= 66%"]
[null,null,"Free Power= Total power- Weight"]
[null,null,"Ratio of Power= Free Power/ Weight",{"$nulls":3},"See graphic of power",{"$nulls":6},"MEDIUM-->"]
[null,null,"Lift =( Wing Surface + Tail Surface) * Coeficient of Lift",{"$nulls":4},"Lift/ Weight >1,5",null,"Condition of Fly",{"$nulls":4},"50%<Ratio of Power< 66%"]
[{"$nulls":3},"Wing Surface= 1*nsw +0,5* ntw + 1*nbtw=[number of block]",{"$nulls":3},"3<(Wing Surface/ Wing Tail)<6",null,"Condition of Stability"]
[{"$nulls":3},"Wing Tail=  1*nst +0,5* ntt + 1*nbtt",{"$nulls":9},"SLOW-->"]
[{"$nulls":3},"Coeficient of Lift = we can get front the grafic of power. Introducing the Ratio of Power.",{"$nulls":10},"Ratio of Power <= 50%"]
[]
[null,"Km of travel"]
[null,null,"We are goin to consider that the capacity of fuel per unit of surface(each block of the grid) depends of the number of engines"]
[{"$nulls":13},"INTERNATIONAL (Europe)-->"]
[{"$nulls":4},"2 ENGINES -->",null,"200 Km / block",{"$nulls":7},"Km of travel> 5000"]
[null,null,"Distance/ block",null,"4 ENGINES -->",null,"150 Km/ block"]
[{"$nulls":4},"6 ENGINES-->",null,"100 Km/ block",{"$nulls":6},"TRANSATLANTIC (America)"]
[{"$nulls":14},"Km of travel> 10000"]
[null,null,"Km of travel = Wing Surface * Distance/ block"]
[{"$nulls":13},"VERY HIGH AUTONOMY (Australia)"]
[{"$nulls":14},"Km of travel> 15000"]
[]
[null,"Parking requirements"]
[null,"We have calculate before L and W ( in the manufacturing information)"]
[null,null,"LC= lenght required by the customer",{"$nulls":10},"L<  min( LC, Lm)"]
[null,null,"WsC= Wingspan required by the customer",{"$nulls":10},"Ws<  min( WsC, Wsm)"]
[null,null,"Lm= lenght maximun of manufacturing"]
[null,null,"Wsm= Wingspan of manufacturing"]
[null,"Cost"]
[null,null,"Cost= Cb+ Cw+ Ct+ Cc +Ce"]
[{"$nulls":3},"Cb= Cost of the body= nsb*130 + ntb* 70 + nbtb*170"]
[{"$nulls":3},"Cw= Cost of the wing= nsw*100 + ntw* 60 + nbtw*160",{"$nulls":9},"CC<= Cost"]
[{"$nulls":3},"Ct= Cost of the tail= nst*100 + ntt* 60 + nbtt*160"]
[{"$nulls":3},"Cc= Cost of the cockpit= nsc*100 + ntc* 60 + nbtc*160"]
[{"$nulls":3},"Ce= Cost of the engines= ne*500"]
[null,null,"CC=Cost required by customer"]
[]
[null,"High/ Medium/ Low efficiency"]
[null,null,"We need more time to decide if put or not this, because maybe is to much difficult."]
[]
[null,"Delivery time"]
[null,null,"Dt= Total time of supplier + Total time of assembly + Time of design+ Time between departmentes"]
[{"$nulls":3},"Total time of supplier= (nsb+nsc)*tss2 + (nst+nsw)*tss1 +(ntb+ntc)*tst2 + (ntt+ntw)*tst1 + (nbtb+nbtc)*tbts2 + (nbtt+nbtw)*tbts1 + ne* tse",{"$nulls":9},"Dt<= DCt"]
[{"$nulls":3},"Total time of assembly= (nsb+nsc)*tsa2 + (nst+nsw)*tsa1 +(ntb+ntc)*tat2 + (ntt+ntw)*tat1 + (nbtb+nbtc)*tbta2 + (nbtt+nbtw)*tbta1 + ne* tae"]
[{"$nulls":3},"Time of design= we need to put a clock to measure this time. We need to scale this time to have relevance with respect to the others, when we study the duration of the design player."]
[]
[{"$nulls":3},"Time betwen departments=300 sec*4"]
[null,null,"DCt= Delivery Customer Time"]
[]
["DESING CONSTRAINS"]
["Engines"]
[null,"Engines--> to put an engine must be at least 3 block ahead to assembly it."]
[null,null,"We suppose when we put a piece in a point, in the position matrix apears a 1"]
[null,null,"(xe, ye)= point where we want put the engine"]
[{"$nulls":3},"Has (xe, ye+3) piece?--> ",null,"yes-- ok"]
[{"$nulls":5},"no-- imposiblle"]
[{"$nulls":3},"Has (xe, ye+2) piece?--> ",null,"yes-- ok"]
[{"$nulls":5},"no-- imposiblle"]
[{"$nulls":3},"Has (xe, ye+1) piece?--> ",null,"yes-- ok"]
[{"$nulls":5},"no-- imposiblle"]
["Wings"]
[null,"Angle of the wing --> the wing can´t be reverse"]
[{"$nulls":7},"y1w >= y2w"]
[{"$nulls":7},"See airplane geometry"]
[]
[null,"Position of the wing "]
[{"$nulls":7},"y1b>=y1w"]
[{"$nulls":7},"y1b>=60% L"]
[{"$nulls":7},"See airplane geometry"]
[]
[null,"Width of the wing",{"$nulls":5},"(y1w - y4w)>= 20% L"]
[]
[null,"Ratio of the wing",{"$nulls":5},"0,3<=(y1w-y4w)/(x2w-x4w)<=1"]
[{"$nulls":7},"See airplane geometry"]
[null,"P2w and P3w are free, and can be the same point."]
[]
[]
["Tails"]
[null,"Angle of the tail --> the tail can´t be reverse"]
[{"$nulls":7},"y1t >= y2t"]
[{"$nulls":7},"See airplane geometry"]
[]
[null,"Position of the tail"]
[{"$nulls":7}," (y4w-y1t) >=20%L"]
[{"$nulls":7},"See airplane geometry"]
[]
[null,"Width of the wing",{"$nulls":5},"abs(y4t - y1t)<= 60% (y1w-y4w)"]
[]
[null,"Ratio of the tail",{"$nulls":5},"0,3<=(y4t-y1t)/(x2t-x4t)<=1"]
[{"$nulls":7},"See airplane geometry"]
[null,"P2t and P3t are free, and can be the same point."]
[]
[null,"The relation between the  tail and the wing is given before."]
[]
["Cockpit"]
[null,"The geometry of the triangle must be:",{"$nulls":5},"(2*x2c)/y1c<=1"]
[{"$nulls":7},"See airplane geometry"]
["Body"]
[null,"The geometry of the body must be:",{"$nulls":5},"(yb1-yb2)/(2*abs(xb1))>=3"]
[{"$nulls":7},"See airplane geometry"]
[]
["MANUFACTURING CONSTRAINS"]
["The constrain of the airplane dimesion have already been defined."]
[]
["The assembly time have already been defined.",{"$nulls":3},"We have put that the squares and little triangles are the most difficult to assembly because of they are of worse quality and the friction is going to be higher, so they need to be better fix. "]
[]
[]
[{"$nulls":4},"See the characteristics of the pieces"]
[]
[]
[]
[]
[]
["SUPPLIER CONSTRAINS"]
[]
["The supplier time have already been defined."]
[]
["STOCK "]
[null,"Each piece is going to have an fix stock in the begining. If the player need more (that will be usual), he´ll need to order the new pieces. It will increase the cost and time. With the lean tools the player will change the initial production of the suplier."]
[]
[]
[null,null,"Sis= Initial stock square= 10"]
[null,null,"Sit= Inital stock triangle= 10"]
[]
[null,null,"Sibt=Initial stock big triangle=2"]
[null,null,"Sie=Initial stock engines=2"]

{"sheet":"Employee Saturation","index":29,"n_rows":23,"n_cols":6,"rows_kept":23,"merged":[[1,0,1,1]]}
[]
["Employee Saturation"]
[]
["We are supossing: "]
[]
[null,"If the project is feasible the emploee is forced to start with it."]
[null,"When the project is unfeasible (big dimesion of the airplane….) it can be reject."]
[null,"The saturation level goes since 50% till 90% (If is not in this range, the company will be ruined, and the game is over)"]
[null,"The highest performance is reached in 70%"]
[null,"If the number of working project is higher that 5 the game is over, because of oversaturation"]
[]
[]
[{"$nulls":5},"0 project--> 30%--> GAME OVER"]
[]
[{"$nulls":5},"1 project --> 50%"]
[]
[{"$nulls":5},"2 project--> 70%"]
[null,null,"Employee Saturation"]
[{"$nulls":5},"3 project--> 80%"]
[]
[{"$nulls":5},"4 project--> 90%"]
[]
[{"$nulls":5},"5 project--> GAME OVER"]

{"sheet":"Design information","index":30,"n_rows":35,"n_cols":14,"rows_kept":35,"merged":[[34,10,37,13]]}
{"$rows_empty":12}
[{"$nulls":4},"lbt=2"]
[]
[null,"ls=1",null,"lt=1"]
[]
[]
[{"$nulls":9},"The pieces with capacity for passenger can be put just in the body."]
{"$rows_empty":9}
[{"$nulls":10},"Assemby matrix"]
[{"$nulls":10},"square","triangle","big triangle","engine"]
[{"$nulls":10},4,10,7,24]
[{"$nulls":10},10,6,9,26]
[{"$nulls":10},7,9,3,23]
[{"$nulls":10},24,26,23,20]
[]
[{"$nulls":10},"This is the assemby matrix, but is very difficult to measure the pieces possition and its neigbour, so we are thinking not to do it yet"]

{"sheet":"Manufacturing información","index":31,"n_rows":16,"n_cols":6,"rows_kept":16,"merged":[[8,5,8,6],[10,1,10,3],[15,1,15,3]]}
[]
[]
[]
[]
[]
[]
["Considering the plane as a matrix 50*35 and  that we are going to put the axes of the airlplane."]
[]
["To calculate the length, we are going to use the vertical axe",{"$nulls":4}," see airplane geometry"]
[]
[null,"L= y1c-y2b"]
[]
[]
["To calculate the wingspan, we are going to use the horizontal axe"]
[]
[null,"Ws= 2*max[abs(x2w),abs(x3w)]"]

{"sheet":"Airplane geometry","index":32,"n_rows":30,"n_cols":13,"rows_kept":30,"merged":[[15,10,15,11]]}
[]
[]
[{"$nulls":6},"P1c"]
[]
[]
[{"$nulls":5},"P2c=P1b"]
[]
[]
[]
[]
[{"$nulls":5},"P1w"]
[]
[]
[]
[]
[{"$nulls":10},"Ww= width wing",null,"Lb=lenght body "]
[null,null,"P2w"]
[]
[]
[{"$nulls":3},"P3w",null,"P4w"]
[]
[]
[]
[]
[]
[{"$nulls":5},"P1t"]
[{"$nulls":4},"P2t"]
[]
[{"$nulls":5},"P3t        P4t"]
[{"$nulls":6},"P2b"]